BEGIN:VCALENDAR
VERSION:2.0
PRODID:-//Wien für Senior:innen - ECPv6.15.17.1//NONSGML v1.0//EN
CALSCALE:GREGORIAN
METHOD:PUBLISH
X-ORIGINAL-URL:https://kalender.seniorinnen.wien
X-WR-CALDESC:Veranstaltungen für Wien für Senior:innen
REFRESH-INTERVAL;VALUE=DURATION:PT1H
X-Robots-Tag:noindex
X-PUBLISHED-TTL:PT1H
BEGIN:VTIMEZONE
TZID:Europe/Berlin
BEGIN:DAYLIGHT
TZOFFSETFROM:+0100
TZOFFSETTO:+0200
TZNAME:CEST
DTSTART:20220327T010000
END:DAYLIGHT
BEGIN:STANDARD
TZOFFSETFROM:+0200
TZOFFSETTO:+0100
TZNAME:CET
DTSTART:20221030T010000
END:STANDARD
BEGIN:DAYLIGHT
TZOFFSETFROM:+0100
TZOFFSETTO:+0200
TZNAME:CEST
DTSTART:20230326T010000
END:DAYLIGHT
BEGIN:STANDARD
TZOFFSETFROM:+0200
TZOFFSETTO:+0100
TZNAME:CET
DTSTART:20231029T010000
END:STANDARD
BEGIN:DAYLIGHT
TZOFFSETFROM:+0100
TZOFFSETTO:+0200
TZNAME:CEST
DTSTART:20240331T010000
END:DAYLIGHT
BEGIN:STANDARD
TZOFFSETFROM:+0200
TZOFFSETTO:+0100
TZNAME:CET
DTSTART:20241027T010000
END:STANDARD
END:VTIMEZONE
BEGIN:VEVENT
DTSTART;TZID=Europe/Berlin:20231006T120000
DTEND;TZID=Europe/Berlin:20231006T150000
DTSTAMP:20260420T114900
CREATED:20230810T083328Z
LAST-MODIFIED:20230811T121049Z
UID:3613-1696593600-1696604400@kalender.seniorinnen.wien
SUMMARY:Monat der Senior:innen: Entdecken Sie Ihr Musik-Talent
DESCRIPTION:Schnuppern Sie rein: Gruppenworkshops zu Gesang\, Keyboard\, Saxofon und Gitarre. Highlight: unter allen teilnehmenden Senior:innen wird ein Keyboard PSR-S373 inkl. einem gratis Monat Unterricht verlost. Für einen Gewinn-Anspruch müssen die Teilnehmer:innen bei der Ziehung um 14:40 Uhr vor Ort sein. \nDie Teilnehmer:innenzahl ist auf 40 Personen beschränkt. \nBitte Melden Sie sich bis b 1.9. bis 5.10.2023 an unter  01/60 26 411 oder yms.wien@yamaha.de. \nSollten Sie nicht an der Veranstaltung teilnehmen können\, sagen Sie bitte ab. So haben Interessierte die Möglichkeit\, Ihren Platz einzunehmen. \nAuf vielen Veranstaltungen wird fotografiert und/oder gefilmt. Mit der Teilnahme an einer Veranstaltung stimmen Sie einer möglichen Veröffentlichung auf Websites\, Social Media-Kanälen\, Print- und Onlinemedien und dergleichen zu. \n(c) Yamaha Music School Wien
URL:https://kalender.seniorinnen.wien/event/entdecken-sie-ihr-musik-talent/
LOCATION:Yamaha Music School Wien\, Schleiergasse 20\, Wien\, 1100
CATEGORIES:Monat der Senior:innen
ATTACH;FMTTYPE=image/jpeg:https://kalender.seniorinnen.wien/wp-content/uploads/2019/08/MdS-2019-Yamaha-Music-School-Senior-Guitar-Lady.jpg
END:VEVENT
END:VCALENDAR