BEGIN:VCALENDAR
VERSION:2.0
PRODID:-//Wien für Senior:innen - ECPv6.15.17.1//NONSGML v1.0//EN
CALSCALE:GREGORIAN
METHOD:PUBLISH
X-ORIGINAL-URL:https://kalender.seniorinnen.wien
X-WR-CALDESC:Veranstaltungen für Wien für Senior:innen
REFRESH-INTERVAL;VALUE=DURATION:PT1H
X-Robots-Tag:noindex
X-PUBLISHED-TTL:PT1H
BEGIN:VTIMEZONE
TZID:Europe/Berlin
BEGIN:DAYLIGHT
TZOFFSETFROM:+0100
TZOFFSETTO:+0200
TZNAME:CEST
DTSTART:20210328T010000
END:DAYLIGHT
BEGIN:STANDARD
TZOFFSETFROM:+0200
TZOFFSETTO:+0100
TZNAME:CET
DTSTART:20211031T010000
END:STANDARD
BEGIN:DAYLIGHT
TZOFFSETFROM:+0100
TZOFFSETTO:+0200
TZNAME:CEST
DTSTART:20220327T010000
END:DAYLIGHT
BEGIN:STANDARD
TZOFFSETFROM:+0200
TZOFFSETTO:+0100
TZNAME:CET
DTSTART:20221030T010000
END:STANDARD
BEGIN:DAYLIGHT
TZOFFSETFROM:+0100
TZOFFSETTO:+0200
TZNAME:CEST
DTSTART:20230326T010000
END:DAYLIGHT
BEGIN:STANDARD
TZOFFSETFROM:+0200
TZOFFSETTO:+0100
TZNAME:CET
DTSTART:20231029T010000
END:STANDARD
BEGIN:DAYLIGHT
TZOFFSETFROM:+0100
TZOFFSETTO:+0200
TZNAME:CEST
DTSTART:20240331T010000
END:DAYLIGHT
BEGIN:STANDARD
TZOFFSETFROM:+0200
TZOFFSETTO:+0100
TZNAME:CET
DTSTART:20241027T010000
END:STANDARD
BEGIN:DAYLIGHT
TZOFFSETFROM:+0100
TZOFFSETTO:+0200
TZNAME:CEST
DTSTART:20250330T010000
END:DAYLIGHT
BEGIN:STANDARD
TZOFFSETFROM:+0200
TZOFFSETTO:+0100
TZNAME:CET
DTSTART:20251026T010000
END:STANDARD
END:VTIMEZONE
BEGIN:VEVENT
DTSTART;TZID=Europe/Berlin:20241024T150000
DTEND;TZID=Europe/Berlin:20241024T170000
DTSTAMP:20260421T015715
CREATED:20240822T101336Z
LAST-MODIFIED:20240911T130710Z
UID:6057-1729782000-1729789200@kalender.seniorinnen.wien
SUMMARY:Wiener Wohnen lädt zur „Offenen Sprechstunde“
DESCRIPTION:Wir stehen Ihnen für Ihre Fragen und Anliegen zum Leben im Gemeindebau zur Seite – auch Anregungen sind willkommen. \nBei den „Offenen Sprechstunden“ haben Sie die Gelegenheit\, mit Mitarbeiter:innen von Wiener Wohnen\, Wohnpartner\, der Sozialarbeit und Grätzelpolizei ins Gespräch zu kommen. \n  \n14.10.2024\, 15 bis 17 Uhr\n1100 Wien\, Pensionist*innenklub Fliederhof 6 / 1 \n  \n24.10.2024\, 15 bis 17 Uhr\n1020 Wien\, Pensionist*innenklub Wehlistraße 164 \n  \nKeine Anmeldung erforderlich. \nE-Mail:  zielgruppen@wrw.wien.gv.at
URL:https://kalender.seniorinnen.wien/event/wiener-wohnen-laedt-zur-offenen-sprechstunde/
LOCATION:Pensionist*innenklub Wehlistraße\, Wehlistraße 164\, Wien\, 1020
CATEGORIES:Information,Monat der Senior:innen
ATTACH;FMTTYPE=image/jpeg:https://kalender.seniorinnen.wien/wp-content/uploads/2024/08/Gruppe_Seniorinnen-e1724220143798.jpg
END:VEVENT
BEGIN:VEVENT
DTSTART;TZID=Europe/Berlin:20241014T150000
DTEND;TZID=Europe/Berlin:20241014T170000
DTSTAMP:20260421T015715
CREATED:20240822T101353Z
LAST-MODIFIED:20240822T101353Z
UID:6052-1728918000-1728925200@kalender.seniorinnen.wien
SUMMARY:Wiener Wohnen lädt zur „Offenen Sprechstunde“
DESCRIPTION:Wir stehen Ihnen für Ihre Fragen und Anliegen zum Leben im Gemeindebau zur Seite – auch Anregungen sind willkommen. \nBei den „Offenen Sprechstunden“ haben Sie die Gelegenheit\, mit Mitarbeiter:innen von Wiener Wohnen\, Wohnpartner\, der Sozialarbeit und Grätzelpolizei ins Gespräch zu kommen. \n  \n14.10.2024\, 15 bis 17 Uhr\n1100 Wien\, Pensionist*innenklub Fliederhof 6 / 1 \n  \n24.10.2024\, 15 bis 17 Uhr\n1020 Wien\, Pensionist*innenklub Wehlistraße 164 \n  \nKeine Anmeldung erforderlich. \nE-Mail:  zielgruppen@wrw.wien.gv.at
URL:https://kalender.seniorinnen.wien/event/wiener-wohnen-laedt-zur-offenen-sprechstunde-2/
LOCATION:Pensionist*innenklub Fliederhof\, Fliederhof 6/1\, Wien\, Wien\, 1100\, Österreich
CATEGORIES:Information,Monat der Senior:innen
ATTACH;FMTTYPE=image/jpeg:https://kalender.seniorinnen.wien/wp-content/uploads/2024/08/Gruppe_Seniorinnen-e1724220143798.jpg
END:VEVENT
BEGIN:VEVENT
DTSTART;TZID=Europe/Berlin:20231023T150000
DTEND;TZID=Europe/Berlin:20231023T163000
DTSTAMP:20260421T015715
CREATED:20230810T075812Z
LAST-MODIFIED:20230811T124931Z
UID:3594-1698073200-1698078600@kalender.seniorinnen.wien
SUMMARY:Monat der Senior:innen: Sicher und kompetent durch die digitale Welt
DESCRIPTION:Erfahren Sie\, wie Sie ein sicheres Passwort erstellen und sich vor Betrug im Internet wie Abo-Fallen\, Fake-Shops und Liebesbetrug schützen können! Vertiefen Sie in dem interaktiven Vortrag Ihre Kenntnisse\, stellen Sie Fragen und lernen Sie\, wie Sie sicher und effektiv in der digitalen Welt navigieren können. \nIn Kooperation mit der Servicestelle digitale Senior:innen. \nDie Teilnehmer:innenzahl ist auf 50 Personen beschränkt. Keine Anmeldung erforderlich. \nAuf vielen Veranstaltungen wird fotografiert und/oder gefilmt. Mit der Teilnahme an einer Veranstaltung stimmen Sie einer möglichen Veröffentlichung auf Websites\, Social Media-Kanälen\, Print- und Onlinemedien und dergleichen zu.
URL:https://kalender.seniorinnen.wien/event/sicher-und-kompetent-durch-die-digitale-welt/
LOCATION:Pensionist*innenklub Greiseneckergasse 5\, Greiseneckergasse 5\, Wien\, 1200
CATEGORIES:Monat der Senior:innen
ATTACH;FMTTYPE=image/jpeg:https://kalender.seniorinnen.wien/wp-content/uploads/2023/08/Sicher_im_Internet_4_JPG.jpg
END:VEVENT
BEGIN:VEVENT
DTSTART;TZID=Europe/Berlin:20221102T173000
DTEND;TZID=Europe/Berlin:20221102T190000
DTSTAMP:20260421T015715
CREATED:20221027T104059Z
LAST-MODIFIED:20221027T104059Z
UID:3185-1667410200-1667415600@kalender.seniorinnen.wien
SUMMARY:Projekt-Präsentation: AALbin - Aktiv im Alter mit Digitalisierung
DESCRIPTION:Senior:innen Lust auf Digitalisierung machen – das hat das Projekt AALbin im IBA-Quartier Per-Albin-Hansson-Siedlung zum Ziel. Die Stadt Wien – Wiener Wohnen ermutigt ihre älteren Mieter:innen\, sich aktiv mit neuen Technologien und deren Möglichkeiten auseinander zu setzen und neue digitale Begegnungsräume kennenzulernen. Im Vortrag werden Herausforderungen und Potentiale in der Anwendung digitaler Technologie bei Senior:innen beleuchtet. Freuen Sie sich auf den Austausch mit den Gästen: \n\nTanja Werneck (Wiener Wohnen Kundenservice\, Projektleitung AALbin)\nJulia Sauskojus (UIV – Urban Innovation Vienna GmbH\, operative Umsetzung vom Projekt AALbin)\nAALbin-Teilnehmer:innen\nSabine Hofer-Gruber (Senior:innenbeauftragte der Stadt Wien)\nModeration: Julia Girardi-Hoog (Wiener Wohnen\, Leitung des Fachbereiches Soziale Services)\n\nBitte melden Sie sich mittels Online-Anmeldung für die Veranstaltung an. \n  \n(c) Stadt Wien- Wiener Wohnen/fotografiefetz
URL:https://kalender.seniorinnen.wien/event/projekt-praesentation-aalbin-aktiv-im-alter-mit-digitalisierung/
LOCATION:IBA-Zentrum\, Nordwestbahnstraße 16\, Wien\, 1220
CATEGORIES:Bildung,Digital und Online
ATTACH;FMTTYPE=image/jpeg:https://kalender.seniorinnen.wien/wp-content/uploads/2022/10/csm_221102_AAlbin_2__c__Stadt_Wien_Wiener_Wohnen_fotografiefetz_c74b311219.jpg
END:VEVENT
BEGIN:VEVENT
DTSTART;TZID=Europe/Berlin:20221012T130000
DTEND;TZID=Europe/Berlin:20221012T160000
DTSTAMP:20260421T015715
CREATED:20220901T103701Z
LAST-MODIFIED:20220901T103701Z
UID:3086-1665579600-1665590400@kalender.seniorinnen.wien
SUMMARY:Monat der Senior:innen: Soziale Innovationen in der Per-Albin-Hansson-Siedlung Ost
DESCRIPTION:Im Rahmen der Internationalen Bauausstellung „IBA_Wien 2022“ setzt Wiener Wohnen soziale Innovationen für alle Generationen um. Bei vier Fahrten mit dem Bummelzug zu jeder vollen Stunde durch die Großsiedlung aus den 70er Jahren\, stellt Ihnen das Team von Wiener Wohnen Maßnahmen vor\, die für die Bedürfnisse von Senior:innen entwickelt wurden. \nEs ist keine Anmeldung erforderlich. \nBitte beachten Sie: Aufgrund COVID-19 sind kurzfristige Änderungen oder auch Absagen möglich. Das Team der Senior:innenbeauftragten und die Veranstalter:innen bitten um Verständnis. \n(c) Stadt Wien – Wiener Wohnen
URL:https://kalender.seniorinnen.wien/event/monat-der-seniorinnen-soziale-innovationen-in-der-per-albin-hansson-siedlung-ost/
LOCATION:Volkshochschule Per-Albin-Hansson-Siedlung Ost\, Ada-Christen-Gasse 2B\, Wien\, 1100
CATEGORIES:Monat der Senior:innen
END:VEVENT
END:VCALENDAR