BEGIN:VCALENDAR
VERSION:2.0
PRODID:-//Wien für Senior:innen - ECPv6.15.17.1//NONSGML v1.0//EN
CALSCALE:GREGORIAN
METHOD:PUBLISH
X-WR-CALNAME:Wien für Senior:innen
X-ORIGINAL-URL:https://kalender.seniorinnen.wien
X-WR-CALDESC:Veranstaltungen für Wien für Senior:innen
REFRESH-INTERVAL;VALUE=DURATION:PT1H
X-Robots-Tag:noindex
X-PUBLISHED-TTL:PT1H
BEGIN:VTIMEZONE
TZID:Europe/Vienna
BEGIN:DAYLIGHT
TZOFFSETFROM:+0100
TZOFFSETTO:+0200
TZNAME:CEST
DTSTART:20220327T010000
END:DAYLIGHT
BEGIN:STANDARD
TZOFFSETFROM:+0200
TZOFFSETTO:+0100
TZNAME:CET
DTSTART:20221030T010000
END:STANDARD
BEGIN:DAYLIGHT
TZOFFSETFROM:+0100
TZOFFSETTO:+0200
TZNAME:CEST
DTSTART:20230326T010000
END:DAYLIGHT
BEGIN:STANDARD
TZOFFSETFROM:+0200
TZOFFSETTO:+0100
TZNAME:CET
DTSTART:20231029T010000
END:STANDARD
BEGIN:DAYLIGHT
TZOFFSETFROM:+0100
TZOFFSETTO:+0200
TZNAME:CEST
DTSTART:20240331T010000
END:DAYLIGHT
BEGIN:STANDARD
TZOFFSETFROM:+0200
TZOFFSETTO:+0100
TZNAME:CET
DTSTART:20241027T010000
END:STANDARD
END:VTIMEZONE
BEGIN:VEVENT
DTSTART;TZID=Europe/Vienna:20230914T090000
DTEND;TZID=Europe/Vienna:20230914T130000
DTSTAMP:20260423T152540
CREATED:20230904T063613Z
LAST-MODIFIED:20230904T063613Z
UID:4075-1694682000-1694696400@kalender.seniorinnen.wien
SUMMARY:Das Wiener Programm für Frauengesundheit lädt ins Wiener Rathaus zur Konferenz
DESCRIPTION:Inflation und Teuerung treiben die Lebenskosten in die Höhe und speisen die Existenzängste all jener\, die schon bisher sehr sparsam haushalten müssen: Alleinerzieherinnen\, Mindestpensionistinnen\, Frauen mit Fluchtgeschichte\, Frauen in Teilzeit- und Niedriglohnbranchen. \nDie Lebenssituation\, Gesundheitsrisiken und Herausforderungen von armutsgefährdeten Frauen stehen im Mittelpunkt unserer Konferenz. Expert:innen aus dem Sozial- und Gesundheitsbereich widmen sich in unterschiedlichen Formaten den Ausprägungen und Folgen von Frauenarmut wie \n\nWorking Poor\nArmut im Alter\nArmutsgefährdete Alleinerzieherinnen und Familien\nBehinderung als Armutsrisiko\nFrauen ohne Versicherung\nWohnungslose Frauen\n\nBitte melden Sie sich bis 7. 9. an unter Anmeldung.\nAlle Informationen: Programm. \n©Stadt Wien
URL:https://kalender.seniorinnen.wien/event/das-wiener-programm-fuer-frauengesundheit-laedt-ins-wiener-rathaus-zur-konferenz/
CATEGORIES:Frauen,Information
END:VEVENT
END:VCALENDAR