BEGIN:VCALENDAR
VERSION:2.0
PRODID:-//Wien für Senior:innen - ECPv6.15.17.1//NONSGML v1.0//EN
CALSCALE:GREGORIAN
METHOD:PUBLISH
X-ORIGINAL-URL:https://kalender.seniorinnen.wien
X-WR-CALDESC:Veranstaltungen für Wien für Senior:innen
REFRESH-INTERVAL;VALUE=DURATION:PT1H
X-Robots-Tag:noindex
X-PUBLISHED-TTL:PT1H
BEGIN:VTIMEZONE
TZID:Europe/Berlin
BEGIN:DAYLIGHT
TZOFFSETFROM:+0100
TZOFFSETTO:+0200
TZNAME:CEST
DTSTART:20240331T010000
END:DAYLIGHT
BEGIN:STANDARD
TZOFFSETFROM:+0200
TZOFFSETTO:+0100
TZNAME:CET
DTSTART:20241027T010000
END:STANDARD
BEGIN:DAYLIGHT
TZOFFSETFROM:+0100
TZOFFSETTO:+0200
TZNAME:CEST
DTSTART:20250330T010000
END:DAYLIGHT
BEGIN:STANDARD
TZOFFSETFROM:+0200
TZOFFSETTO:+0100
TZNAME:CET
DTSTART:20251026T010000
END:STANDARD
BEGIN:DAYLIGHT
TZOFFSETFROM:+0100
TZOFFSETTO:+0200
TZNAME:CEST
DTSTART:20260329T010000
END:DAYLIGHT
BEGIN:STANDARD
TZOFFSETFROM:+0200
TZOFFSETTO:+0100
TZNAME:CET
DTSTART:20261025T010000
END:STANDARD
END:VTIMEZONE
BEGIN:VEVENT
DTSTART;TZID=Europe/Berlin:20251206T193000
DTEND;TZID=Europe/Berlin:20251206T193000
DTSTAMP:20260420T211140
CREATED:20251205T115843Z
LAST-MODIFIED:20251205T115843Z
UID:11330-1765049400-1765049400@kalender.seniorinnen.wien
SUMMARY:Weihnachtskonzert: Wiener  Ohrwurm Oldies
DESCRIPTION:Wiener Ohrwurm Oldies\nWeihnachtskonzert im Schutzhaus Meidling\nSamstag\, 6. Dezember\,  19.30 Uhr \nEintritt: freie Spende\nInfos: 01 813 51 08 \nFoto: www.wienerohrwurmoldies.at
URL:https://kalender.seniorinnen.wien/event/weihnachtskonzert-wiener-ohrwurm-oldies/
LOCATION:Schutzhaus Meidling\, Schutzhausweg 136\, Wien\, Wien\, 1120\, Austria
ATTACH;FMTTYPE=image/jpeg:https://kalender.seniorinnen.wien/wp-content/uploads/2025/12/WOOs-WEIHNACHTSKONZERT.jpg
END:VEVENT
END:VCALENDAR