BEGIN:VCALENDAR
VERSION:2.0
PRODID:-//Wien für Senior:innen - ECPv6.15.17.1//NONSGML v1.0//EN
CALSCALE:GREGORIAN
METHOD:PUBLISH
X-WR-CALNAME:Wien für Senior:innen
X-ORIGINAL-URL:https://kalender.seniorinnen.wien
X-WR-CALDESC:Veranstaltungen für Wien für Senior:innen
REFRESH-INTERVAL;VALUE=DURATION:PT1H
X-Robots-Tag:noindex
X-PUBLISHED-TTL:PT1H
BEGIN:VTIMEZONE
TZID:Europe/Berlin
BEGIN:DAYLIGHT
TZOFFSETFROM:+0100
TZOFFSETTO:+0200
TZNAME:CEST
DTSTART:20210328T010000
END:DAYLIGHT
BEGIN:STANDARD
TZOFFSETFROM:+0200
TZOFFSETTO:+0100
TZNAME:CET
DTSTART:20211031T010000
END:STANDARD
BEGIN:DAYLIGHT
TZOFFSETFROM:+0100
TZOFFSETTO:+0200
TZNAME:CEST
DTSTART:20220327T010000
END:DAYLIGHT
BEGIN:STANDARD
TZOFFSETFROM:+0200
TZOFFSETTO:+0100
TZNAME:CET
DTSTART:20221030T010000
END:STANDARD
BEGIN:DAYLIGHT
TZOFFSETFROM:+0100
TZOFFSETTO:+0200
TZNAME:CEST
DTSTART:20230326T010000
END:DAYLIGHT
BEGIN:STANDARD
TZOFFSETFROM:+0200
TZOFFSETTO:+0100
TZNAME:CET
DTSTART:20231029T010000
END:STANDARD
END:VTIMEZONE
BEGIN:VEVENT
DTSTART;VALUE=DATE:20221110
DTEND;VALUE=DATE:20221128
DTSTAMP:20260421T071845
CREATED:20221110T120527Z
LAST-MODIFIED:20221110T120527Z
UID:3217-1668038400-1669593599@kalender.seniorinnen.wien
SUMMARY:Wiener Lichtblicke: Verfassung im Licht der Kunst
DESCRIPTION:Die WIENER LICHTBLICKE verwandeln wieder Straßen\, Parks und Plätze Wiens in Lichtkunstwerke. Abends und in den frühen Morgenstunden sind alle eingeladen\, die weithin sichtbaren Lichtlinien und Lichtbilder zu besuchen und in neue Wirklichkeiten einzutauchen. Nach „Menschenrechte“ (2020/21) und „Zivilcourage“ (2021/22) wird diesen Herbst die Verfassung ins Licht gerückt. \nVictoria Coeln\, Lichtkünstlerin und Initiatorin der WIENER LICHTBLICKE\, verbindet in ihren „Chromotopia“ die Lichtkunstwerke mit dem Ort\, den sie erhellen\, politischen Themen\, Sounds\, Texten und ganz neu auch mit Augmented Reality. Somit fordern die Werke internationaler Künstler:innen die Wahrnehmung auf verschiedenen Ebenen heraus und schaffen unerwartete Zusammenhänge\, die zu einem Austausch über Gegenwart und Zukunft inspirieren. \nAlle Infos und Orte unter: https://www.wienerlichtblicke.at/ \nIm Sinne der Umwelt: Die Wiener Lichtblicke arbeiten/sind energiebewusst. Der durchschnittliche Verbrauch pro Ort beträgt nur 1 kW pro Stunde. D.h. pro Standort entspricht der Energieverbrauch in einer Stunde dem Verbrauch von 4 Streamings oder 10 mittelgroßen LED-TV-Geräten. \n(c) NIPAS / Helmut Prochart / Bildrecht / 2022
URL:https://kalender.seniorinnen.wien/event/wiener-lichtblicke-verfassung-im-licht-der-kunst/
CATEGORIES:Ausflüge,Unterhaltung
END:VEVENT
END:VCALENDAR