BEGIN:VCALENDAR
VERSION:2.0
PRODID:-//Wien für Senior:innen - ECPv6.15.17.1//NONSGML v1.0//EN
CALSCALE:GREGORIAN
METHOD:PUBLISH
X-ORIGINAL-URL:https://kalender.seniorinnen.wien
X-WR-CALDESC:Veranstaltungen für Wien für Senior:innen
REFRESH-INTERVAL;VALUE=DURATION:PT1H
X-Robots-Tag:noindex
X-PUBLISHED-TTL:PT1H
BEGIN:VTIMEZONE
TZID:Europe/Berlin
BEGIN:DAYLIGHT
TZOFFSETFROM:+0100
TZOFFSETTO:+0200
TZNAME:CEST
DTSTART:20240331T010000
END:DAYLIGHT
BEGIN:STANDARD
TZOFFSETFROM:+0200
TZOFFSETTO:+0100
TZNAME:CET
DTSTART:20241027T010000
END:STANDARD
BEGIN:DAYLIGHT
TZOFFSETFROM:+0100
TZOFFSETTO:+0200
TZNAME:CEST
DTSTART:20250330T010000
END:DAYLIGHT
BEGIN:STANDARD
TZOFFSETFROM:+0200
TZOFFSETTO:+0100
TZNAME:CET
DTSTART:20251026T010000
END:STANDARD
BEGIN:DAYLIGHT
TZOFFSETFROM:+0100
TZOFFSETTO:+0200
TZNAME:CEST
DTSTART:20260329T010000
END:DAYLIGHT
BEGIN:STANDARD
TZOFFSETFROM:+0200
TZOFFSETTO:+0100
TZNAME:CET
DTSTART:20261025T010000
END:STANDARD
END:VTIMEZONE
BEGIN:VEVENT
DTSTART;TZID=Europe/Berlin:20251021T100000
DTEND;TZID=Europe/Berlin:20251021T130000
DTSTAMP:20260420T221147
CREATED:20250831T230050Z
LAST-MODIFIED:20250926T045319Z
UID:8223-1761040800-1761051600@kalender.seniorinnen.wien
SUMMARY:AUSGEBUCHT Kulturspaziergang: Rund um das Dorotheum
DESCRIPTION:Mit großer Freude an Bewegung: Entdecken Sie Geschichten und Anekdoten aus dem 1. Bezirk beim geführten Spaziergang. \nDer Treffpunkt wird bei der Anmeldung bekannt gegeben. \nAnmeldung bis 6.10.2025 \nTel.: 01 512 36 61-345\nE-Mail: nbz12@wiener.hilfswerk.at \n  \nFoto: Wiener Hilfswerk/Nuderscher
URL:https://kalender.seniorinnen.wien/event/kulturspaziergang-rund-um-das-dorotheum/
CATEGORIES:Begegnung,Kunst und Kultur,Monat der Senior:innen
ATTACH;FMTTYPE=image/jpeg:https://kalender.seniorinnen.wien/wp-content/uploads/2025/08/WHW-NZ-Kulturspaziergang-013-e1754319485285.jpg
END:VEVENT
BEGIN:VEVENT
DTSTART;TZID=Europe/Berlin:20251007T173000
DTEND;TZID=Europe/Berlin:20251007T190000
DTSTAMP:20260420T221147
CREATED:20250831T230040Z
LAST-MODIFIED:20250827T114029Z
UID:8275-1759858200-1759863600@kalender.seniorinnen.wien
SUMMARY:Demenz verstehen – Wissen hilft!
DESCRIPTION:Die Diagnose Demenz betrifft nicht nur die Betroffenen selbst\, sondern auch das soziale Umfeld. Dieser Informationsabend richtet sich an alle\, die sich mit dem Thema auseinandersetzen wollen –ob aus persönlichem\, pflegerischem oder beruflichem Interesse. \nAnmeldung bis 7. 10.: \nTel.: 01 512 36 61-3450\nE-Mail: nbz12@wiener.hilfswerk.at \nAchtung: Barrierefreier Zugang\, aber keine rollstuhlgerechte Toilette. \nFoto: Pixabay
URL:https://kalender.seniorinnen.wien/event/demenz-verstehen-wissen-hilft/
CATEGORIES:Barrierefrei,Demenz,Monat der Senior:innen
ATTACH;FMTTYPE=image/jpeg:https://kalender.seniorinnen.wien/wp-content/uploads/2025/08/note-2527442_1920-e1756291109952.jpg
END:VEVENT
BEGIN:VEVENT
DTSTART;TZID=Europe/Berlin:20251007T100000
DTEND;TZID=Europe/Berlin:20251007T130000
DTSTAMP:20260420T221147
CREATED:20250831T230045Z
LAST-MODIFIED:20250926T045348Z
UID:8218-1759831200-1759842000@kalender.seniorinnen.wien
SUMMARY:AUSGEBUCHT Kulturspaziergang: Mariahilf und seine Stiegen
DESCRIPTION:Entdecken Sie beim geführten Spaziergang Historisches und Anekdoten rund um den 6. Bezirk und seine Stiegen. \nDer Treffpunkt wird bei der Anmeldung bekannt gegeben. \nAnmeldung bis 6.10.2025 \nTel.: 01 512 36 61-3450\nE-Mail: nbz12@wiener.hilfswerk.at \nFoto: Wiener Hilfswerk/Nuderscher
URL:https://kalender.seniorinnen.wien/event/kulturspaziergang-mariahilf-und-seine-stiegen/
CATEGORIES:Ausflüge,Begegnung,Kunst und Kultur,Monat der Senior:innen
ATTACH;FMTTYPE=image/jpeg:https://kalender.seniorinnen.wien/wp-content/uploads/2025/08/WHW-NZ-Kulturspaziergang-008-e1754319169440.jpg
END:VEVENT
END:VCALENDAR