BEGIN:VCALENDAR
VERSION:2.0
PRODID:-//Wien für Senior:innen - ECPv6.15.17.1//NONSGML v1.0//EN
CALSCALE:GREGORIAN
METHOD:PUBLISH
X-ORIGINAL-URL:https://kalender.seniorinnen.wien
X-WR-CALDESC:Veranstaltungen für Wien für Senior:innen
REFRESH-INTERVAL;VALUE=DURATION:PT1H
X-Robots-Tag:noindex
X-PUBLISHED-TTL:PT1H
BEGIN:VTIMEZONE
TZID:Europe/Berlin
BEGIN:DAYLIGHT
TZOFFSETFROM:+0100
TZOFFSETTO:+0200
TZNAME:CEST
DTSTART:20230326T010000
END:DAYLIGHT
BEGIN:STANDARD
TZOFFSETFROM:+0200
TZOFFSETTO:+0100
TZNAME:CET
DTSTART:20231029T010000
END:STANDARD
BEGIN:DAYLIGHT
TZOFFSETFROM:+0100
TZOFFSETTO:+0200
TZNAME:CEST
DTSTART:20240331T010000
END:DAYLIGHT
BEGIN:STANDARD
TZOFFSETFROM:+0200
TZOFFSETTO:+0100
TZNAME:CET
DTSTART:20241027T010000
END:STANDARD
BEGIN:DAYLIGHT
TZOFFSETFROM:+0100
TZOFFSETTO:+0200
TZNAME:CEST
DTSTART:20250330T010000
END:DAYLIGHT
BEGIN:STANDARD
TZOFFSETFROM:+0200
TZOFFSETTO:+0100
TZNAME:CET
DTSTART:20251026T010000
END:STANDARD
BEGIN:DAYLIGHT
TZOFFSETFROM:+0100
TZOFFSETTO:+0200
TZNAME:CEST
DTSTART:20260329T010000
END:DAYLIGHT
BEGIN:STANDARD
TZOFFSETFROM:+0200
TZOFFSETTO:+0100
TZNAME:CET
DTSTART:20261025T010000
END:STANDARD
BEGIN:DAYLIGHT
TZOFFSETFROM:+0100
TZOFFSETTO:+0200
TZNAME:CEST
DTSTART:20270328T010000
END:DAYLIGHT
BEGIN:STANDARD
TZOFFSETFROM:+0200
TZOFFSETTO:+0100
TZNAME:CET
DTSTART:20271031T010000
END:STANDARD
END:VTIMEZONE
BEGIN:VEVENT
DTSTART;TZID=Europe/Berlin:20260303T140000
DTEND;TZID=Europe/Berlin:20260303T160000
DTSTAMP:20260420T205043
CREATED:20260302T075122Z
LAST-MODIFIED:20260302T075229Z
UID:12249-1772546400-1772553600@kalender.seniorinnen.wien
SUMMARY:Seniorinnen bewegen was
DESCRIPTION:(Stadt-)Spaziergang\n3. März 2026\n14 bis 16 Uhr\nOrt: Obere Augartenstraße 1 \, 1020 Wien\nTreffpunkt vor dem Haupttor des Augartens \nAnmeldung per E-Mail: post@seniorinnen.wien \nVeranstalterin: FSW-Wien für Senior:innen – Senior:innenbeauftragte der Stadt Wien \nFoto:Pixaby
URL:https://kalender.seniorinnen.wien/event/seniorinnen-bewegen-was/
LOCATION:Augarten\, Obere Augartenstraße 1\, Wien\, Wien\, 1020\, Austria
CATEGORIES:Ausflüge,Begegnung
ATTACH;FMTTYPE=image/jpeg:https://kalender.seniorinnen.wien/wp-content/uploads/2026/03/Pixabay.jpg
ORGANIZER;CN="Wien f%C3%BCr Senior%3Ainnen":MAILTO:post@seniorinnen.wien
END:VEVENT
BEGIN:VEVENT
DTSTART;TZID=Europe/Berlin:20250926T140000
DTEND;TZID=Europe/Berlin:20250926T200000
DTSTAMP:20260420T205043
CREATED:20250724T125631Z
LAST-MODIFIED:20250915T093547Z
UID:8021-1758895200-1758916800@kalender.seniorinnen.wien
SUMMARY:Ausgebucht: Fest der Senior:innen 2025
DESCRIPTION:Die Senior:innenbeauftragte der Stadt Wien\, Sabine Hofer-Gruber\, lädt alle Wienerinnen und Wiener 60+ herzlich zum Fest der Senior:innen 2025 ein.\nDieses Jahr findet die große Feier im Wiener Rathaus statt. Ganz nach dem Motto „… aber bitte mit Sahne!“ \nAuf die Gäste wartet ein Nachmittag mit guter Unterhaltung\, Musik-Hits\, Tanz\, Kulinarik sowie interessanten Gesprächen mit Senior:innen aus ganz Wien. \n\nEröffnung mit Stadtrat Peter Hacker\, FSW-Geschäftsführerin Susanne Winkler und der Senior:innenbeauftragten der Stadt Wien Sabine Hofer-Gruber\nShow der Tanzschule Chris\nTanz-Crash-Kurs\nTaxitänzer – mit Profis tanzen\nMusik: Lilly and the best Men & DJ Laudenbach\n\nDurch den Nachmittag führt Martina Rupp. \nInfos & Programm: www.seniorinnen.wien/fest \n  \nDer Eintritt ist frei\, eine Anmeldung ist unbedingt erforderlich! \nWichtiger Hinweis:\nBitte um Verständnis\, dass aktuell nur mehr Anmeldungen auf der Warteliste möglich sind! \nLink zur Online-Anmeldung bzw. Buchung von Wartelistenplätzen:\nhttps://festderseniorinnen.flave.world \nAnmeldung per Telefon: 01 24 5 24 \nFoto: Luzia Puiu
URL:https://kalender.seniorinnen.wien/event/fest-der-seniorinnen-2025/
LOCATION:Wiener Rathaus\, Friedrich-Schmidt-Platz\, Wien\, 1010\, Österreich
CATEGORIES:Begegnung,Monat der Senior:innen,Unterhaltung
ATTACH;FMTTYPE=image/jpeg:https://kalender.seniorinnen.wien/wp-content/uploads/2025/07/2024-09-27_14-54-DSC_0821-1365-Luiza-Puiu-e1753361171552.jpg
ORGANIZER;CN="Wien f%C3%BCr Senior%3Ainnen":MAILTO:post@seniorinnen.wien
END:VEVENT
BEGIN:VEVENT
DTSTART;VALUE=DATE:20241001
DTEND;VALUE=DATE:20241101
DTSTAMP:20260420T205043
CREATED:20240830T123433Z
LAST-MODIFIED:20241001T075303Z
UID:6473-1727740800-1730419199@kalender.seniorinnen.wien
SUMMARY:Monat der Senior:innen 2024
DESCRIPTION:Jeden Oktober sind Wiens Senior:innen eingeladen\, die vielfältigen Angebote ihrer Stadt neu zu entdecken. Auch heuer gibt es im Monat der Senior:innen in allen Bezirken viel zu erleben. Gemeinsam mit zahlreichen Partnerorganisationen wurde ein spannendes Programm zusammengestellt\, das heuer erstmals zur Gänze kostenlos ist. \nDas Programm vom Monat der Senior:innen liegt ab Ende August in öffentlichen und sozialen Einrichtungen der Stadt Wien auf. Alle Events sind ab dann auch hier im Online-Kalender unter kalender.seniorinnen.wien abgebildet. Klicken Sie dafür bei der Suche die Kategorie „Monat der Senior:innen“ an. \nAbsagen oder Änderungen werden hier\, auf dem Facebook-Kanal www.facebook.com/WienerSeniorInnenbeauftragte sowie über das FSW-Kund:innentelefon 01 24 5 24 kommuniziert. \nBitte beachten sie: Für den Großteil der Veranstaltungen ist eine Anmeldung erforderlich. \n\nViel Spaß – ganz nach dem Motto “Gemeinsam was erleben”!
URL:https://kalender.seniorinnen.wien/event/monat-der-seniorinnen-2024/
CATEGORIES:Ausflüge,Barrierefrei,Begegnung,Bildung,Demenz,Digital und Online,Fit und Gesund,Frauen,Freiwilliges Engagement,Grätzel,Information,Kunst und Kultur,Monat der Senior:innen,Selbstfürsorge,Sicherheit,Unterhaltung
ATTACH;FMTTYPE=image/jpeg:https://kalender.seniorinnen.wien/wp-content/uploads/2024/08/GettyImages©skynesher-1365539282_A5-e1725020765445.jpg
ORGANIZER;CN="Wien f%C3%BCr Senior%3Ainnen":MAILTO:post@seniorinnen.wien
END:VEVENT
BEGIN:VEVENT
DTSTART;TZID=Europe/Berlin:20240927T140000
DTEND;TZID=Europe/Berlin:20240927T200000
DTSTAMP:20260420T205043
CREATED:20240820T100050Z
LAST-MODIFIED:20240925T120428Z
UID:5926-1727445600-1727467200@kalender.seniorinnen.wien
SUMMARY:AUSGEBUCHT: Fest der Senior:innen 2024
DESCRIPTION:Bitte beachten Sie: Die Plätze für das Fest der Senior:innen 2024 sind bereits vergeben. \nDa sich kein Schönwetter angekündigt hat\, können wir leider die Anzahl der Plätze nicht erhöhen. \nWir bitten alle\, die sich auf unsere Warteliste eingetragen haben\, um Verständnis und hoffen auf ein Wiedersehen bei einer anderen Veranstaltung im Monat der Senior:innen. \n  \nZum Auftakt des Monats der Senior:innen feiern wir gemeinsam die Wiener Senior:innen! \nDas steht am Programm: \n\nEröffnung mit Stadtrat Peter Hacker\, FSW-Geschäftsführerin Susanne Winkler und der Senior:innenbeauftragten der Stadt Wien Sabine Hofer-Gruber\nTanzshow der Tanzschule Chris\nTanz-Crash-Kurs für alle mit Chris Lachmuth\nTaxitänzer – mit Profis tanzen\nMusik: Lilly and the best Men & DJ Laudenbach\n\nDurch den Nachmittag führt Martina Rupp. \nDas Fest der Senior:innen findet heuer zum dritten (und leider letzten) Mal im wunderschönen Kursalon Hübner statt. Lassen Sie sich das nicht entgehen! \nDer Eintritt ist frei\, eine Anmeldung ist unbedingt erforderlich: www.seniorinnen.wien/fest-der-seniorinnen \nAnmeldung: 2.9. bis 23.9.2024\nFSW-Kund:innentelefon: 01 24 5 24\nAnmelde-Website: www.seniorinnen.wien/fest-der-seniorinnen \nOrt: Kursalon Hübner\, 1010 Wien\, Johannesgasse 33 (Zutritt ausschließlich über den Haupteingang) \nFoto: David Bohmann
URL:https://kalender.seniorinnen.wien/event/fest-der-seniorinnen-2024/
LOCATION:Kursalon Hübner\, Johannesgasse 33\, Wien\, 1030
CATEGORIES:Monat der Senior:innen,Unterhaltung
ATTACH;FMTTYPE=image/jpeg:https://kalender.seniorinnen.wien/wp-content/uploads/2024/08/FestDerSenioren_c_David_Bohmann_155-scaled-e1724147913239.jpg
ORGANIZER;CN="Wien f%C3%BCr Senior%3Ainnen":MAILTO:post@seniorinnen.wien
END:VEVENT
END:VCALENDAR