BEGIN:VCALENDAR
VERSION:2.0
PRODID:-//Wien für Senior:innen - ECPv6.15.17.1//NONSGML v1.0//EN
CALSCALE:GREGORIAN
METHOD:PUBLISH
X-WR-CALNAME:Wien für Senior:innen
X-ORIGINAL-URL:https://kalender.seniorinnen.wien
X-WR-CALDESC:Veranstaltungen für Wien für Senior:innen
REFRESH-INTERVAL;VALUE=DURATION:PT1H
X-Robots-Tag:noindex
X-PUBLISHED-TTL:PT1H
BEGIN:VTIMEZONE
TZID:Europe/Berlin
BEGIN:DAYLIGHT
TZOFFSETFROM:+0100
TZOFFSETTO:+0200
TZNAME:CEST
DTSTART:20210328T010000
END:DAYLIGHT
BEGIN:STANDARD
TZOFFSETFROM:+0200
TZOFFSETTO:+0100
TZNAME:CET
DTSTART:20211031T010000
END:STANDARD
BEGIN:DAYLIGHT
TZOFFSETFROM:+0100
TZOFFSETTO:+0200
TZNAME:CEST
DTSTART:20220327T010000
END:DAYLIGHT
BEGIN:STANDARD
TZOFFSETFROM:+0200
TZOFFSETTO:+0100
TZNAME:CET
DTSTART:20221030T010000
END:STANDARD
BEGIN:DAYLIGHT
TZOFFSETFROM:+0100
TZOFFSETTO:+0200
TZNAME:CEST
DTSTART:20230326T010000
END:DAYLIGHT
BEGIN:STANDARD
TZOFFSETFROM:+0200
TZOFFSETTO:+0100
TZNAME:CET
DTSTART:20231029T010000
END:STANDARD
END:VTIMEZONE
BEGIN:VEVENT
DTSTART;TZID=Europe/Berlin:20221021T100000
DTEND;TZID=Europe/Berlin:20221021T113000
DTSTAMP:20260421T003913
CREATED:20220726T134351Z
LAST-MODIFIED:20221017T082152Z
UID:2946-1666346400-1666351800@kalender.seniorinnen.wien
SUMMARY:Monat der Senior:innen: Die Stadt in der Stadt - Aspern Seestadt
DESCRIPTION:Die Seestadt wächst und wächst! Was gibt es Neues zu entdecken in Europas größtem und ambitioniertesten Stadtentwicklungsprojekt? Wie wohnt es sich dort? Was wird gearbeitet und produziert? Was tut sich kulturell? Entdecken Sie bei einem geführten Spaziergang diesmal den Norden der Seestadt. Aha-Erlebnisse garantiert! \nDie Teilnehmer:innenanzahl ist auf 20 Personen beschränkt. Melden Sie sich bis 19.10.2022 telefonisch über 0664 848 61 60 oder per E-Mail an info@aspern-seestadt.at für die Veranstaltung an. \nSollten Sie trotz Anmeldung nicht an der Veranstaltung teilnehmen können\, sagen Sie bitte ab. So haben weitere Interessierte die Möglichkeit Ihren Platz einzunehmen. \nBitte beachten Sie: Aufgrund COVID-19 sind kurzfristige Änderungen oder auch Absagen möglich. Das Team der Senior:innenbeauftragten und die Veranstalter:innen bitten um Verständnis. \n(c) David Bohmann/ Wien für Senior:innen
URL:https://kalender.seniorinnen.wien/event/monat-der-seniorinnen-die-stadt-in-der-stadt-aspern-seestadt/
LOCATION:Treffpunkt: U2-Endstation „Seestadt“\, Abgang Seestadtpromenade
CATEGORIES:Monat der Senior:innen
END:VEVENT
END:VCALENDAR