BEGIN:VCALENDAR
VERSION:2.0
PRODID:-//Wien für Senior:innen - ECPv6.15.17.1//NONSGML v1.0//EN
CALSCALE:GREGORIAN
METHOD:PUBLISH
X-ORIGINAL-URL:https://kalender.seniorinnen.wien
X-WR-CALDESC:Veranstaltungen für Wien für Senior:innen
REFRESH-INTERVAL;VALUE=DURATION:PT1H
X-Robots-Tag:noindex
X-PUBLISHED-TTL:PT1H
BEGIN:VTIMEZONE
TZID:Europe/Berlin
BEGIN:DAYLIGHT
TZOFFSETFROM:+0100
TZOFFSETTO:+0200
TZNAME:CEST
DTSTART:20230326T010000
END:DAYLIGHT
BEGIN:STANDARD
TZOFFSETFROM:+0200
TZOFFSETTO:+0100
TZNAME:CET
DTSTART:20231029T010000
END:STANDARD
BEGIN:DAYLIGHT
TZOFFSETFROM:+0100
TZOFFSETTO:+0200
TZNAME:CEST
DTSTART:20240331T010000
END:DAYLIGHT
BEGIN:STANDARD
TZOFFSETFROM:+0200
TZOFFSETTO:+0100
TZNAME:CET
DTSTART:20241027T010000
END:STANDARD
BEGIN:DAYLIGHT
TZOFFSETFROM:+0100
TZOFFSETTO:+0200
TZNAME:CEST
DTSTART:20250330T010000
END:DAYLIGHT
BEGIN:STANDARD
TZOFFSETFROM:+0200
TZOFFSETTO:+0100
TZNAME:CET
DTSTART:20251026T010000
END:STANDARD
END:VTIMEZONE
BEGIN:VEVENT
DTSTART;TZID=Europe/Berlin:20241111T100000
DTEND;TZID=Europe/Berlin:20241111T120000
DTSTAMP:20260421T024615
CREATED:20241029T144101Z
LAST-MODIFIED:20241029T144101Z
UID:6837-1731319200-1731326400@kalender.seniorinnen.wien
SUMMARY:Kunst-Workshop für Menschen mit Demenz "Dem Zentrum so nah"
DESCRIPTION:Der zweistündige Workshop findet am Montag\, 11. November 2024 von 10 bis 12 Uhr im Rahmen der Vienna Art Week im Dom Museum Wien statt. \nDer Workshop beschäftigt sich auf unterschiedlichen Ebenen mit dem Thema „Zentrum.“ Er ruft Erinnerungen wach\, wagt einen Blick auf Neues und verbindet beides mit dem Hier und Jetzt. Ziel ist es\, im Gespräch und unter Einbeziehung aller Sinne Lebenserinnerungen in die Gegenwart zu holen und so auch den Menschen selbst ins Zentrum zu rücken. Das kreative Tun im hauseigenen Dom Atelier eröffnet weitere Möglichkeiten\, dem Persönlichen Ausdruck zu verleihen. \nBegrenzte Teilnehmer:innenzahl.\nDie Anmeldung für Teilnehmende und Begleitpersonen erforderlich! \n\nDie Teilnahme ist kostenlos im Rahmen der Vienna Art Week. \nWeitere Informationen zum Programm und dem Anmeldeformular: https://dommuseum.at/241111_WKS_Zentrum
URL:https://kalender.seniorinnen.wien/event/kunst-workshop-fuer-menschen-mit-demenz-dem-zentrum-so-nah/
LOCATION:Dom Museum Wien\, Stephansplatz 6\, Wien\, 1010\, Austria
CATEGORIES:Demenz,Kunst und Kultur
ATTACH;FMTTYPE=image/jpeg:https://kalender.seniorinnen.wien/wp-content/uploads/2023/10/Offenes_Atelier-scaled-e1696511853593.jpg
ORGANIZER;CN="Vienna Art Week":MAILTO:office@viennaartweek.at
END:VEVENT
END:VCALENDAR