BEGIN:VCALENDAR
VERSION:2.0
PRODID:-//Wien für Senior:innen - ECPv6.15.17.1//NONSGML v1.0//EN
CALSCALE:GREGORIAN
METHOD:PUBLISH
X-WR-CALNAME:Wien für Senior:innen
X-ORIGINAL-URL:https://kalender.seniorinnen.wien
X-WR-CALDESC:Veranstaltungen für Wien für Senior:innen
REFRESH-INTERVAL;VALUE=DURATION:PT1H
X-Robots-Tag:noindex
X-PUBLISHED-TTL:PT1H
BEGIN:VTIMEZONE
TZID:Europe/Vienna
BEGIN:DAYLIGHT
TZOFFSETFROM:+0100
TZOFFSETTO:+0200
TZNAME:CEST
DTSTART:20220327T010000
END:DAYLIGHT
BEGIN:STANDARD
TZOFFSETFROM:+0200
TZOFFSETTO:+0100
TZNAME:CET
DTSTART:20221030T010000
END:STANDARD
BEGIN:DAYLIGHT
TZOFFSETFROM:+0100
TZOFFSETTO:+0200
TZNAME:CEST
DTSTART:20230326T010000
END:DAYLIGHT
BEGIN:STANDARD
TZOFFSETFROM:+0200
TZOFFSETTO:+0100
TZNAME:CET
DTSTART:20231029T010000
END:STANDARD
BEGIN:DAYLIGHT
TZOFFSETFROM:+0100
TZOFFSETTO:+0200
TZNAME:CEST
DTSTART:20240331T010000
END:DAYLIGHT
BEGIN:STANDARD
TZOFFSETFROM:+0200
TZOFFSETTO:+0100
TZNAME:CET
DTSTART:20241027T010000
END:STANDARD
END:VTIMEZONE
BEGIN:VEVENT
DTSTART;TZID=Europe/Vienna:20231009T140000
DTEND;TZID=Europe/Vienna:20231009T160000
DTSTAMP:20260421T044148
CREATED:20230811T094853Z
LAST-MODIFIED:20230811T115602Z
UID:3791-1696860000-1696867200@kalender.seniorinnen.wien
SUMMARY:Monat der Senior:innen: Studieren in der Pension – auch ohne Matura
DESCRIPTION:Um in der Pension einen neuen Bildungsabschnitt zu beginnen\, ist die Berufsreifeprüfung als vollwertige Matura oder die Studienberechtigungsprüfung für ein reguläres Studium ein einfacher Weg. Wir informieren Sie in dieser Veranstaltung\nüber Unterschiede\, Voraussetzungen und Abläufe dieser beiden Bildungswege zum Studium. \nEs ist keine Anmeldung erforderlich. \nAuf vielen Veranstaltungen wird fotografiert und/oder gefilmt. Mit der Teilnahme an einer Veranstaltung stimmen Sie einer möglichen Veröffentlichung auf Websites\, Social Media-Kanälen\, Print- und Onlinemedien und dergleichen zu. \n(c) Pixabay
URL:https://kalender.seniorinnen.wien/event/studieren-in-der-pension-auch-ohne-matura/
LOCATION:VHS Floridsdorf\, Angerer Straße 14\, Wien\, 1210
CATEGORIES:Monat der Senior:innen
ATTACH;FMTTYPE=image/jpeg:https://kalender.seniorinnen.wien/wp-content/uploads/2023/08/glasses-1052023_1280-c-pixabay.jpg
END:VEVENT
END:VCALENDAR