BEGIN:VCALENDAR
VERSION:2.0
PRODID:-//Wien für Senior:innen - ECPv6.15.17.1//NONSGML v1.0//EN
CALSCALE:GREGORIAN
METHOD:PUBLISH
X-WR-CALNAME:Wien für Senior:innen
X-ORIGINAL-URL:https://kalender.seniorinnen.wien
X-WR-CALDESC:Veranstaltungen für Wien für Senior:innen
REFRESH-INTERVAL;VALUE=DURATION:PT1H
X-Robots-Tag:noindex
X-PUBLISHED-TTL:PT1H
BEGIN:VTIMEZONE
TZID:Europe/Berlin
BEGIN:DAYLIGHT
TZOFFSETFROM:+0100
TZOFFSETTO:+0200
TZNAME:CEST
DTSTART:20220327T010000
END:DAYLIGHT
BEGIN:STANDARD
TZOFFSETFROM:+0200
TZOFFSETTO:+0100
TZNAME:CET
DTSTART:20221030T010000
END:STANDARD
BEGIN:DAYLIGHT
TZOFFSETFROM:+0100
TZOFFSETTO:+0200
TZNAME:CEST
DTSTART:20230326T010000
END:DAYLIGHT
BEGIN:STANDARD
TZOFFSETFROM:+0200
TZOFFSETTO:+0100
TZNAME:CET
DTSTART:20231029T010000
END:STANDARD
BEGIN:DAYLIGHT
TZOFFSETFROM:+0100
TZOFFSETTO:+0200
TZNAME:CEST
DTSTART:20240331T010000
END:DAYLIGHT
BEGIN:STANDARD
TZOFFSETFROM:+0200
TZOFFSETTO:+0100
TZNAME:CET
DTSTART:20241027T010000
END:STANDARD
END:VTIMEZONE
BEGIN:VEVENT
DTSTART;TZID=Europe/Berlin:20231011T100000
DTEND;TZID=Europe/Berlin:20231011T120000
DTSTAMP:20260420T165045
CREATED:20231004T120651Z
LAST-MODIFIED:20231005T112246Z
UID:4135-1697018400-1697025600@kalender.seniorinnen.wien
SUMMARY:VHS Simmering: Reanimationskurs für Senior:innen
DESCRIPTION:Der plötzliche Herztod ist europaweit die dritthäufigste Todesursache. Viele Todesfälle können vermieden werden\, wenn man weiß\, wie man im Notfall mit den richtigen Wiederbelebungsmaßnahmen schnell helfen kann. Im Rahmen eines Forschungsprojektes der Medizinischen Universität Wien mit dem Verein Puls wird im Rahmen von kostenlosen Reanimationsschulungen für bestimmte Bevölkerungsgruppen erforscht\, wie diese angepasst werden müssen\, um die Effektivität der Reanimation zu erhöhen. Am Ende der kostenlosen Reanimationsschulung füllen Sie einen anonymen Fragebogen aus und helfen so die Reanimationskurse zu verbessern. \nAblauf:\n1. Vorstellung des Vereins Puls und der Vortragenden\n2. Kurze theoretische Einführung in das Thema und den medizinischen Hintergrund\n3. Erklärung der Wichtigkeit der Wiederbelebung bei einem Herz-Kreislauf-Stillstand\n4. Demonstration durch die Vortragende (2 Durchgänge an Reanimationspuppe)\n5. Rufen – Drücken – Schocken (Einsatz und Gebrauch eines Defibrillators – Praxisanwendung mit Übungsdefi)\n6. Zeit für Fragen \nPraxisteil:\n7. Praktisches Durchführen des zuvor gezeigten Ablaufs von den Kursteilnehmer*innen (einzeln\, jede*r mindestens einen Durchgang an Reanimationspuppe) mit erster Kontaktaufnahme\, Herzdruckmassage und Defibrillator (Übungsdefi)\n8. Abschluss und Zusammenfassung der Kursinhalte\n9. Zeit für Fragen\n10. Evaluation\, Feedback\, Fragebogen \nVeranstaltet von der VHS Simmering  in Kooperation mit dem Verein PULS und der Medizinischen Universität Wien. \nFoto: Pixabay
URL:https://kalender.seniorinnen.wien/event/reanimationskurs-fuer-seniorinnen/
LOCATION:VHS Simmering\, Gottschalkgasse 10\, Wien\, 1110\, Österreich
CATEGORIES:Bildung,Fit und Gesund,Freiwilliges Engagement
ATTACH;FMTTYPE=image/jpeg:https://kalender.seniorinnen.wien/wp-content/uploads/2023/10/first-aid-g58279de96_640-e1696504702615.jpg
ORGANIZER;CN="VHS Simmering":MAILTO:simmering@vhs.at
END:VEVENT
END:VCALENDAR