BEGIN:VCALENDAR
VERSION:2.0
PRODID:-//Wien für Senior:innen - ECPv6.15.17.1//NONSGML v1.0//EN
CALSCALE:GREGORIAN
METHOD:PUBLISH
X-WR-CALNAME:Wien für Senior:innen
X-ORIGINAL-URL:https://kalender.seniorinnen.wien
X-WR-CALDESC:Veranstaltungen für Wien für Senior:innen
REFRESH-INTERVAL;VALUE=DURATION:PT1H
X-Robots-Tag:noindex
X-PUBLISHED-TTL:PT1H
BEGIN:VTIMEZONE
TZID:Europe/Berlin
BEGIN:DAYLIGHT
TZOFFSETFROM:+0100
TZOFFSETTO:+0200
TZNAME:CEST
DTSTART:20230326T010000
END:DAYLIGHT
BEGIN:STANDARD
TZOFFSETFROM:+0200
TZOFFSETTO:+0100
TZNAME:CET
DTSTART:20231029T010000
END:STANDARD
BEGIN:DAYLIGHT
TZOFFSETFROM:+0100
TZOFFSETTO:+0200
TZNAME:CEST
DTSTART:20240331T010000
END:DAYLIGHT
BEGIN:STANDARD
TZOFFSETFROM:+0200
TZOFFSETTO:+0100
TZNAME:CET
DTSTART:20241027T010000
END:STANDARD
BEGIN:DAYLIGHT
TZOFFSETFROM:+0100
TZOFFSETTO:+0200
TZNAME:CEST
DTSTART:20250330T010000
END:DAYLIGHT
BEGIN:STANDARD
TZOFFSETFROM:+0200
TZOFFSETTO:+0100
TZNAME:CET
DTSTART:20251026T010000
END:STANDARD
END:VTIMEZONE
BEGIN:VEVENT
DTSTART;TZID=Europe/Berlin:20240523T180000
DTEND;TZID=Europe/Berlin:20240523T193000
DTSTAMP:20260420T154644
CREATED:20240213T101818Z
LAST-MODIFIED:20240213T101818Z
UID:5101-1716487200-1716492600@kalender.seniorinnen.wien
SUMMARY:Demenz: Wie können wir verstehen\, was erkrankte Personen mitteilen wollen?
DESCRIPTION:Die psychischen\, nervösen Symptome der Demenz sehen wir vor allem als defizitäre Äußerungen der Erkrankten. Die Menschen wollen uns jedoch häufig mitteilen\, was sie bewegt. Im Vortrag wird auf einige typische Verhaltensweise genauer eingegangen. \nDr. Franz Ahamer ist Psychotherapeut\, Afrikanist und Sprachwissenschafter an der Universität Wien. Diese drei Berufe sucht er beispielsweise in der Beschäftigung mit Afrika und der Psychoanalyse fruchtbringend zu verbinden. \nZur Anmeldung: https://www.vhs.at/de/k/279674503
URL:https://kalender.seniorinnen.wien/event/demenz-wie-koennen-wir-verstehen-was-erkrankte-personen-mitteilen-wollen/
LOCATION:VHS Mariahilf Neubau Josefstadt\, Damböckgasse 4\, Wien\, 1060
CATEGORIES:Demenz
ATTACH;FMTTYPE=image/jpeg:https://kalender.seniorinnen.wien/wp-content/uploads/2024/02/women-2300105_1920-e1707819485551.jpg
ORGANIZER;CN="VHS Mariahilf Neubau Josefstadt":MAILTO:mariahilf@vhs.at
END:VEVENT
BEGIN:VEVENT
DTSTART;TZID=Europe/Berlin:20240312T180000
DTEND;TZID=Europe/Berlin:20240312T193000
DTSTAMP:20260420T154644
CREATED:20240126T080318Z
LAST-MODIFIED:20240207T135725Z
UID:4964-1710266400-1710271800@kalender.seniorinnen.wien
SUMMARY:Demenz: Pflege und Schlechtes Gewissen\, wie kann ich mich guten Gewissens erholen?
DESCRIPTION:Demenz verlangt eine sehr aufwendige Betreuung. Es beginnt schon bei den ersten Symptomen\, wie Vergessen\, Verwirrtheit bis hin zu körperlichen Symptomen. Gerade pflegende Angehörige stehen oft vor Herausforderungen. Jede Pause scheint unmöglich. \nDr. Franz Ahamer ist Psychotherapeut\, Afrikanist und Sprachwissenschafter an der Universität Wien. Diese drei Berufe sucht er beispielsweise in der Beschäftigung mit Afrika und der Psychoanalyse fruchtbringend zu verbinden. \nTeilnehmer*innen: 1 – 20 \nKosten: € 7\,00
URL:https://kalender.seniorinnen.wien/event/demenz-pflege-und-schlechtes-gewissen-wie-kann-ich-mich-guten-gewissens-erholen/
LOCATION:VHS Mariahilf Neubau Josefstadt\, Damböckgasse 4\, Wien\, 1060
CATEGORIES:Demenz
ATTACH;FMTTYPE=image/jpeg:https://kalender.seniorinnen.wien/wp-content/uploads/2024/01/atlas-1052011_1920-e1707314237933.jpg
ORGANIZER;CN="VHS Mariahilf Neubau Josefstadt":MAILTO:mariahilf@vhs.at
END:VEVENT
END:VCALENDAR