BEGIN:VCALENDAR
VERSION:2.0
PRODID:-//Wien für Senior:innen - ECPv6.15.17.1//NONSGML v1.0//EN
CALSCALE:GREGORIAN
METHOD:PUBLISH
X-WR-CALNAME:Wien für Senior:innen
X-ORIGINAL-URL:https://kalender.seniorinnen.wien
X-WR-CALDESC:Veranstaltungen für Wien für Senior:innen
REFRESH-INTERVAL;VALUE=DURATION:PT1H
X-Robots-Tag:noindex
X-PUBLISHED-TTL:PT1H
BEGIN:VTIMEZONE
TZID:Europe/Berlin
BEGIN:DAYLIGHT
TZOFFSETFROM:+0100
TZOFFSETTO:+0200
TZNAME:CEST
DTSTART:20230326T010000
END:DAYLIGHT
BEGIN:STANDARD
TZOFFSETFROM:+0200
TZOFFSETTO:+0100
TZNAME:CET
DTSTART:20231029T010000
END:STANDARD
BEGIN:DAYLIGHT
TZOFFSETFROM:+0100
TZOFFSETTO:+0200
TZNAME:CEST
DTSTART:20240331T010000
END:DAYLIGHT
BEGIN:STANDARD
TZOFFSETFROM:+0200
TZOFFSETTO:+0100
TZNAME:CET
DTSTART:20241027T010000
END:STANDARD
BEGIN:DAYLIGHT
TZOFFSETFROM:+0100
TZOFFSETTO:+0200
TZNAME:CEST
DTSTART:20250330T010000
END:DAYLIGHT
BEGIN:STANDARD
TZOFFSETFROM:+0200
TZOFFSETTO:+0100
TZNAME:CET
DTSTART:20251026T010000
END:STANDARD
BEGIN:DAYLIGHT
TZOFFSETFROM:+0100
TZOFFSETTO:+0200
TZNAME:CEST
DTSTART:20260329T010000
END:DAYLIGHT
BEGIN:STANDARD
TZOFFSETFROM:+0200
TZOFFSETTO:+0100
TZNAME:CET
DTSTART:20261025T010000
END:STANDARD
BEGIN:DAYLIGHT
TZOFFSETFROM:+0100
TZOFFSETTO:+0200
TZNAME:CEST
DTSTART:20270328T010000
END:DAYLIGHT
BEGIN:STANDARD
TZOFFSETFROM:+0200
TZOFFSETTO:+0100
TZNAME:CET
DTSTART:20271031T010000
END:STANDARD
END:VTIMEZONE
BEGIN:VEVENT
DTSTART;TZID=Europe/Berlin:20260420T103000
DTEND;TZID=Europe/Berlin:20260420T113000
DTSTAMP:20260420T204214
CREATED:20260417T115254Z
LAST-MODIFIED:20260417T122446Z
UID:12745-1776681000-1776684600@kalender.seniorinnen.wien
SUMMARY:Gesundheitsgymnastik für Senior:innen
DESCRIPTION:Montags 7 x\, 13.04. bis 1.06.2026\, 10:30 bis 12 Uhr \nKursleitung: Elfriede Rodlmayr \nLaWie VHS Landstraße\nLandstraßer Hauptstraße 96\n1030 Wien \nDie Übungen der Gesundheitsgymnastik mobilisieren unbeweglich gewordene Körperpartien und kräftigen und dehnen\nvernachlässigte Muskelgruppen. Bei Übungen mit und ohne Kleingeräten verbessern Sie Haltung\, Kraft\, Ausdauer und\nBeweglichkeit. Tipps für gesunde Bewegung im Alltag ergänzen das Programm. \nGebühr: 58 € \nFoto: Pixabay
URL:https://kalender.seniorinnen.wien/event/gesundheitsgymnastik-fuer-seniorinnen/2026-04-20/
LOCATION:LaWie Landstraße\, Landstraßer Hauptstraße 96\, Wien\, Wien\, 1030\, Austria
CATEGORIES:Fit und Gesund
ATTACH;FMTTYPE=image/jpeg:https://kalender.seniorinnen.wien/wp-content/uploads/2026/04/tungart7-woman-8415734-scaled.jpg
ORGANIZER;CN="VHS Landstra%C3%9Fe":MAILTO:landstrasse@vhs.at
END:VEVENT
BEGIN:VEVENT
DTSTART;TZID=Europe/Berlin:20260416T100000
DTEND;TZID=Europe/Berlin:20260416T113000
DTSTAMP:20260420T204214
CREATED:20260417T121236Z
LAST-MODIFIED:20260417T121236Z
UID:12755-1776333600-1776339000@kalender.seniorinnen.wien
SUMMARY:Italienisch A2+ Teil 2
DESCRIPTION:Donnerstags 7 x\, 9.04. bis 28.05.2026\, 10 bis 11:30 Uhr \nKursleitung: Erika Hummer \nVHS Landstraße\nHainburger Straße 29\n1030 Wien \nIn A2-Kursen üben Sie\, sich in Alltagssituationen über persönliche und berufliche Themen zu unterhalten. Die Kursinhalte\nrichten sich auch nach den Bedürfnissen der Teilnehmer*innen.\nTeilnahmevoraussetzung: Sie haben die Lernziele von A1 erreicht und möchten sich nun Sprachkenntnisse auf Niveau A2\naneignen\, wobei Sie schon Teilziele von A2 erreicht haben. Eine Beschreibung aller Lernniveaus finden Sie unter www.vhs.\nat/referenzrahmen. \nGebühr: 99 € \nFoto: Pixabay
URL:https://kalender.seniorinnen.wien/event/italienisch-a2-teil-2/2026-04-16/
LOCATION:VHS Landstraße\, Hainburger Straße 29\, Wien\, 1030
CATEGORIES:Begegnung,Bildung
ATTACH;FMTTYPE=image/jpeg:https://kalender.seniorinnen.wien/wp-content/uploads/2026/04/kriemer-flag-1343566.jpg
ORGANIZER;CN="VHS Landstra%C3%9Fe":MAILTO:landstrasse@vhs.at
END:VEVENT
BEGIN:VEVENT
DTSTART;TZID=Europe/Berlin:20260413T103000
DTEND;TZID=Europe/Berlin:20260413T113000
DTSTAMP:20260420T204214
CREATED:20260417T115254Z
LAST-MODIFIED:20260417T122446Z
UID:12743-1776076200-1776079800@kalender.seniorinnen.wien
SUMMARY:Gesundheitsgymnastik für Senior:innen
DESCRIPTION:Montags 7 x\, 13.04. bis 1.06.2026\, 10:30 bis 12 Uhr \nKursleitung: Elfriede Rodlmayr \nLaWie VHS Landstraße\nLandstraßer Hauptstraße 96\n1030 Wien \nDie Übungen der Gesundheitsgymnastik mobilisieren unbeweglich gewordene Körperpartien und kräftigen und dehnen\nvernachlässigte Muskelgruppen. Bei Übungen mit und ohne Kleingeräten verbessern Sie Haltung\, Kraft\, Ausdauer und\nBeweglichkeit. Tipps für gesunde Bewegung im Alltag ergänzen das Programm. \nGebühr: 58 € \nFoto: Pixabay
URL:https://kalender.seniorinnen.wien/event/gesundheitsgymnastik-fuer-seniorinnen/2026-04-13/
LOCATION:LaWie Landstraße\, Landstraßer Hauptstraße 96\, Wien\, Wien\, 1030\, Austria
CATEGORIES:Fit und Gesund
ATTACH;FMTTYPE=image/jpeg:https://kalender.seniorinnen.wien/wp-content/uploads/2026/04/tungart7-woman-8415734-scaled.jpg
ORGANIZER;CN="VHS Landstra%C3%9Fe":MAILTO:landstrasse@vhs.at
END:VEVENT
BEGIN:VEVENT
DTSTART;TZID=Europe/Berlin:20260409T100000
DTEND;TZID=Europe/Berlin:20260409T113000
DTSTAMP:20260420T204214
CREATED:20260417T121236Z
LAST-MODIFIED:20260417T121236Z
UID:12752-1775728800-1775734200@kalender.seniorinnen.wien
SUMMARY:Italienisch A2+ Teil 2
DESCRIPTION:Donnerstags 7 x\, 9.04. bis 28.05.2026\, 10 bis 11:30 Uhr \nKursleitung: Erika Hummer \nVHS Landstraße\nHainburger Straße 29\n1030 Wien \nIn A2-Kursen üben Sie\, sich in Alltagssituationen über persönliche und berufliche Themen zu unterhalten. Die Kursinhalte\nrichten sich auch nach den Bedürfnissen der Teilnehmer*innen.\nTeilnahmevoraussetzung: Sie haben die Lernziele von A1 erreicht und möchten sich nun Sprachkenntnisse auf Niveau A2\naneignen\, wobei Sie schon Teilziele von A2 erreicht haben. Eine Beschreibung aller Lernniveaus finden Sie unter www.vhs.\nat/referenzrahmen. \nGebühr: 99 € \nFoto: Pixabay
URL:https://kalender.seniorinnen.wien/event/italienisch-a2-teil-2/2026-04-09/
LOCATION:VHS Landstraße\, Hainburger Straße 29\, Wien\, 1030
CATEGORIES:Begegnung,Bildung
ATTACH;FMTTYPE=image/jpeg:https://kalender.seniorinnen.wien/wp-content/uploads/2026/04/kriemer-flag-1343566.jpg
ORGANIZER;CN="VHS Landstra%C3%9Fe":MAILTO:landstrasse@vhs.at
END:VEVENT
BEGIN:VEVENT
DTSTART;TZID=Europe/Berlin:20260311T130000
DTEND;TZID=Europe/Berlin:20260311T150000
DTSTAMP:20260420T204214
CREATED:20260116T105412Z
LAST-MODIFIED:20260309T130017Z
UID:11542-1773234000-1773241200@kalender.seniorinnen.wien
SUMMARY:Vortrag: Sturzfrei
DESCRIPTION:in Kooperation mit den Wiener Sozialdiensten/Kontaktbesuchsdienst und der Senior:innenbeauftragten der Stadt Wien \nSturzfrei\nVHS Landstraße\, Hainburger Straße 29 \, 1030 Wien\n\n11.03.2026\, 13 bis 15 Uhr Uhr\nTeilnehmer:innen: 5 – 15 \nIn diesem Workshop erfahren Sie\, wie Sie Stürzen im Alltag gezielt vorbeugen können. Sie lernen praktische Übungen zur Körperwahrnehmung\, Kraft und Balance\, erhalten Tipps zur Sturzvermeidung im häuslichen Umfeld und stärken Ihr Vertrauen in die eigene Bewegungssicherheit – für mehr Unabhängigkeit und Lebensqualität.\n\n\nReferent:innen: Netzwerk Pflegende An- und Zugehörige \n\n\nKontakt:\nTel.: +43 1 891 74 103 000\nE-Mail: landstraße@vhs.at \n\n\nAlle aktuellen Kurse kann man auch online finden und buchen: www.vhs.at/landstraße/kursangebot \n\n\nFoto: Pixabay
URL:https://kalender.seniorinnen.wien/event/sturzfrei/
LOCATION:VHS Landstraße\, Hainburger Straße 29\, Wien\, 1030
CATEGORIES:Fit und Gesund,Information
ATTACH;FMTTYPE=image/jpeg:https://kalender.seniorinnen.wien/wp-content/uploads/2025/08/20250813-Balance-Sturzpraevention-e1755074669533.jpg
ORGANIZER;CN="VHS Landstra%C3%9Fe":MAILTO:landstrasse@vhs.at
END:VEVENT
BEGIN:VEVENT
DTSTART;TZID=Europe/Berlin:20250915T180000
DTEND;TZID=Europe/Berlin:20250915T190000
DTSTAMP:20260420T204214
CREATED:20250717T083121Z
LAST-MODIFIED:20250717T083617Z
UID:7995-1757959200-1757962800@kalender.seniorinnen.wien
SUMMARY:Vortrag: Gehirn-Gesundheit & Demenz-Prävention – Was wir heute für morgen tun können
DESCRIPTION:Der Vortrag gibt Einblicke in neuste Erkenntnisse zur Gehirngesundheit\, zeigt Möglichkeiten zur Früherkennung und erläutert\, wann eine medizinische Abklärung sinnvoll ist. Zudem werden praktische Tipps für den Alltag vorgestellt\, um geistig aktiv und gesund zu bleiben. \nBei „DiALOG iM DRiTTEN“ steht das Nachfragen\, die Diskussion\, der Meinungsaustausch im Vordergrund. Nach einem Einstiegsreferat gibt es ausreichend Zeit für Austausch und Diskussion. Referent: DPGP Raphael Schönborn \n  \nVeranstaltungstermin:\nMontag\, 15. September 2025\, 18 – 19 Uhr \nVeranstaltungsort:\nVHS Landstraße\, Hainburger Straße 29 \, 1030 Wien \nKurskosten: EUR 5\,00 \nAnmeldung unter:\nTel.: 01/ 891 74 103 000\nMail: landstrasse@vhs.at\nOnline: https://www.vhs.at/de/k/273720878
URL:https://kalender.seniorinnen.wien/event/vortrag-gehirn-gesundheit-demenz-praevention-was-wir-heute-fuer-morgen-tun-koennen/
LOCATION:VHS Landstraße\, Hainburger Straße 29\, Wien\, 1030
CATEGORIES:Demenz,Information
ATTACH;FMTTYPE=image/jpeg:https://kalender.seniorinnen.wien/wp-content/uploads/2025/05/Schriftzug-Demenz-©Pixabay.jpg
ORGANIZER;CN="VHS Landstra%C3%9Fe":MAILTO:landstrasse@vhs.at
END:VEVENT
BEGIN:VEVENT
DTSTART;TZID=Europe/Berlin:20240213T180000
DTEND;TZID=Europe/Berlin:20240213T193000
DTSTAMP:20260420T204214
CREATED:20240126T075705Z
LAST-MODIFIED:20240207T153341Z
UID:4959-1707847200-1707852600@kalender.seniorinnen.wien
SUMMARY:Leben mit Vergesslichkeit - Herausforderung Demenz
DESCRIPTION:Ein Angebot für Betroffene\, Angehörige und Interessierte – Möglichkeiten der Alltagsgestaltung trotz Vergesslichkeit\, Unterstützungsangebote und Wissenswertes rund um das Thema Demenz werden angesprochen. \nKursleitung: Vera Langer \nKursort: VHS Landstraße\, Hainburger Straße 29 \, 1030 Wien \nTeilnehmer*innen: 8 – 24 \nEine Kooperation mit Caritas Socialis Beratungsservice Pflege und Demenz.
URL:https://kalender.seniorinnen.wien/event/leben-mit-vergesslichkeit-herausforderung-demenz/
LOCATION:VHS Landstraße\, Hainburger Straße 29\, Wien\, 1030
CATEGORIES:Demenz
ATTACH;FMTTYPE=image/jpeg:https://kalender.seniorinnen.wien/wp-content/uploads/2024/01/walnut-3072652_1920-e1707319903788.jpg
ORGANIZER;CN="VHS Landstra%C3%9Fe":MAILTO:landstrasse@vhs.at
END:VEVENT
END:VCALENDAR