BEGIN:VCALENDAR
VERSION:2.0
PRODID:-//Wien für Senior:innen - ECPv6.15.17.1//NONSGML v1.0//EN
CALSCALE:GREGORIAN
METHOD:PUBLISH
X-ORIGINAL-URL:https://kalender.seniorinnen.wien
X-WR-CALDESC:Veranstaltungen für Wien für Senior:innen
REFRESH-INTERVAL;VALUE=DURATION:PT1H
X-Robots-Tag:noindex
X-PUBLISHED-TTL:PT1H
BEGIN:VTIMEZONE
TZID:Europe/Berlin
BEGIN:DAYLIGHT
TZOFFSETFROM:+0100
TZOFFSETTO:+0200
TZNAME:CEST
DTSTART:20240331T010000
END:DAYLIGHT
BEGIN:STANDARD
TZOFFSETFROM:+0200
TZOFFSETTO:+0100
TZNAME:CET
DTSTART:20241027T010000
END:STANDARD
BEGIN:DAYLIGHT
TZOFFSETFROM:+0100
TZOFFSETTO:+0200
TZNAME:CEST
DTSTART:20250330T010000
END:DAYLIGHT
BEGIN:STANDARD
TZOFFSETFROM:+0200
TZOFFSETTO:+0100
TZNAME:CET
DTSTART:20251026T010000
END:STANDARD
BEGIN:DAYLIGHT
TZOFFSETFROM:+0100
TZOFFSETTO:+0200
TZNAME:CEST
DTSTART:20260329T010000
END:DAYLIGHT
BEGIN:STANDARD
TZOFFSETFROM:+0200
TZOFFSETTO:+0100
TZNAME:CET
DTSTART:20261025T010000
END:STANDARD
END:VTIMEZONE
BEGIN:VEVENT
DTSTART;TZID=Europe/Berlin:20251001T150000
DTEND;TZID=Europe/Berlin:20251001T160000
DTSTAMP:20260421T011509
CREATED:20250831T230002Z
LAST-MODIFIED:20250828T092807Z
UID:8741-1759330800-1759334400@kalender.seniorinnen.wien
SUMMARY:Sturzprävention und Gleichgewichtsschulung
DESCRIPTION:Mit zunehmendem Alter steigt das Sturzrisiko in alltäglichen Situationen deutlich. \nReduzieren Sie die Verletzungsgefahr durch gezieltes Training! Unabhängig von Kondition und Alter üben Sie Gleichgewicht und Standfestigkeit\, Beweglichkeit\, Koordination und Reaktion. \nAnmeldung bis 29.9. \nTel.: 01 8917 411 3000 \nMail: hietzing@vhs.at \n  \nFoto: pixabay
URL:https://kalender.seniorinnen.wien/event/sturzpraevention-und-gleichgewichtsschulung/
LOCATION:VHS Hietzing\, Hofwiesengasse 48\, Wien\, Wien\, 1130\, Austria
CATEGORIES:Monat der Senior:innen
ATTACH;FMTTYPE=image/jpeg:https://kalender.seniorinnen.wien/wp-content/uploads/2025/08/20250813-Balance-Sturzpraevention-e1755074669533.jpg
ORGANIZER;CN="VHS Hietzing":MAILTO:hietzing@vhs.at
END:VEVENT
END:VCALENDAR