BEGIN:VCALENDAR
VERSION:2.0
PRODID:-//Wien für Senior:innen - ECPv6.15.17.1//NONSGML v1.0//EN
CALSCALE:GREGORIAN
METHOD:PUBLISH
X-WR-CALNAME:Wien für Senior:innen
X-ORIGINAL-URL:https://kalender.seniorinnen.wien
X-WR-CALDESC:Veranstaltungen für Wien für Senior:innen
REFRESH-INTERVAL;VALUE=DURATION:PT1H
X-Robots-Tag:noindex
X-PUBLISHED-TTL:PT1H
BEGIN:VTIMEZONE
TZID:Europe/Berlin
BEGIN:DAYLIGHT
TZOFFSETFROM:+0100
TZOFFSETTO:+0200
TZNAME:CEST
DTSTART:20230326T010000
END:DAYLIGHT
BEGIN:STANDARD
TZOFFSETFROM:+0200
TZOFFSETTO:+0100
TZNAME:CET
DTSTART:20231029T010000
END:STANDARD
BEGIN:DAYLIGHT
TZOFFSETFROM:+0100
TZOFFSETTO:+0200
TZNAME:CEST
DTSTART:20240331T010000
END:DAYLIGHT
BEGIN:STANDARD
TZOFFSETFROM:+0200
TZOFFSETTO:+0100
TZNAME:CET
DTSTART:20241027T010000
END:STANDARD
BEGIN:DAYLIGHT
TZOFFSETFROM:+0100
TZOFFSETTO:+0200
TZNAME:CEST
DTSTART:20250330T010000
END:DAYLIGHT
BEGIN:STANDARD
TZOFFSETFROM:+0200
TZOFFSETTO:+0100
TZNAME:CET
DTSTART:20251026T010000
END:STANDARD
END:VTIMEZONE
BEGIN:VEVENT
DTSTART;TZID=Europe/Berlin:20241018T100000
DTEND;TZID=Europe/Berlin:20241018T113000
DTSTAMP:20260420T220012
CREATED:20240822T084816Z
LAST-MODIFIED:20240822T115714Z
UID:6107-1729245600-1729251000@kalender.seniorinnen.wien
SUMMARY:Fit und gesund im Alter: Die Bedeutung einer ausgewogenen Ernährung
DESCRIPTION:Sie wollen Ihre Vitalität erhalten und altersbedingten Gesundheitsproblemen vorbeugen? \nIn einem informativen und interaktiven Vortrag gibt Ihnen unsere Expertin praktische Tipps\, wie Sie Ihre Ernährung anpassen können – ohne\, dass der Genuss zu kurz kommt. Auch die Bedeutung regelmäßiger Bewegung in Kombination mit einer gesunden Ernährung wird diskutiert. \n  \nAnmeldung: bis 11.10.2024\, max. Teilnehmer:innen: 20 \nTel.: 01 89 174 117 000 \nE-Mail: hernals@vhs.at \nWebsite: www.vhs.at/hernals
URL:https://kalender.seniorinnen.wien/event/fit-und-gesund-im-alter-die-bedeutung-einer-ausgewogenen-ernaehrung/
LOCATION:VHS Wien 17\, Rötzergasse 15\, Wien\, 1170
CATEGORIES:Bildung,Fit und Gesund,Information,Monat der Senior:innen
ATTACH;FMTTYPE=image/jpeg:https://kalender.seniorinnen.wien/wp-content/uploads/2024/01/salad-2756467_1920.jpg
ORGANIZER;CN="VHS Hernals":MAILTO:hernals@vhs.at
END:VEVENT
END:VCALENDAR