BEGIN:VCALENDAR
VERSION:2.0
PRODID:-//Wien für Senior:innen - ECPv6.15.17.1//NONSGML v1.0//EN
CALSCALE:GREGORIAN
METHOD:PUBLISH
X-ORIGINAL-URL:https://kalender.seniorinnen.wien
X-WR-CALDESC:Veranstaltungen für Wien für Senior:innen
REFRESH-INTERVAL;VALUE=DURATION:PT1H
X-Robots-Tag:noindex
X-PUBLISHED-TTL:PT1H
BEGIN:VTIMEZONE
TZID:Europe/Berlin
BEGIN:DAYLIGHT
TZOFFSETFROM:+0100
TZOFFSETTO:+0200
TZNAME:CEST
DTSTART:20220327T010000
END:DAYLIGHT
BEGIN:STANDARD
TZOFFSETFROM:+0200
TZOFFSETTO:+0100
TZNAME:CET
DTSTART:20221030T010000
END:STANDARD
BEGIN:DAYLIGHT
TZOFFSETFROM:+0100
TZOFFSETTO:+0200
TZNAME:CEST
DTSTART:20230326T010000
END:DAYLIGHT
BEGIN:STANDARD
TZOFFSETFROM:+0200
TZOFFSETTO:+0100
TZNAME:CET
DTSTART:20231029T010000
END:STANDARD
BEGIN:DAYLIGHT
TZOFFSETFROM:+0100
TZOFFSETTO:+0200
TZNAME:CEST
DTSTART:20240331T010000
END:DAYLIGHT
BEGIN:STANDARD
TZOFFSETFROM:+0200
TZOFFSETTO:+0100
TZNAME:CET
DTSTART:20241027T010000
END:STANDARD
BEGIN:DAYLIGHT
TZOFFSETFROM:+0100
TZOFFSETTO:+0200
TZNAME:CEST
DTSTART:20250330T010000
END:DAYLIGHT
BEGIN:STANDARD
TZOFFSETFROM:+0200
TZOFFSETTO:+0100
TZNAME:CET
DTSTART:20251026T010000
END:STANDARD
BEGIN:DAYLIGHT
TZOFFSETFROM:+0100
TZOFFSETTO:+0200
TZNAME:CEST
DTSTART:20260329T010000
END:DAYLIGHT
BEGIN:STANDARD
TZOFFSETFROM:+0200
TZOFFSETTO:+0100
TZNAME:CET
DTSTART:20261025T010000
END:STANDARD
END:VTIMEZONE
BEGIN:VEVENT
DTSTART;TZID=Europe/Berlin:20251008T140000
DTEND;TZID=Europe/Berlin:20251008T150000
DTSTAMP:20260423T121634
CREATED:20250902T072647Z
LAST-MODIFIED:20250925T070809Z
UID:8177-1759932000-1759935600@kalender.seniorinnen.wien
SUMMARY:AUSGEBUCHT Cézanne\, Monet\, Renoir - Französischer Impressionismus im Belvedere
DESCRIPTION:Die Sammlung des Schweizer Museums Langmatt ist zu Gast im Belvedere. Sie wurde von dem Industriellen-Ehepaar Sidney und Jenny Brown angelegt und besteht aus 50 Gemälden des französischen Impressionismus. Lernen Sie in dieser Führung herausragende Werke aus der Sammlung kennen. \nMax. 20 Teilnehmer:innen \nAnmeldung bis 8.10. \nwww.belvedere.at/programm \nFoto: Stiftung Langmatt
URL:https://kalender.seniorinnen.wien/event/cezanne-monet-renoir-franzoesischer-impressionismus-im-belvedere/
LOCATION:Unteres Belvedere\, Rennweg 6\, Wien\, 1030
CATEGORIES:Kunst und Kultur,Monat der Senior:innen
ATTACH;FMTTYPE=image/jpeg:https://kalender.seniorinnen.wien/wp-content/uploads/2025/08/Monet_Museum-Langmatt-e1756296611319.jpg
END:VEVENT
BEGIN:VEVENT
DTSTART;TZID=Europe/Berlin:20231004T110000
DTEND;TZID=Europe/Berlin:20231004T120000
DTSTAMP:20260423T121634
CREATED:20230811T062016Z
LAST-MODIFIED:20230811T142841Z
UID:3710-1696417200-1696420800@kalender.seniorinnen.wien
SUMMARY:Monat der Senior:innen: Rundgang für Menschen mit Demenz oder Vergesslichkeit: Das Leben der Louise
DESCRIPTION:Als Künstlerin geht Louise Bourgeois unbeirrt ihren Weg\, zeigt Rollenbilder und gesellschaftliche Normen auf. Sie widerspricht\, irritiert\, fasziniert. Ihre Kunst hat das Potenzial\, uns direkt zu berühren. \nIn einem Rundgang für Menschen mit Demenz oder Vergesslichkeit und ihrer Begleitung begegnen wir Louise\, die 98 Jahre alt wurde\, in ihren kraftvollen Werken. \nTeilnahmekosten: 4 € inkl. angeleiteter einstündiger Rundgang (mit Sitzgelegenheiten); Die Teilnehmer:innenzahl ist auf zehn beschränkt. Bitte melden Sie sich ab 1.9. bis 4.10.2023 an unter wwww.belvedere.at/programm. \nSollten Sie nicht an der Veranstaltung teilnehmen können\, sagen Sie bitte ab. So haben Interessierte die Möglichkeit\, Ihren Platz einzunehmen. \nAuf vielen Veranstaltungen wird fotografiert und/oder gefilmt. Mit der Teilnahme an einer Veranstaltung stimmen Sie einer möglichen Veröffentlichung auf Websites\, Social Media-Kanälen\, Print- und Onlinemedien und dergleichen zu. \n(c) Ouriel Morgensztern
URL:https://kalender.seniorinnen.wien/event/monat-der-seniorinnen-rundgang-fuer-menschen-mit-demenz-oder-vergesslichkeit-das-leben-der-louise/
LOCATION:Unteres Belvedere\, Rennweg 6\, Wien\, 1030
CATEGORIES:Monat der Senior:innen
ATTACH;FMTTYPE=image/jpeg:https://kalender.seniorinnen.wien/wp-content/uploads/2023/08/115_20220924_Belvedere_Demenz_0B3A0826_FINALS_HR-scaled.jpg
END:VEVENT
BEGIN:VEVENT
DTSTART;TZID=Europe/Berlin:20230217T100000
DTEND;TZID=Europe/Berlin:20230217T170000
DTSTAMP:20260423T121634
CREATED:20230203T083233Z
LAST-MODIFIED:20230203T083446Z
UID:3305-1676628000-1676653200@kalender.seniorinnen.wien
SUMMARY:Inklusiver Tag zum Welttag der Fremdenführer:innen
DESCRIPTION:Der 34. Welttag der Wiener Fremdenführer:innen ist inklusiv und hält ein vielfältiges Programm für alle Besucher:innen bereit. Das Vermittlungsangebot im Unteren Belvedere richtet sich an Menschen mit Demenz oder Vergesslichkeit und bietet multisensorische Rundgänge für sehbeeinträchtige und blinde Interessierte.\nGehörlose Besucher:innen werden bei der Kunstbetrachtung durch Gebärdensprachdolmetscher:innen unterstützt. Neben Rundgängen in der Jubiläumsausstellung „Das Belvedere. 300 Jahre Ort der Kunst“ erwartet Sie eine Lesung und eine Präsentation historischer Musikinstrumente. \nProgramm: \n\n10 bis 12 Uhr\nTeilhabeorientierte Rundgänge für Menschen mit Demenz oder Vergesslichkeit und ihre Begleitpersonen\n10 bis 12 Uhr\nRundgänge für gehörlose Besucher*innen mit Gebärdensprachdolmetscher*in\n13 bis 17 Uhr\nMultisensorische Rundgänge für blinde und sehschwache Besucher*innen mit ihren Assistenzpersonen\n\nDie Teilnahme ist kostenlos\, eine Anmeldung ist erforderlich. \nFür blinde und sehschwache Personen unter: empfang@hilfsgemeinschaft.at oder p.grabmayr@gmail.com\nFür gehörlose Personen\, Menschen mit Demenz oder Vergesslichkeit unter: p.grabmayr@gmail.com \nDas Belvedere Museum Wien ist Mitglied der Plattform Demenzfreundliches Wien. \n(c) Lukas Schaller/ Belvedere\, Wien
URL:https://kalender.seniorinnen.wien/event/inklusiver-tag-zum-welttag-der-fremdenfuehrerinnen/
LOCATION:Unteres Belvedere\, Rennweg 6\, Wien\, 1030
CATEGORIES:Barrierefrei,Demenz,Kunst und Kultur
ATTACH;FMTTYPE=image/jpeg:https://kalender.seniorinnen.wien/wp-content/uploads/2023/02/DSC1669-Foto-©-Lukas-Schaller.jpg
END:VEVENT
END:VCALENDAR