BEGIN:VCALENDAR
VERSION:2.0
PRODID:-//Wien für Senior:innen - ECPv6.15.17.1//NONSGML v1.0//EN
CALSCALE:GREGORIAN
METHOD:PUBLISH
X-ORIGINAL-URL:https://kalender.seniorinnen.wien
X-WR-CALDESC:Veranstaltungen für Wien für Senior:innen
REFRESH-INTERVAL;VALUE=DURATION:PT1H
X-Robots-Tag:noindex
X-PUBLISHED-TTL:PT1H
BEGIN:VTIMEZONE
TZID:Europe/Berlin
BEGIN:DAYLIGHT
TZOFFSETFROM:+0100
TZOFFSETTO:+0200
TZNAME:CEST
DTSTART:20220327T010000
END:DAYLIGHT
BEGIN:STANDARD
TZOFFSETFROM:+0200
TZOFFSETTO:+0100
TZNAME:CET
DTSTART:20221030T010000
END:STANDARD
BEGIN:DAYLIGHT
TZOFFSETFROM:+0100
TZOFFSETTO:+0200
TZNAME:CEST
DTSTART:20230326T010000
END:DAYLIGHT
BEGIN:STANDARD
TZOFFSETFROM:+0200
TZOFFSETTO:+0100
TZNAME:CET
DTSTART:20231029T010000
END:STANDARD
BEGIN:DAYLIGHT
TZOFFSETFROM:+0100
TZOFFSETTO:+0200
TZNAME:CEST
DTSTART:20240331T010000
END:DAYLIGHT
BEGIN:STANDARD
TZOFFSETFROM:+0200
TZOFFSETTO:+0100
TZNAME:CET
DTSTART:20241027T010000
END:STANDARD
END:VTIMEZONE
BEGIN:VEVENT
DTSTART;TZID=Europe/Berlin:20231207T093000
DTEND;TZID=Europe/Berlin:20231207T130000
DTSTAMP:20260420T164459
CREATED:20231116T093924Z
LAST-MODIFIED:20231116T093924Z
UID:4581-1701941400-1701954000@kalender.seniorinnen.wien
SUMMARY:Aktive Nachbarschaft stoppt Gewalt an Frauen im Alter
DESCRIPTION:Multiplikator:innen-Schulungen \nIn Österreich ist jede dritte Frau ab dem 15. Lebensjahr zumindest einmal in ihrem Leben von geschlechtsspezifischer Gewalt betroffen. \nÄltere Frauen sind einem besonders hohen Gewaltrisiko ausgesetzt. 2022 waren 35% der Opfer von Femiziden über 60 Jahre alt. Hinzu kommen bei dieser Altersgruppe vermehrt Formen von Machtmissbrauch wie Vernachlässigung\, Entmündigung oder finanzielle Gewalt. \nFolgende Inhalte werden behandelt: Gewaltformen bei Frauen im Alter\, Erkennen von Gewalt\, Herausforderungen\, Handlungsmöglichkeiten\, Zivilcourage und rechtliche Grundlagen. \nBitte um Anmeldung unter Angabe des gewählten Termins an: office@stop-partnergewalt.at  \nWas ist StoP? \n„StoP-Stadtteile ohne Partnergewalt“ ist ein Projekt zur Stärkung und Entwicklung nachbarschaftlicher Initiativen\, die gemeinsam gegen Gewalt in der Familie aktiv werden und das Thema auf kreative Weise in die Stadtöffentlichkeit holen. Wir wollen gute Nachbarschaften und ein gewaltfreies Miteinander entwickeln und möglichst viele Menschen gewinnen\, dabei mitzuwirken. Jede*r Einzelne zählt. Jede*r kann einen Beitrag leisten. \nWas sind StoP-Frauentische? \n“StoP-Stadtteile ohne Partnergewalt” ist ein Nachbarschaftsprojekt mit dem Ziel häusliche Gewalt und Partnergewalt in der unmittelbaren Umgebung zu verhindern. Die StoP Frauentische sind das Herzstück von StoP\, wo Nachbar*innen aktiv mitwirken können. In Gesprächsrunden tauschen wir uns zu den Themen Empowerment\, Nachbarschaft\, Zivilcourage und häusliche Gewalt aus. Jedes Mal widmen wir uns einem anderen Themenschwerpunkt. Eure Fragen\, Ideen und Vorschläge sind jederzeit willkommen. Gemeinsam überlegen wir uns Handlungsmöglichkeiten\, um die Nachbarschaft zu informieren und zu bestärken sich klar gegen Partnergewalt zu positionieren.
URL:https://kalender.seniorinnen.wien/event/aktive-nachbarschaft-stoppt-gewalt-an-frauen-im-alter-4/
LOCATION:Amtshaus Wieden\, Favoritenstraße 18\, Wien\, 1040
END:VEVENT
BEGIN:VEVENT
DTSTART;TZID=Europe/Berlin:20231204T160000
DTEND;TZID=Europe/Berlin:20231204T200000
DTSTAMP:20260420T164459
CREATED:20231116T093908Z
LAST-MODIFIED:20231116T093908Z
UID:4577-1701705600-1701720000@kalender.seniorinnen.wien
SUMMARY:Aktive Nachbarschaft stoppt Gewalt an Frauen im Alter
DESCRIPTION:Multiplikator:innen-Schulungen \nÖsterreich ist jede dritte Frau ab dem 15. Lebensjahr zumindest einmal in ihrem Leben von geschlechtsspezifischer Gewalt betroffen. \nÄltere Frauen sind einem besonders hohen Gewaltrisiko ausgesetzt. 2022 waren 35% der Opfer von Femiziden über 60 Jahre alt. Hinzu kommen bei dieser Altersgruppe vermehrt Formen von Machtmissbrauch wie Vernachlässigung\, Entmündigung oder finanzielle Gewalt. \nFolgende Inhalte werden behandelt: Gewaltformen bei Frauen im Alter\, Erkennen von Gewalt\, Herausforderungen\, Handlungsmöglichkeiten\, Zivilcourage und rechtliche Grundlagen. \nBitte um Anmeldung inkl. Angabe des gewählten Termins an: office@stop-partnergewalt.at  \nWas ist StoP? \n„StoP-Stadtteile ohne Partnergewalt“ ist ein Projekt zur Stärkung und Entwicklung nachbarschaftlicher Initiativen\, die gemeinsam gegen Gewalt in der Familie aktiv werden und das Thema auf kreative Weise in die Stadtöffentlichkeit holen. Wir wollen gute Nachbarschaften und ein gewaltfreies Miteinander entwickeln und möglichst viele Menschen gewinnen\, dabei mitzuwirken. Jede*r Einzelne zählt. Jede*r kann einen Beitrag leisten. \nWas sind StoP-Frauentische? \n“StoP-Stadtteile ohne Partnergewalt” ist ein Nachbarschaftsprojekt mit dem Ziel häusliche Gewalt und Partnergewalt in der unmittelbaren Umgebung zu verhindern. Die StoP Frauentische sind das Herzstück von StoP\, wo Nachbar*innen aktiv mitwirken können. In Gesprächsrunden tauschen wir uns zu den Themen Empowerment\, Nachbarschaft\, Zivilcourage und häusliche Gewalt aus. Jedes Mal widmen wir uns einem anderen Themenschwerpunkt. Eure Fragen\, Ideen und Vorschläge sind jederzeit willkommen. Gemeinsam überlegen wir uns Handlungsmöglichkeiten\, um die Nachbarschaft zu informieren und zu bestärken sich klar gegen Partnergewalt zu positionieren.
URL:https://kalender.seniorinnen.wien/event/aktive-nachbarschaft-stoppt-gewalt-an-frauen-im-alter-3/
LOCATION:StoP Büro\, Favoritenstraße 29-31\, Wien\, 1040
END:VEVENT
BEGIN:VEVENT
DTSTART;TZID=Europe/Berlin:20231204T093000
DTEND;TZID=Europe/Berlin:20231204T133000
DTSTAMP:20260420T164459
CREATED:20231107T151751Z
LAST-MODIFIED:20231107T153142Z
UID:4574-1701682200-1701696600@kalender.seniorinnen.wien
SUMMARY:Aktive Nachbarschaft stoppt Gewalt an Frauen im Alter
DESCRIPTION:Multiplikator:innen-Schulungen \nIn Österreich ist jede dritte Frau ab dem 15. Lebensjahr zumindest einmal in ihrem Leben von geschlechtsspezifischer Gewalt betroffen. \nÄltere Frauen sind einem besonders hohen Gewaltrisiko ausgesetzt. 2022 waren 35% der Opfer von Femiziden über 60 Jahre alt. Hinzu kommen bei dieser Altersgruppe vermehrt Formen von Machtmissbrauch wie Vernachlässigung\, Entmündigung oder finanzielle Gewalt. \nFolgende Inhalte werden behandelt: Gewaltformen bei Frauen im Alter\, Erkennen von Gewalt\, Herausforderungen\, Handlungsmöglichkeiten\, Zivilcourage und rechtliche Grundlagen. \nBitte um Anmeldung inkl. Angabe des gewählten Termins an: office@stop-partnergewalt.at  \nWas ist StoP? \n„StoP-Stadtteile ohne Partnergewalt“ ist ein Projekt zur Stärkung und Entwicklung nachbarschaftlicher Initiativen\, die gemeinsam gegen Gewalt in der Familie aktiv werden und das Thema auf kreative Weise in die Stadtöffentlichkeit holen. Wir wollen gute Nachbarschaften und ein gewaltfreies Miteinander entwickeln und möglichst viele Menschen gewinnen\, dabei mitzuwirken. Jede*r Einzelne zählt. Jede*r kann einen Beitrag leisten. \nWas sind StoP-Frauentische? \n“StoP-Stadtteile ohne Partnergewalt” ist ein Nachbarschaftsprojekt mit dem Ziel häusliche Gewalt und Partnergewalt in der unmittelbaren Umgebung zu verhindern. Die StoP Frauentische sind das Herzstück von StoP\, wo Nachbar*innen aktiv mitwirken können. In Gesprächsrunden tauschen wir uns zu den Themen Empowerment\, Nachbarschaft\, Zivilcourage und häusliche Gewalt aus. Jedes Mal widmen wir uns einem anderen Themenschwerpunkt. Eure Fragen\, Ideen und Vorschläge sind jederzeit willkommen. Gemeinsam überlegen wir uns Handlungsmöglichkeiten\, um die Nachbarschaft zu informieren und zu bestärken sich klar gegen Partnergewalt zu positionieren.
URL:https://kalender.seniorinnen.wien/event/aktive-nachbarschaft-stoppt-gewalt-an-frauen-im-alter-2/
LOCATION:KWP – Haus Penzing\, Dreyhausenstraße 29\, Wien\, 1140
END:VEVENT
BEGIN:VEVENT
DTSTART;TZID=Europe/Berlin:20231129T133000
DTEND;TZID=Europe/Berlin:20231129T173000
DTSTAMP:20260420T164459
CREATED:20231107T151552Z
LAST-MODIFIED:20231107T153213Z
UID:4570-1701264600-1701279000@kalender.seniorinnen.wien
SUMMARY:Aktive Nachbarschaft stoppt Gewalt an Frauen im Alter
DESCRIPTION:Multiplikator:innen-Schulungen \nIn Österreich ist jede dritte Frau ab dem 15. Lebensjahr zumindest einmal in ihrem Leben von geschlechtsspezifischer Gewalt betroffen. \nÄltere Frauen sind einem besonders hohen Gewaltrisiko ausgesetzt. 2022 waren 35% der Opfer von Femiziden über 60 Jahre alt. Hinzu kommen bei dieser Altersgruppe vermehrt Formen von Machtmissbrauch wie Vernachlässigung\, Entmündigung oder finanzielle Gewalt. \nFolgende Inhalte werden behandelt: Gewaltformen bei Frauen im Alter\, Erkennen von Gewalt\, Herausforderungen\, Handlungsmöglichkeiten\, Zivilcourage und rechtliche Grundlagen. \nBitte um Anmeldung inkl. Angabe des gewählten Termins an: office@stop-partnergewalt.at  \nWas ist StoP? \n„StoP-Stadtteile ohne Partnergewalt“ ist ein Projekt zur Stärkung und Entwicklung nachbarschaftlicher Initiativen\, die gemeinsam gegen Gewalt in der Familie aktiv werden und das Thema auf kreative Weise in die Stadtöffentlichkeit holen. Wir wollen gute Nachbarschaften und ein gewaltfreies Miteinander entwickeln und möglichst viele Menschen gewinnen\, dabei mitzuwirken. Jede*r Einzelne zählt. Jede*r kann einen Beitrag leisten. \nWas sind StoP-Frauentische? \n“StoP-Stadtteile ohne Partnergewalt” ist ein Nachbarschaftsprojekt mit dem Ziel häusliche Gewalt und Partnergewalt in der unmittelbaren Umgebung zu verhindern. Die StoP Frauentische sind das Herzstück von StoP\, wo Nachbar*innen aktiv mitwirken können. In Gesprächsrunden tauschen wir uns zu den Themen Empowerment\, Nachbarschaft\, Zivilcourage und häusliche Gewalt aus. Jedes Mal widmen wir uns einem anderen Themenschwerpunkt. Eure Fragen\, Ideen und Vorschläge sind jederzeit willkommen. Gemeinsam überlegen wir uns Handlungsmöglichkeiten\, um die Nachbarschaft zu informieren und zu bestärken sich klar gegen Partnergewalt zu positionieren.
URL:https://kalender.seniorinnen.wien/event/aktive-nachbarschaft-stoppt-gewalt-an-frauen-im-alter/
LOCATION:Agenda Landstraße\, Neulinggasse 34-36\, Wien\, 1030
END:VEVENT
BEGIN:VEVENT
DTSTART;TZID=Europe/Berlin:20231116T093000
DTEND;TZID=Europe/Berlin:20231116T103000
DTSTAMP:20260420T164459
CREATED:20231116T093854Z
LAST-MODIFIED:20231116T093854Z
UID:4588-1700127000-1700130600@kalender.seniorinnen.wien
SUMMARY:Frauentisch Meidling: "Gewalt an älteren Frauen - Filmvorführung & Gespräch"
DESCRIPTION:Wir werden uns gemeinsam den Kurzfilm „Unsichtbare Gewalt an älteren Frauen“ anschauen. \nErzählt werden fünf Geschichten von Frauen\, die verschiedene Formen von Gewalt erlebt haben. Danach sprechen wir über den Film und das Thema Gewalt an älteren Frauen. \nEs gibt im Veranstaltungsraum leider keine Heizung\, aber wärmenden Tee\, Kaffee & Kuchen!
URL:https://kalender.seniorinnen.wien/event/frauentisch-meidling-gewalt-an-aelteren-frauen-filmvorfuehrung-gespraech/
LOCATION:Stadtraum 15 der Gebietsbetreuung Süd\, Rustensteg 1\, Wien\, 1150
END:VEVENT
END:VCALENDAR