BEGIN:VCALENDAR
VERSION:2.0
PRODID:-//Wien für Senior:innen - ECPv6.15.17.1//NONSGML v1.0//EN
CALSCALE:GREGORIAN
METHOD:PUBLISH
X-ORIGINAL-URL:https://kalender.seniorinnen.wien
X-WR-CALDESC:Veranstaltungen für Wien für Senior:innen
REFRESH-INTERVAL;VALUE=DURATION:PT1H
X-Robots-Tag:noindex
X-PUBLISHED-TTL:PT1H
BEGIN:VTIMEZONE
TZID:Europe/Vienna
BEGIN:DAYLIGHT
TZOFFSETFROM:+0100
TZOFFSETTO:+0200
TZNAME:CEST
DTSTART:20220327T010000
END:DAYLIGHT
BEGIN:STANDARD
TZOFFSETFROM:+0200
TZOFFSETTO:+0100
TZNAME:CET
DTSTART:20221030T010000
END:STANDARD
BEGIN:DAYLIGHT
TZOFFSETFROM:+0100
TZOFFSETTO:+0200
TZNAME:CEST
DTSTART:20230326T010000
END:DAYLIGHT
BEGIN:STANDARD
TZOFFSETFROM:+0200
TZOFFSETTO:+0100
TZNAME:CET
DTSTART:20231029T010000
END:STANDARD
BEGIN:DAYLIGHT
TZOFFSETFROM:+0100
TZOFFSETTO:+0200
TZNAME:CEST
DTSTART:20240331T010000
END:DAYLIGHT
BEGIN:STANDARD
TZOFFSETFROM:+0200
TZOFFSETTO:+0100
TZNAME:CET
DTSTART:20241027T010000
END:STANDARD
END:VTIMEZONE
BEGIN:VEVENT
DTSTART;TZID=Europe/Vienna:20231010T100000
DTEND;TZID=Europe/Vienna:20231010T120000
DTSTAMP:20260425T175636
CREATED:20230811T102811Z
LAST-MODIFIED:20230811T113559Z
UID:3830-1696932000-1696939200@kalender.seniorinnen.wien
SUMMARY:Monat der Senior:innen: Besichtigung EU-Grundrechteagentur
DESCRIPTION:Der vierte Bezirk widmet sich in Kooperation mit dem Menschenrechtsbüro der Stadt Wien der Bedeutung der Menschenrechte in unserem Leben. Gemeinsam mit Bezirksvorsteherin\, Lea Halbwidl (Bild li.)\, und der Menschenrechtsbeauftragten\,\nShams Asadi (Bild re.)\, besuchen Sie die EU-Grundrechteagentur\, wo es einen Einblick in die Aufgaben und Tätigkeiten der Agentur und ihrer Projekte gibt\, etwa zu\nder Herausforderung des Älterwerdens angesichts der zunehmenden Digitalisierung. \nAchtung! Zutritt zur EU-Grundrechteagentur erfolgt erst nach Metalldetektor-Scan sowie durch Vorlage eines Identitätsnachweises. \nBitte melden Sie sich ab 1.9. bis 26.9.2023 an unter Tel. 01/4000 04110 oder unter E-Mail post@bv04.wien.gv.at. \nSollten Sie nicht an der Veranstaltung teilnehmen können\, sagen Sie bitte ab. So haben Interessierte die Möglichkeit\, Ihren Platz einzunehmen. \nAuf vielen Veranstaltungen wird fotografiert und/oder gefilmt. Mit der Teilnahme an einer Veranstaltung stimmen Sie einer möglichen Veröffentlichung auf Websites\, Social Media-Kanälen\, Print- und Onlinemedien und dergleichen zu. \n(c) Stadt Wien (li.) Bernadette Reiter (re.)
URL:https://kalender.seniorinnen.wien/event/besichtigung-eu-grundrechteagentur/
LOCATION:European Union Agency for Fundamental Rights\, Schwarzenbergplatz 11\, Wien\, Wien\, 1040
CATEGORIES:Monat der Senior:innen
END:VEVENT
END:VCALENDAR