BEGIN:VCALENDAR
VERSION:2.0
PRODID:-//Wien für Senior:innen - ECPv6.15.17.1//NONSGML v1.0//EN
CALSCALE:GREGORIAN
METHOD:PUBLISH
X-WR-CALNAME:Wien für Senior:innen
X-ORIGINAL-URL:https://kalender.seniorinnen.wien
X-WR-CALDESC:Veranstaltungen für Wien für Senior:innen
REFRESH-INTERVAL;VALUE=DURATION:PT1H
X-Robots-Tag:noindex
X-PUBLISHED-TTL:PT1H
BEGIN:VTIMEZONE
TZID:Europe/Berlin
BEGIN:DAYLIGHT
TZOFFSETFROM:+0100
TZOFFSETTO:+0200
TZNAME:CEST
DTSTART:20230326T010000
END:DAYLIGHT
BEGIN:STANDARD
TZOFFSETFROM:+0200
TZOFFSETTO:+0100
TZNAME:CET
DTSTART:20231029T010000
END:STANDARD
BEGIN:DAYLIGHT
TZOFFSETFROM:+0100
TZOFFSETTO:+0200
TZNAME:CEST
DTSTART:20240331T010000
END:DAYLIGHT
BEGIN:STANDARD
TZOFFSETFROM:+0200
TZOFFSETTO:+0100
TZNAME:CET
DTSTART:20241027T010000
END:STANDARD
BEGIN:DAYLIGHT
TZOFFSETFROM:+0100
TZOFFSETTO:+0200
TZNAME:CEST
DTSTART:20250330T010000
END:DAYLIGHT
BEGIN:STANDARD
TZOFFSETFROM:+0200
TZOFFSETTO:+0100
TZNAME:CET
DTSTART:20251026T010000
END:STANDARD
END:VTIMEZONE
BEGIN:VEVENT
DTSTART;TZID=Europe/Berlin:20241028T183000
DTEND;TZID=Europe/Berlin:20241028T193000
DTSTAMP:20260420T204301
CREATED:20240830T120530Z
LAST-MODIFIED:20240830T120530Z
UID:6382-1730140200-1730143800@kalender.seniorinnen.wien
SUMMARY:Oktober in Bewegung: Wirbelsäulengymnastik
DESCRIPTION:Die Sportunion Währing lädt zur Wirbelsäulengymnastik jeden Montag im Oktober ein.
URL:https://kalender.seniorinnen.wien/event/oktober-in-bewegung-wirbelsaeulengymnastik/2024-10-28/
LOCATION:Sportunion Währing\, Schopenhauerstraße 79/1. Stock\, Wien\, Wien\, 1180
CATEGORIES:Fit und Gesund,Monat der Senior:innen
ATTACH;FMTTYPE=image/jpeg:https://kalender.seniorinnen.wien/wp-content/uploads/2024/08/yoga-4650150_1280-e1757937933698.jpg
END:VEVENT
BEGIN:VEVENT
DTSTART;TZID=Europe/Berlin:20241021T183000
DTEND;TZID=Europe/Berlin:20241021T193000
DTSTAMP:20260420T204301
CREATED:20240830T120529Z
LAST-MODIFIED:20240830T120529Z
UID:6381-1729535400-1729539000@kalender.seniorinnen.wien
SUMMARY:Oktober in Bewegung: Wirbelsäulengymnastik
DESCRIPTION:Die Sportunion Währing lädt zur Wirbelsäulengymnastik jeden Montag im Oktober ein.
URL:https://kalender.seniorinnen.wien/event/oktober-in-bewegung-wirbelsaeulengymnastik/2024-10-21/
LOCATION:Sportunion Währing\, Schopenhauerstraße 79/1. Stock\, Wien\, Wien\, 1180
CATEGORIES:Fit und Gesund,Monat der Senior:innen
ATTACH;FMTTYPE=image/jpeg:https://kalender.seniorinnen.wien/wp-content/uploads/2024/08/yoga-4650150_1280-e1757937933698.jpg
END:VEVENT
BEGIN:VEVENT
DTSTART;TZID=Europe/Berlin:20241014T183000
DTEND;TZID=Europe/Berlin:20241014T193000
DTSTAMP:20260420T204301
CREATED:20240830T120528Z
LAST-MODIFIED:20240830T120528Z
UID:6380-1728930600-1728934200@kalender.seniorinnen.wien
SUMMARY:Oktober in Bewegung: Wirbelsäulengymnastik
DESCRIPTION:Die Sportunion Währing lädt zur Wirbelsäulengymnastik jeden Montag im Oktober ein.
URL:https://kalender.seniorinnen.wien/event/oktober-in-bewegung-wirbelsaeulengymnastik/2024-10-14/
LOCATION:Sportunion Währing\, Schopenhauerstraße 79/1. Stock\, Wien\, Wien\, 1180
CATEGORIES:Fit und Gesund,Monat der Senior:innen
ATTACH;FMTTYPE=image/jpeg:https://kalender.seniorinnen.wien/wp-content/uploads/2024/08/yoga-4650150_1280-e1757937933698.jpg
END:VEVENT
BEGIN:VEVENT
DTSTART;TZID=Europe/Berlin:20241007T183000
DTEND;TZID=Europe/Berlin:20241007T193000
DTSTAMP:20260420T204301
CREATED:20240830T120528Z
LAST-MODIFIED:20240830T120528Z
UID:6375-1728325800-1728329400@kalender.seniorinnen.wien
SUMMARY:Oktober in Bewegung: Wirbelsäulengymnastik
DESCRIPTION:Die Sportunion Währing lädt zur Wirbelsäulengymnastik jeden Montag im Oktober ein.
URL:https://kalender.seniorinnen.wien/event/oktober-in-bewegung-wirbelsaeulengymnastik/2024-10-07/
LOCATION:Sportunion Währing\, Schopenhauerstraße 79/1. Stock\, Wien\, Wien\, 1180
CATEGORIES:Fit und Gesund,Monat der Senior:innen
ATTACH;FMTTYPE=image/jpeg:https://kalender.seniorinnen.wien/wp-content/uploads/2024/08/yoga-4650150_1280-e1757937933698.jpg
END:VEVENT
END:VCALENDAR