BEGIN:VCALENDAR
VERSION:2.0
PRODID:-//Wien für Senior:innen - ECPv6.15.17.1//NONSGML v1.0//EN
CALSCALE:GREGORIAN
METHOD:PUBLISH
X-ORIGINAL-URL:https://kalender.seniorinnen.wien
X-WR-CALDESC:Veranstaltungen für Wien für Senior:innen
REFRESH-INTERVAL;VALUE=DURATION:PT1H
X-Robots-Tag:noindex
X-PUBLISHED-TTL:PT1H
BEGIN:VTIMEZONE
TZID:Europe/Berlin
BEGIN:DAYLIGHT
TZOFFSETFROM:+0100
TZOFFSETTO:+0200
TZNAME:CEST
DTSTART:20210328T010000
END:DAYLIGHT
BEGIN:STANDARD
TZOFFSETFROM:+0200
TZOFFSETTO:+0100
TZNAME:CET
DTSTART:20211031T010000
END:STANDARD
BEGIN:DAYLIGHT
TZOFFSETFROM:+0100
TZOFFSETTO:+0200
TZNAME:CEST
DTSTART:20220327T010000
END:DAYLIGHT
BEGIN:STANDARD
TZOFFSETFROM:+0200
TZOFFSETTO:+0100
TZNAME:CET
DTSTART:20221030T010000
END:STANDARD
BEGIN:DAYLIGHT
TZOFFSETFROM:+0100
TZOFFSETTO:+0200
TZNAME:CEST
DTSTART:20230326T010000
END:DAYLIGHT
BEGIN:STANDARD
TZOFFSETFROM:+0200
TZOFFSETTO:+0100
TZNAME:CET
DTSTART:20231029T010000
END:STANDARD
BEGIN:DAYLIGHT
TZOFFSETFROM:+0100
TZOFFSETTO:+0200
TZNAME:CEST
DTSTART:20240331T010000
END:DAYLIGHT
BEGIN:STANDARD
TZOFFSETFROM:+0200
TZOFFSETTO:+0100
TZNAME:CET
DTSTART:20241027T010000
END:STANDARD
BEGIN:DAYLIGHT
TZOFFSETFROM:+0100
TZOFFSETTO:+0200
TZNAME:CEST
DTSTART:20250330T010000
END:DAYLIGHT
BEGIN:STANDARD
TZOFFSETFROM:+0200
TZOFFSETTO:+0100
TZNAME:CET
DTSTART:20251026T010000
END:STANDARD
BEGIN:DAYLIGHT
TZOFFSETFROM:+0100
TZOFFSETTO:+0200
TZNAME:CEST
DTSTART:20260329T010000
END:DAYLIGHT
BEGIN:STANDARD
TZOFFSETFROM:+0200
TZOFFSETTO:+0100
TZNAME:CET
DTSTART:20261025T010000
END:STANDARD
END:VTIMEZONE
BEGIN:VEVENT
DTSTART;TZID=Europe/Berlin:20251006T140000
DTEND;TZID=Europe/Berlin:20251006T150000
DTSTAMP:20260420T204300
CREATED:20250831T230052Z
LAST-MODIFIED:20250827T094601Z
UID:8109-1759759200-1759762800@kalender.seniorinnen.wien
SUMMARY:Demenzfreundliche Führung im Rapideum
DESCRIPTION:In dieser knapp einstündigen Führung erhalten Menschen mit Demenz und ihre Begleitpersonen einen Einblick in die Geschichte des Sportklubs Rapid. Im Vereinsmuseum gibt’s demenzfreund-\nliche Informationen über den österreichischen Rekordmeister. „Bitte berühren“ lautet die Devise bei einem alten Fußball\, Trikots oder Fußballschuhen. Zum Abschluss erfolgt ein kurzer Blick in\ndas moderne Allianz Stadion. Während der barrierefreien Führung sind keine weiten Wege zu bewältigen. \nMax. 12 Teilnehmer:innen \nAnmeldung bis 30.9.:\nTel.: 0676 899 444 79\nE – Mail: schneps@skrapid.com \nFoto: SK Rapid
URL:https://kalender.seniorinnen.wien/event/demenzfreundliche-fuehrung-im-rapideum/
LOCATION:Rapideum\, Gerhard - Hanappi - Platz 1\, Wien\, Wien\, 1140\, Austria
CATEGORIES:Demenz,Monat der Senior:innen
ATTACH;FMTTYPE=image/jpeg:https://kalender.seniorinnen.wien/wp-content/uploads/2025/07/Rapideum_220-scaled-e1753969984200.jpg
END:VEVENT
BEGIN:VEVENT
DTSTART;TZID=Europe/Berlin:20221024T103000
DTEND;TZID=Europe/Berlin:20221024T120000
DTSTAMP:20260420T204300
CREATED:20220725T142616Z
LAST-MODIFIED:20220822T084354Z
UID:2866-1666607400-1666612800@kalender.seniorinnen.wien
SUMMARY:Monat der Senior:innen: Olé Olé Olé Olé!
DESCRIPTION:2016 eröffnete das Allianz Stadion des SK Rapid in Hütteldorf. Blicken Sie hinter die Kulissen eines modernes Stadions. Sie erhalten Einblicke in die Geschichte des Rekordmeisters und lernen den Medien- und den Spielerbereich sowie in die für VIPs reservierte Haupttribüne kennen. Kinder ausdrücklich willkommen! \nDie Teilnehmer:innenanzahl ist auf 15 Personen beschränkt. Melden Sie sich ab 01.09.2022 bis 9.10.2022 telefonisch über 01 /24 5 24 – FSW-Kund:innentelefon für die Veranstaltung an. \nSollten Sie trotz Anmeldung nicht an der Veranstaltung teilnehmen können\, sagen Sie bitte ab. So haben weitere Interessierte die Möglichkeit Ihren Platz einzunehmen. \nBitte beachten Sie: Aufgrund COVID-19 sind kurzfristige Änderungen oder auch Absagen möglich. Das Team der Senior:innenbeauftragten und die Veranstalter:innen bitten um Verständnis. \n(c) SK Rapid Wien
URL:https://kalender.seniorinnen.wien/event/monat-der-seniorinnen-ole-ole-ole-ole-2/
LOCATION:Allianz Stadion\, Gerhard-Hanappi-Platz 1\, Wien\, 1140
CATEGORIES:Monat der Senior:innen
END:VEVENT
BEGIN:VEVENT
DTSTART;TZID=Europe/Berlin:20221010T103000
DTEND;TZID=Europe/Berlin:20221010T120000
DTSTAMP:20260420T204300
CREATED:20220725T142401Z
LAST-MODIFIED:20220822T084356Z
UID:2861-1665397800-1665403200@kalender.seniorinnen.wien
SUMMARY:Monat der Senior:innen: Olé Olé Olé Olé!
DESCRIPTION:2016 eröffnete das Allianz Stadion des SK Rapid in Hütteldorf. Blicken Sie hinter die Kulissen eines modernes Stadions. Sie erhalten Einblicke in die Geschichte des Rekordmeisters und lernen den Medien- und den Spielerbereich sowie in die für VIPs reservierte Haupttribüne kennen. \n(Weiterer Termin: 24.10.2022\, hier sind Kinder ausdrücklich willkommen). \nDie Teilnehmer:innenanzahl ist auf 15 Personen beschränkt. Melden Sie sich ab 01.09.2022 bis 9.10.2022 telefonisch über 01 /24 5 24 – FSW-Kund:innentelefon für die Veranstaltung an. \nSollten Sie trotz Anmeldung nicht an der Veranstaltung teilnehmen können\, sagen Sie bitte ab. So haben weitere Interessierte die Möglichkeit Ihren Platz einzunehmen. \nBitte beachten Sie: Aufgrund COVID-19 sind kurzfristige Änderungen oder auch Absagen möglich. Das Team der Senior:innenbeauftragten und die Veranstalter:innen bitten um Verständnis. \n(c) SK Rapid Wien
URL:https://kalender.seniorinnen.wien/event/monat-der-seniorinnen-ole-ole-ole-ole/
LOCATION:Allianz Stadion\, Gerhard-Hanappi-Platz 1\, Wien\, 1140
CATEGORIES:Monat der Senior:innen
END:VEVENT
END:VCALENDAR