BEGIN:VCALENDAR
VERSION:2.0
PRODID:-//Wien für Senior:innen - ECPv6.15.17.1//NONSGML v1.0//EN
CALSCALE:GREGORIAN
METHOD:PUBLISH
X-WR-CALNAME:Wien für Senior:innen
X-ORIGINAL-URL:https://kalender.seniorinnen.wien
X-WR-CALDESC:Veranstaltungen für Wien für Senior:innen
REFRESH-INTERVAL;VALUE=DURATION:PT1H
X-Robots-Tag:noindex
X-PUBLISHED-TTL:PT1H
BEGIN:VTIMEZONE
TZID:Europe/Berlin
BEGIN:DAYLIGHT
TZOFFSETFROM:+0100
TZOFFSETTO:+0200
TZNAME:CEST
DTSTART:20250330T010000
END:DAYLIGHT
BEGIN:STANDARD
TZOFFSETFROM:+0200
TZOFFSETTO:+0100
TZNAME:CET
DTSTART:20251026T010000
END:STANDARD
BEGIN:DAYLIGHT
TZOFFSETFROM:+0100
TZOFFSETTO:+0200
TZNAME:CEST
DTSTART:20260329T010000
END:DAYLIGHT
BEGIN:STANDARD
TZOFFSETFROM:+0200
TZOFFSETTO:+0100
TZNAME:CET
DTSTART:20261025T010000
END:STANDARD
BEGIN:DAYLIGHT
TZOFFSETFROM:+0100
TZOFFSETTO:+0200
TZNAME:CEST
DTSTART:20270328T010000
END:DAYLIGHT
BEGIN:STANDARD
TZOFFSETFROM:+0200
TZOFFSETTO:+0100
TZNAME:CET
DTSTART:20271031T010000
END:STANDARD
END:VTIMEZONE
BEGIN:VEVENT
DTSTART;TZID=Europe/Berlin:20260501T103000
DTEND;TZID=Europe/Berlin:20260501T113000
DTSTAMP:20260423T105622
CREATED:20260109T075544Z
LAST-MODIFIED:20260109T080543Z
UID:11382-1777631400-1777635000@kalender.seniorinnen.wien
SUMMARY:Schloss Esterházy: Führung im Sitzen
DESCRIPTION:Diese Schlossführung im Sitzen ermöglicht allen Besucher:innen\, die Geschichte des Schlosses Esterházy in ihrer ganzen Tiefe und Vielfalt zu erleben – bequem und ohne Treppensteigen zwischen den Ausstellungsebenen. Sie eignet sich besonders für Menschen mit Bewegungseinschränkungen. \nDauer: ca. 60 Min.\nPreise und Öffnungszeiten: esterhazy.at/sitzen\nAnfragen und Buchung: Schloss Esterházy\, 7000 Eisenstadt\nTelefon: +43 2682 63004-7600\nE-Mail: schloss-esterhazy@esterhazy.at \nFoto: Schloss Esterházy
URL:https://kalender.seniorinnen.wien/event/schloss-esterhazy-fuehrung-im-sitzen/2026-05-01/
LOCATION:Schloss Esterházy\, Schloss Esterházy\, Eisenstadt\, 7000\, Austria
ATTACH;FMTTYPE=image/jpeg:https://kalender.seniorinnen.wien/wp-content/uploads/2026/01/SCHEE_Fuehrung-Sitzen.jpg
ORGANIZER;CN="Schloss Esterh%C3%A1zy":MAILTO:schloss-esterhazy@esterhazy.at
END:VEVENT
BEGIN:VEVENT
DTSTART;TZID=Europe/Berlin:20260528T103000
DTEND;TZID=Europe/Berlin:20260528T113000
DTSTAMP:20260423T105622
CREATED:20260109T075544Z
LAST-MODIFIED:20260109T080543Z
UID:11383-1779964200-1779967800@kalender.seniorinnen.wien
SUMMARY:Schloss Esterházy: Führung im Sitzen
DESCRIPTION:Diese Schlossführung im Sitzen ermöglicht allen Besucher:innen\, die Geschichte des Schlosses Esterházy in ihrer ganzen Tiefe und Vielfalt zu erleben – bequem und ohne Treppensteigen zwischen den Ausstellungsebenen. Sie eignet sich besonders für Menschen mit Bewegungseinschränkungen. \nDauer: ca. 60 Min.\nPreise und Öffnungszeiten: esterhazy.at/sitzen\nAnfragen und Buchung: Schloss Esterházy\, 7000 Eisenstadt\nTelefon: +43 2682 63004-7600\nE-Mail: schloss-esterhazy@esterhazy.at \nFoto: Schloss Esterházy
URL:https://kalender.seniorinnen.wien/event/schloss-esterhazy-fuehrung-im-sitzen/2026-05-28/
LOCATION:Schloss Esterházy\, Schloss Esterházy\, Eisenstadt\, 7000\, Austria
ATTACH;FMTTYPE=image/jpeg:https://kalender.seniorinnen.wien/wp-content/uploads/2026/01/SCHEE_Fuehrung-Sitzen.jpg
ORGANIZER;CN="Schloss Esterh%C3%A1zy":MAILTO:schloss-esterhazy@esterhazy.at
END:VEVENT
BEGIN:VEVENT
DTSTART;TZID=Europe/Berlin:20260613T103000
DTEND;TZID=Europe/Berlin:20260613T113000
DTSTAMP:20260423T105622
CREATED:20260109T075544Z
LAST-MODIFIED:20260109T080544Z
UID:11384-1781346600-1781350200@kalender.seniorinnen.wien
SUMMARY:Schloss Esterházy: Führung im Sitzen
DESCRIPTION:Diese Schlossführung im Sitzen ermöglicht allen Besucher:innen\, die Geschichte des Schlosses Esterházy in ihrer ganzen Tiefe und Vielfalt zu erleben – bequem und ohne Treppensteigen zwischen den Ausstellungsebenen. Sie eignet sich besonders für Menschen mit Bewegungseinschränkungen. \nDauer: ca. 60 Min.\nPreise und Öffnungszeiten: esterhazy.at/sitzen\nAnfragen und Buchung: Schloss Esterházy\, 7000 Eisenstadt\nTelefon: +43 2682 63004-7600\nE-Mail: schloss-esterhazy@esterhazy.at \nFoto: Schloss Esterházy
URL:https://kalender.seniorinnen.wien/event/schloss-esterhazy-fuehrung-im-sitzen/2026-06-13/
LOCATION:Schloss Esterházy\, Schloss Esterházy\, Eisenstadt\, 7000\, Austria
ATTACH;FMTTYPE=image/jpeg:https://kalender.seniorinnen.wien/wp-content/uploads/2026/01/SCHEE_Fuehrung-Sitzen.jpg
ORGANIZER;CN="Schloss Esterh%C3%A1zy":MAILTO:schloss-esterhazy@esterhazy.at
END:VEVENT
BEGIN:VEVENT
DTSTART;TZID=Europe/Berlin:20260625T103000
DTEND;TZID=Europe/Berlin:20260625T113000
DTSTAMP:20260423T105622
CREATED:20260109T075544Z
LAST-MODIFIED:20260109T080544Z
UID:11385-1782383400-1782387000@kalender.seniorinnen.wien
SUMMARY:Schloss Esterházy: Führung im Sitzen
DESCRIPTION:Diese Schlossführung im Sitzen ermöglicht allen Besucher:innen\, die Geschichte des Schlosses Esterházy in ihrer ganzen Tiefe und Vielfalt zu erleben – bequem und ohne Treppensteigen zwischen den Ausstellungsebenen. Sie eignet sich besonders für Menschen mit Bewegungseinschränkungen. \nDauer: ca. 60 Min.\nPreise und Öffnungszeiten: esterhazy.at/sitzen\nAnfragen und Buchung: Schloss Esterházy\, 7000 Eisenstadt\nTelefon: +43 2682 63004-7600\nE-Mail: schloss-esterhazy@esterhazy.at \nFoto: Schloss Esterházy
URL:https://kalender.seniorinnen.wien/event/schloss-esterhazy-fuehrung-im-sitzen/2026-06-25/
LOCATION:Schloss Esterházy\, Schloss Esterházy\, Eisenstadt\, 7000\, Austria
ATTACH;FMTTYPE=image/jpeg:https://kalender.seniorinnen.wien/wp-content/uploads/2026/01/SCHEE_Fuehrung-Sitzen.jpg
ORGANIZER;CN="Schloss Esterh%C3%A1zy":MAILTO:schloss-esterhazy@esterhazy.at
END:VEVENT
BEGIN:VEVENT
DTSTART;TZID=Europe/Berlin:20260815T103000
DTEND;TZID=Europe/Berlin:20260815T113000
DTSTAMP:20260423T105622
CREATED:20260109T075544Z
LAST-MODIFIED:20260109T080544Z
UID:11386-1786789800-1786793400@kalender.seniorinnen.wien
SUMMARY:Schloss Esterházy: Führung im Sitzen
DESCRIPTION:Diese Schlossführung im Sitzen ermöglicht allen Besucher:innen\, die Geschichte des Schlosses Esterházy in ihrer ganzen Tiefe und Vielfalt zu erleben – bequem und ohne Treppensteigen zwischen den Ausstellungsebenen. Sie eignet sich besonders für Menschen mit Bewegungseinschränkungen. \nDauer: ca. 60 Min.\nPreise und Öffnungszeiten: esterhazy.at/sitzen\nAnfragen und Buchung: Schloss Esterházy\, 7000 Eisenstadt\nTelefon: +43 2682 63004-7600\nE-Mail: schloss-esterhazy@esterhazy.at \nFoto: Schloss Esterházy
URL:https://kalender.seniorinnen.wien/event/schloss-esterhazy-fuehrung-im-sitzen/2026-08-15/
LOCATION:Schloss Esterházy\, Schloss Esterházy\, Eisenstadt\, 7000\, Austria
ATTACH;FMTTYPE=image/jpeg:https://kalender.seniorinnen.wien/wp-content/uploads/2026/01/SCHEE_Fuehrung-Sitzen.jpg
ORGANIZER;CN="Schloss Esterh%C3%A1zy":MAILTO:schloss-esterhazy@esterhazy.at
END:VEVENT
BEGIN:VEVENT
DTSTART;TZID=Europe/Berlin:20260905T103000
DTEND;TZID=Europe/Berlin:20260905T113000
DTSTAMP:20260423T105622
CREATED:20260109T075544Z
LAST-MODIFIED:20260109T080545Z
UID:11387-1788604200-1788607800@kalender.seniorinnen.wien
SUMMARY:Schloss Esterházy: Führung im Sitzen
DESCRIPTION:Diese Schlossführung im Sitzen ermöglicht allen Besucher:innen\, die Geschichte des Schlosses Esterházy in ihrer ganzen Tiefe und Vielfalt zu erleben – bequem und ohne Treppensteigen zwischen den Ausstellungsebenen. Sie eignet sich besonders für Menschen mit Bewegungseinschränkungen. \nDauer: ca. 60 Min.\nPreise und Öffnungszeiten: esterhazy.at/sitzen\nAnfragen und Buchung: Schloss Esterházy\, 7000 Eisenstadt\nTelefon: +43 2682 63004-7600\nE-Mail: schloss-esterhazy@esterhazy.at \nFoto: Schloss Esterházy
URL:https://kalender.seniorinnen.wien/event/schloss-esterhazy-fuehrung-im-sitzen/2026-09-05/
LOCATION:Schloss Esterházy\, Schloss Esterházy\, Eisenstadt\, 7000\, Austria
ATTACH;FMTTYPE=image/jpeg:https://kalender.seniorinnen.wien/wp-content/uploads/2026/01/SCHEE_Fuehrung-Sitzen.jpg
ORGANIZER;CN="Schloss Esterh%C3%A1zy":MAILTO:schloss-esterhazy@esterhazy.at
END:VEVENT
BEGIN:VEVENT
DTSTART;TZID=Europe/Berlin:20260919T103000
DTEND;TZID=Europe/Berlin:20260919T113000
DTSTAMP:20260423T105622
CREATED:20260109T075544Z
LAST-MODIFIED:20260109T080545Z
UID:11388-1789813800-1789817400@kalender.seniorinnen.wien
SUMMARY:Schloss Esterházy: Führung im Sitzen
DESCRIPTION:Diese Schlossführung im Sitzen ermöglicht allen Besucher:innen\, die Geschichte des Schlosses Esterházy in ihrer ganzen Tiefe und Vielfalt zu erleben – bequem und ohne Treppensteigen zwischen den Ausstellungsebenen. Sie eignet sich besonders für Menschen mit Bewegungseinschränkungen. \nDauer: ca. 60 Min.\nPreise und Öffnungszeiten: esterhazy.at/sitzen\nAnfragen und Buchung: Schloss Esterházy\, 7000 Eisenstadt\nTelefon: +43 2682 63004-7600\nE-Mail: schloss-esterhazy@esterhazy.at \nFoto: Schloss Esterházy
URL:https://kalender.seniorinnen.wien/event/schloss-esterhazy-fuehrung-im-sitzen/2026-09-19/
LOCATION:Schloss Esterházy\, Schloss Esterházy\, Eisenstadt\, 7000\, Austria
ATTACH;FMTTYPE=image/jpeg:https://kalender.seniorinnen.wien/wp-content/uploads/2026/01/SCHEE_Fuehrung-Sitzen.jpg
ORGANIZER;CN="Schloss Esterh%C3%A1zy":MAILTO:schloss-esterhazy@esterhazy.at
END:VEVENT
BEGIN:VEVENT
DTSTART;TZID=Europe/Berlin:20261010T103000
DTEND;TZID=Europe/Berlin:20261010T113000
DTSTAMP:20260423T105622
CREATED:20260109T075544Z
LAST-MODIFIED:20260109T080545Z
UID:11389-1791628200-1791631800@kalender.seniorinnen.wien
SUMMARY:Schloss Esterházy: Führung im Sitzen
DESCRIPTION:Diese Schlossführung im Sitzen ermöglicht allen Besucher:innen\, die Geschichte des Schlosses Esterházy in ihrer ganzen Tiefe und Vielfalt zu erleben – bequem und ohne Treppensteigen zwischen den Ausstellungsebenen. Sie eignet sich besonders für Menschen mit Bewegungseinschränkungen. \nDauer: ca. 60 Min.\nPreise und Öffnungszeiten: esterhazy.at/sitzen\nAnfragen und Buchung: Schloss Esterházy\, 7000 Eisenstadt\nTelefon: +43 2682 63004-7600\nE-Mail: schloss-esterhazy@esterhazy.at \nFoto: Schloss Esterházy
URL:https://kalender.seniorinnen.wien/event/schloss-esterhazy-fuehrung-im-sitzen/2026-10-10/
LOCATION:Schloss Esterházy\, Schloss Esterházy\, Eisenstadt\, 7000\, Austria
ATTACH;FMTTYPE=image/jpeg:https://kalender.seniorinnen.wien/wp-content/uploads/2026/01/SCHEE_Fuehrung-Sitzen.jpg
ORGANIZER;CN="Schloss Esterh%C3%A1zy":MAILTO:schloss-esterhazy@esterhazy.at
END:VEVENT
BEGIN:VEVENT
DTSTART;TZID=Europe/Berlin:20261121T103000
DTEND;TZID=Europe/Berlin:20261121T113000
DTSTAMP:20260423T105622
CREATED:20260109T075544Z
LAST-MODIFIED:20260109T080550Z
UID:11390-1795257000-1795260600@kalender.seniorinnen.wien
SUMMARY:Schloss Esterházy: Führung im Sitzen
DESCRIPTION:Diese Schlossführung im Sitzen ermöglicht allen Besucher:innen\, die Geschichte des Schlosses Esterházy in ihrer ganzen Tiefe und Vielfalt zu erleben – bequem und ohne Treppensteigen zwischen den Ausstellungsebenen. Sie eignet sich besonders für Menschen mit Bewegungseinschränkungen. \nDauer: ca. 60 Min.\nPreise und Öffnungszeiten: esterhazy.at/sitzen\nAnfragen und Buchung: Schloss Esterházy\, 7000 Eisenstadt\nTelefon: +43 2682 63004-7600\nE-Mail: schloss-esterhazy@esterhazy.at \nFoto: Schloss Esterházy
URL:https://kalender.seniorinnen.wien/event/schloss-esterhazy-fuehrung-im-sitzen/2026-11-21/
LOCATION:Schloss Esterházy\, Schloss Esterházy\, Eisenstadt\, 7000\, Austria
ATTACH;FMTTYPE=image/jpeg:https://kalender.seniorinnen.wien/wp-content/uploads/2026/01/SCHEE_Fuehrung-Sitzen.jpg
ORGANIZER;CN="Schloss Esterh%C3%A1zy":MAILTO:schloss-esterhazy@esterhazy.at
END:VEVENT
BEGIN:VEVENT
DTSTART;TZID=Europe/Berlin:20261219T103000
DTEND;TZID=Europe/Berlin:20261219T113000
DTSTAMP:20260423T105622
CREATED:20260109T075544Z
LAST-MODIFIED:20260109T080550Z
UID:11391-1797676200-1797679800@kalender.seniorinnen.wien
SUMMARY:Schloss Esterházy: Führung im Sitzen
DESCRIPTION:Diese Schlossführung im Sitzen ermöglicht allen Besucher:innen\, die Geschichte des Schlosses Esterházy in ihrer ganzen Tiefe und Vielfalt zu erleben – bequem und ohne Treppensteigen zwischen den Ausstellungsebenen. Sie eignet sich besonders für Menschen mit Bewegungseinschränkungen. \nDauer: ca. 60 Min.\nPreise und Öffnungszeiten: esterhazy.at/sitzen\nAnfragen und Buchung: Schloss Esterházy\, 7000 Eisenstadt\nTelefon: +43 2682 63004-7600\nE-Mail: schloss-esterhazy@esterhazy.at \nFoto: Schloss Esterházy
URL:https://kalender.seniorinnen.wien/event/schloss-esterhazy-fuehrung-im-sitzen/2026-12-19/
LOCATION:Schloss Esterházy\, Schloss Esterházy\, Eisenstadt\, 7000\, Austria
ATTACH;FMTTYPE=image/jpeg:https://kalender.seniorinnen.wien/wp-content/uploads/2026/01/SCHEE_Fuehrung-Sitzen.jpg
ORGANIZER;CN="Schloss Esterh%C3%A1zy":MAILTO:schloss-esterhazy@esterhazy.at
END:VEVENT
END:VCALENDAR