BEGIN:VCALENDAR
VERSION:2.0
PRODID:-//Wien für Senior:innen - ECPv6.15.17.1//NONSGML v1.0//EN
CALSCALE:GREGORIAN
METHOD:PUBLISH
X-WR-CALNAME:Wien für Senior:innen
X-ORIGINAL-URL:https://kalender.seniorinnen.wien
X-WR-CALDESC:Veranstaltungen für Wien für Senior:innen
REFRESH-INTERVAL;VALUE=DURATION:PT1H
X-Robots-Tag:noindex
X-PUBLISHED-TTL:PT1H
BEGIN:VTIMEZONE
TZID:Europe/Berlin
BEGIN:DAYLIGHT
TZOFFSETFROM:+0100
TZOFFSETTO:+0200
TZNAME:CEST
DTSTART:20230326T010000
END:DAYLIGHT
BEGIN:STANDARD
TZOFFSETFROM:+0200
TZOFFSETTO:+0100
TZNAME:CET
DTSTART:20231029T010000
END:STANDARD
BEGIN:DAYLIGHT
TZOFFSETFROM:+0100
TZOFFSETTO:+0200
TZNAME:CEST
DTSTART:20240331T010000
END:DAYLIGHT
BEGIN:STANDARD
TZOFFSETFROM:+0200
TZOFFSETTO:+0100
TZNAME:CET
DTSTART:20241027T010000
END:STANDARD
BEGIN:DAYLIGHT
TZOFFSETFROM:+0100
TZOFFSETTO:+0200
TZNAME:CEST
DTSTART:20250330T010000
END:DAYLIGHT
BEGIN:STANDARD
TZOFFSETFROM:+0200
TZOFFSETTO:+0100
TZNAME:CET
DTSTART:20251026T010000
END:STANDARD
BEGIN:DAYLIGHT
TZOFFSETFROM:+0100
TZOFFSETTO:+0200
TZNAME:CEST
DTSTART:20260329T010000
END:DAYLIGHT
BEGIN:STANDARD
TZOFFSETFROM:+0200
TZOFFSETTO:+0100
TZNAME:CET
DTSTART:20261025T010000
END:STANDARD
BEGIN:DAYLIGHT
TZOFFSETFROM:+0100
TZOFFSETTO:+0200
TZNAME:CEST
DTSTART:20270328T010000
END:DAYLIGHT
BEGIN:STANDARD
TZOFFSETFROM:+0200
TZOFFSETTO:+0100
TZNAME:CET
DTSTART:20271031T010000
END:STANDARD
END:VTIMEZONE
BEGIN:VEVENT
DTSTART;TZID=Europe/Berlin:20260222T160000
DTEND;TZID=Europe/Berlin:20260222T220000
DTSTAMP:20260421T031454
CREATED:20251009T092327Z
LAST-MODIFIED:20251009T092327Z
UID:10882-1771776000-1771797600@kalender.seniorinnen.wien
SUMMARY:46. Wiener Senior:innenball
DESCRIPTION:Unter dem Motto „Wir tanzen uns das Leben schön“ findet der Ball in den Festsälen des Wiener Rathauses statt. Lebensfreude und Zuversicht stehen auf dem Programm\, das sich über die gesamte Festsaalebene des Wiener Rathauses erstreckt. \n\nVeranstaltungsort:\nWiener Rathaus\, Festsäle\, 1010 Wien\, Lichtenfelsgasse 2 \n\n\nBallkarten gibt es ab 1. Dezember 2025 in unterschiedlichen Preiskategorien (ab EUR 30\,00) unter folgendem Link: \n\n\nhttps://pvoe.at/wien/themen/aktuelles/events/detail/46-wiener-seniorinnenball/ \noder \nwww.seniorinnenball.at \nFoto: PVÖ
URL:https://kalender.seniorinnen.wien/event/46-wiener-seniorinnenball/
LOCATION:Rathaus Wien\, Lichtenfelsgasse 2\, Feststiege 1\, Wien\, Wien\, 1010
CATEGORIES:Begegnung,Unterhaltung
ATTACH;FMTTYPE=image/jpeg:https://kalender.seniorinnen.wien/wp-content/uploads/2025/10/20251009_Ball_Foto-PVOE.jpg
ORGANIZER;CN="PV%C3%96":MAILTO:pvoe-wien@pvoe.at
END:VEVENT
BEGIN:VEVENT
DTSTART;TZID=Europe/Berlin:20250223T150000
DTEND;TZID=Europe/Berlin:20250223T220000
DTSTAMP:20260421T031454
CREATED:20241111T120946Z
LAST-MODIFIED:20241114T091703Z
UID:6933-1740322800-1740348000@kalender.seniorinnen.wien
SUMMARY:45. Wiener Senior:innenball
DESCRIPTION:Unter dem Motto „Wir tanzen uns das Leben schön“ findet der Ball in den Festsälen des Wiener Rathauses statt. Lebensfreude und Zuversicht stehen auf dem Programm\, das sich über die gesamte Festsaalebene des Wiener Rathauses erstreckt. \n\nVeranstaltungsort:\nWiener Rathaus\, Festsäle\, 1010 Wien\, Lichtenfelsgasse 2 \n\n\nProgramm: \n\n15:00 Uhr: Einlass\n16:00 Uhr: Eröffnung\n16:15 Uhr: Begrüßung und Ehrenschutz\n16:30 Uhr: Alles Walzer und Tanz in allen Sälen\n18:00 Uhr: Verlosung Gewinnspiel im Festsaal\n18:30 Uhr: Tanz in allen Sälen\n20:00 Uhr: Quadrille & Line Dance im Festsaal\n20:30 Uhr: Tanz in allen Sälen\n21:45 Uhr: Abschlusstanz\n22:00 Uhr: Ende der Veranstaltung\n\nBallkarten gibt es ab 1. Dezember 2024 in unterschiedlichen Preiskategorien (ab EUR 30\,00) unter folgendem Link:\nhttps://pvoe.at/wien/themen/aktuelles/events/detail/45-wiener-seniorinnenball/ \n\n\n  \n 
URL:https://kalender.seniorinnen.wien/event/45-wiener-seniorinnenball/
LOCATION:Wiener Rathaus\, Friedrich-Schmidt-Platz\, Wien\, 1010\, Österreich
CATEGORIES:Begegnung,Unterhaltung
ATTACH;FMTTYPE=image/webp:https://kalender.seniorinnen.wien/wp-content/uploads/2024/11/csm_20230226_43_Wiener_Seniorenball__c__PVOE_Schedl__96__897e72875b.webp
ORGANIZER;CN="PV%C3%96":MAILTO:pvoe-wien@pvoe.at
END:VEVENT
BEGIN:VEVENT
DTSTART;TZID=Europe/Berlin:20241009T120000
DTEND;TZID=Europe/Berlin:20241009T173000
DTSTAMP:20260421T031454
CREATED:20240829T114408Z
LAST-MODIFIED:20240829T114408Z
UID:6279-1728475200-1728495000@kalender.seniorinnen.wien
SUMMARY:Die Edlseer beim PVÖ-Senior:innentag auf der Kaiserwiese
DESCRIPTION:Der PVÖ-Wien lädt Sie zu einem unterhaltsamen Nachmittag ein: Im Wiener Prater auf der Kaiserwiese (Oswald-Thomas-Platz 1\, 1020 Wien) findet der PVÖ-Senior:innentag statt. \nDas Programm startet mit dem Hans Ecker Trio. Danach unterhält Sie die Werder Klub.Band und als Höhepunkt erwarten Sie die Edlseer mit einem mitreißenden Programm. \nDie Plätze werden nach Einlangen der Reservierung vergeben. Eine Teilnahme ist nur nach schriftlicher Bestätigung durch den PVÖ-Wien möglich. \nAnmeldung erforderlich von 02.09. bis 30.09.2024: \n\nTel: +43 1 319 40 12\nMail: pvoe-wien@pvoe.at\nWebsite: pvoe.at/wien\n\nFoto: Harald_Klemm
URL:https://kalender.seniorinnen.wien/event/die-edlseer-beim-pvoe-seniorinnentag-auf-der-kaiserwiese/
LOCATION:Kaiserwiese\, Oswald-Thomas-Platz 1\, Wien\, Wien\, 1020
CATEGORIES:Monat der Senior:innen,Unterhaltung
ORGANIZER;CN="PV%C3%96":MAILTO:pvoe-wien@pvoe.at
END:VEVENT
END:VCALENDAR