BEGIN:VCALENDAR
VERSION:2.0
PRODID:-//Wien für Senior:innen - ECPv6.15.17.1//NONSGML v1.0//EN
CALSCALE:GREGORIAN
METHOD:PUBLISH
X-ORIGINAL-URL:https://kalender.seniorinnen.wien
X-WR-CALDESC:Veranstaltungen für Wien für Senior:innen
REFRESH-INTERVAL;VALUE=DURATION:PT1H
X-Robots-Tag:noindex
X-PUBLISHED-TTL:PT1H
BEGIN:VTIMEZONE
TZID:Europe/Berlin
BEGIN:DAYLIGHT
TZOFFSETFROM:+0100
TZOFFSETTO:+0200
TZNAME:CEST
DTSTART:20230326T010000
END:DAYLIGHT
BEGIN:STANDARD
TZOFFSETFROM:+0200
TZOFFSETTO:+0100
TZNAME:CET
DTSTART:20231029T010000
END:STANDARD
BEGIN:DAYLIGHT
TZOFFSETFROM:+0100
TZOFFSETTO:+0200
TZNAME:CEST
DTSTART:20240331T010000
END:DAYLIGHT
BEGIN:STANDARD
TZOFFSETFROM:+0200
TZOFFSETTO:+0100
TZNAME:CET
DTSTART:20241027T010000
END:STANDARD
BEGIN:DAYLIGHT
TZOFFSETFROM:+0100
TZOFFSETTO:+0200
TZNAME:CEST
DTSTART:20250330T010000
END:DAYLIGHT
BEGIN:STANDARD
TZOFFSETFROM:+0200
TZOFFSETTO:+0100
TZNAME:CET
DTSTART:20251026T010000
END:STANDARD
END:VTIMEZONE
BEGIN:VEVENT
DTSTART;TZID=Europe/Berlin:20241003T153000
DTEND;TZID=Europe/Berlin:20241003T173000
DTSTAMP:20260421T004340
CREATED:20240822T114818Z
LAST-MODIFIED:20240822T114818Z
UID:6000-1727969400-1727976600@kalender.seniorinnen.wien
SUMMARY:Workshop „Wiener Gold“
DESCRIPTION:Gold ist mehr als Metall – es symbolisiert das Göttliche\, formte die Geschichte der Menschheit und gab der Liebe eine neue Farbe. Ausgehend von Gustav Klimts Kuss erfahren Sie mehr über das Gold in der Kunst in Wien um 1900. \nIm Atelier experimentieren Sie anschließend mit dem legendären Metall und veredeln ein einzigartiges Souvenir mit hauchdünnem Blattgold. Ein praxisnaher Workshop für alle\, die gerne Neues ausprobieren und den Museumsbesuch kreativ abrunden möchten. \n  \nAnmeldung: 2.9. bis 3.10.2024\, max. Teilnehmer:innen: 10 \nWebsite: www.belvedere.at/programm \n  \nFoto: Belvedere Wien / Ouriel Morgensztern
URL:https://kalender.seniorinnen.wien/event/workshop-wiener-gold/
LOCATION:Oberes Belvedere\, Prinz Eugen-Straße 27\, Wien\, 1030
CATEGORIES:Bildung,Kunst und Kultur,Monat der Senior:innen
ATTACH;FMTTYPE=image/jpeg:https://kalender.seniorinnen.wien/wp-content/uploads/2024/08/Wiener-Gold-e1724158479815.jpg
END:VEVENT
END:VCALENDAR