BEGIN:VCALENDAR
VERSION:2.0
PRODID:-//Wien für Senior:innen - ECPv6.15.17.1//NONSGML v1.0//EN
CALSCALE:GREGORIAN
METHOD:PUBLISH
X-ORIGINAL-URL:https://kalender.seniorinnen.wien
X-WR-CALDESC:Veranstaltungen für Wien für Senior:innen
REFRESH-INTERVAL;VALUE=DURATION:PT1H
X-Robots-Tag:noindex
X-PUBLISHED-TTL:PT1H
BEGIN:VTIMEZONE
TZID:Europe/Berlin
BEGIN:DAYLIGHT
TZOFFSETFROM:+0100
TZOFFSETTO:+0200
TZNAME:CEST
DTSTART:20230326T010000
END:DAYLIGHT
BEGIN:STANDARD
TZOFFSETFROM:+0200
TZOFFSETTO:+0100
TZNAME:CET
DTSTART:20231029T010000
END:STANDARD
BEGIN:DAYLIGHT
TZOFFSETFROM:+0100
TZOFFSETTO:+0200
TZNAME:CEST
DTSTART:20240331T010000
END:DAYLIGHT
BEGIN:STANDARD
TZOFFSETFROM:+0200
TZOFFSETTO:+0100
TZNAME:CET
DTSTART:20241027T010000
END:STANDARD
BEGIN:DAYLIGHT
TZOFFSETFROM:+0100
TZOFFSETTO:+0200
TZNAME:CEST
DTSTART:20250330T010000
END:DAYLIGHT
BEGIN:STANDARD
TZOFFSETFROM:+0200
TZOFFSETTO:+0100
TZNAME:CET
DTSTART:20251026T010000
END:STANDARD
END:VTIMEZONE
BEGIN:VEVENT
DTSTART;TZID=Europe/Berlin:20241018T093000
DTEND;TZID=Europe/Berlin:20241018T103000
DTSTAMP:20260423T121636
CREATED:20240830T163756Z
LAST-MODIFIED:20240830T163756Z
UID:6617-1729243800-1729247400@kalender.seniorinnen.wien
SUMMARY:Kulturcafé
DESCRIPTION:Am Freitag\, 18.10.2024 gibt es einen unterhaltsamen Vortrag und Austausch in unserer gemütlichen Kaffeerunde. Anekdoten und Wissenswertes zu interessanten\, kulturellen Themen warten auf Sie von 09:30 Uhr bis 10:30 Uhr! \nWo?\nWiener Hilfswerk\, Nachbarschaftszentrum 12 Meidling\nAm Schöpfwerk 31/3/R1\n1120 Wien\n(im Hof hinter der Apotheke) \nBarrierefreier Zugang. Keine rollstuhlgerechte Toilette. \nAnmeldung erforderlich von 02.09.2024 bis 11.10.2024: \n\nunter Tel.: +43 1 512 36 61-3450\nper E-Mail an: nbz12@wiener.hilfswerk.at\nWebsite www.nachbarschaftszentren.at\n\nMax. Teilnehmer:innen: 15 \n© Wiener Hilfswerk / Daniel Nuderscher
URL:https://kalender.seniorinnen.wien/event/kulturcafe/
LOCATION:Nachbarschaftszentrum Meidling\, Am Schöpfwerk 31/3/R1\, Wien\, 1120
CATEGORIES:Begegnung,Information,Monat der Senior:innen,Unterhaltung
ATTACH;FMTTYPE=image/jpeg:https://kalender.seniorinnen.wien/wp-content/uploads/2024/08/Kulturcafe-2018-NZ-Ultimate-041-c-whw-daniel-nuderscher.jpg
ORGANIZER;CN="Nachbarschaftzentrum Meidling Hilfswerk":MAILTO:nachbarschaftszentrum@wiener.hilfswerk.at
END:VEVENT
BEGIN:VEVENT
DTSTART;TZID=Europe/Berlin:20241014T093000
DTEND;TZID=Europe/Berlin:20241014T103000
DTSTAMP:20260423T121636
CREATED:20240830T125344Z
LAST-MODIFIED:20240830T125344Z
UID:6526-1728898200-1728901800@kalender.seniorinnen.wien
SUMMARY:Tanzworkout für Senior:innen
DESCRIPTION:Wir machen Übungen bei Musik\, die Beckenboden- und Rückenmuskulatur stärken und Thrombosen vorbeugen. Im Stehen und im Sitzen! \nAnmeldung 2.9. bis 11.10. unter Tel: 01 512 36 61 34 50 oder E-Mail: nbz12@wiener.hilfswerk.at
URL:https://kalender.seniorinnen.wien/event/tanzworkout-fuer-seniorinnen/
LOCATION:Nachbarschaftszentrum Meidling\, Am Schöpfwerk 31/3/R1\, Wien\, 1120
CATEGORIES:Fit und Gesund,Monat der Senior:innen
ATTACH;FMTTYPE=image/jpeg:https://kalender.seniorinnen.wien/wp-content/uploads/2024/07/dance-7247907_1280-1-e1720169006809.jpg
ORGANIZER;CN="Nachbarschaftzentrum Meidling Hilfswerk":MAILTO:nachbarschaftszentrum@wiener.hilfswerk.at
END:VEVENT
END:VCALENDAR