BEGIN:VCALENDAR
VERSION:2.0
PRODID:-//Wien für Senior:innen - ECPv6.15.17.1//NONSGML v1.0//EN
CALSCALE:GREGORIAN
METHOD:PUBLISH
X-WR-CALNAME:Wien für Senior:innen
X-ORIGINAL-URL:https://kalender.seniorinnen.wien
X-WR-CALDESC:Veranstaltungen für Wien für Senior:innen
REFRESH-INTERVAL;VALUE=DURATION:PT1H
X-Robots-Tag:noindex
X-PUBLISHED-TTL:PT1H
BEGIN:VTIMEZONE
TZID:Europe/Berlin
BEGIN:DAYLIGHT
TZOFFSETFROM:+0100
TZOFFSETTO:+0200
TZNAME:CEST
DTSTART:20210328T010000
END:DAYLIGHT
BEGIN:STANDARD
TZOFFSETFROM:+0200
TZOFFSETTO:+0100
TZNAME:CET
DTSTART:20211031T010000
END:STANDARD
BEGIN:DAYLIGHT
TZOFFSETFROM:+0100
TZOFFSETTO:+0200
TZNAME:CEST
DTSTART:20220327T010000
END:DAYLIGHT
BEGIN:STANDARD
TZOFFSETFROM:+0200
TZOFFSETTO:+0100
TZNAME:CET
DTSTART:20221030T010000
END:STANDARD
BEGIN:DAYLIGHT
TZOFFSETFROM:+0100
TZOFFSETTO:+0200
TZNAME:CEST
DTSTART:20230326T010000
END:DAYLIGHT
BEGIN:STANDARD
TZOFFSETFROM:+0200
TZOFFSETTO:+0100
TZNAME:CET
DTSTART:20231029T010000
END:STANDARD
END:VTIMEZONE
BEGIN:VEVENT
DTSTART;TZID=Europe/Berlin:20221010T140000
DTEND;TZID=Europe/Berlin:20221010T160000
DTSTAMP:20260421T040856
CREATED:20220725T142936Z
LAST-MODIFIED:20220822T084356Z
UID:2869-1665410400-1665417600@kalender.seniorinnen.wien
SUMMARY:Monat der Senior:innen: Die fabelhafte Welt des Amalienbads
DESCRIPTION:Aufgrund des großen Erfolgs öffnet das denkmalgeschützte Amalienbad nochmals seine Türen. Freuen Sie sich auf eine eindrucksvolle Architektur und Geschichte\, die bis ins Rote Wien zurückreicht. Bei der Führung durch das Spätjugendstilbauwerk lernen Sie u.a. die historische Schwimmhalle sowie die bemerkenswerte Bädertechnik in drei Untergeschoßen kennen. Bäder-Chef DI Hubert Teubenbacher führt persönlich durch das Architekturjuwel. \nDie Teilnehmer:innenanzahl ist auf 15 Personen beschränkt. Melden Sie sich ab 01.09.2022 bis 9.10.2022 telefonisch über 01 /24 5 24 – FSW-Kund:innentelefon für die Veranstaltung an. \nSollten Sie trotz Anmeldung nicht an der Veranstaltung teilnehmen können\, sagen Sie bitte ab. So haben weitere Interessierte die Möglichkeit Ihren Platz einzunehmen. \nBitte beachten Sie: Aufgrund COVID-19 sind kurzfristige Änderungen oder auch Absagen möglich. Das Team der Senior:innenbeauftragten und die Veranstalter:innen bitten um Verständnis. \n(c) MA44
URL:https://kalender.seniorinnen.wien/event/monat-der-seniorinnen-die-fabelhafte-welt-des-amalienbads/
LOCATION:Amalienbad\, Reumannplatz 23\, Wien\, 1100
CATEGORIES:Monat der Senior:innen
ATTACH;FMTTYPE=image/jpeg:https://kalender.seniorinnen.wien/wp-content/uploads/2021/08/DSC_0937_cMA44-scaled.jpg
END:VEVENT
END:VCALENDAR