BEGIN:VCALENDAR
VERSION:2.0
PRODID:-//Wien für Senior:innen - ECPv6.15.17.1//NONSGML v1.0//EN
CALSCALE:GREGORIAN
METHOD:PUBLISH
X-ORIGINAL-URL:https://kalender.seniorinnen.wien
X-WR-CALDESC:Veranstaltungen für Wien für Senior:innen
REFRESH-INTERVAL;VALUE=DURATION:PT1H
X-Robots-Tag:noindex
X-PUBLISHED-TTL:PT1H
BEGIN:VTIMEZONE
TZID:Europe/Berlin
BEGIN:DAYLIGHT
TZOFFSETFROM:+0100
TZOFFSETTO:+0200
TZNAME:CEST
DTSTART:20240331T010000
END:DAYLIGHT
BEGIN:STANDARD
TZOFFSETFROM:+0200
TZOFFSETTO:+0100
TZNAME:CET
DTSTART:20241027T010000
END:STANDARD
BEGIN:DAYLIGHT
TZOFFSETFROM:+0100
TZOFFSETTO:+0200
TZNAME:CEST
DTSTART:20250330T010000
END:DAYLIGHT
BEGIN:STANDARD
TZOFFSETFROM:+0200
TZOFFSETTO:+0100
TZNAME:CET
DTSTART:20251026T010000
END:STANDARD
BEGIN:DAYLIGHT
TZOFFSETFROM:+0100
TZOFFSETTO:+0200
TZNAME:CEST
DTSTART:20260329T010000
END:DAYLIGHT
BEGIN:STANDARD
TZOFFSETFROM:+0200
TZOFFSETTO:+0100
TZNAME:CET
DTSTART:20261025T010000
END:STANDARD
END:VTIMEZONE
BEGIN:VEVENT
DTSTART;TZID=Europe/Berlin:20251029T150000
DTEND;TZID=Europe/Berlin:20251029T160000
DTSTAMP:20260420T235046
CREATED:20250909T152700Z
LAST-MODIFIED:20250909T153145Z
UID:10112-1761750000-1761753600@kalender.seniorinnen.wien
SUMMARY:Unvergessene Melodien
DESCRIPTION:Schlager\, Oldies und Evergreens\nSchlagernachmittag mit Johann Söllner \n  \nkeine Anmeldung erforderlich\, einfach vorbeikommen \nInfos unter:\nTel.: 01/313991240 \nFoto: Freepik \n 
URL:https://kalender.seniorinnen.wien/event/unvergessene-melodien/
LOCATION:KWP – Haus Hohe Warte\, Hohe Warte 8\, Wien\, Wien\, 1190\, Austria
CATEGORIES:Monat der Senior:innen
ATTACH;FMTTYPE=image/jpeg:https://kalender.seniorinnen.wien/wp-content/uploads/2025/09/cheerful-senior-couple-with-sunglasses-dancing-having-fun-together-home-scaled-e1756374878240.jpg
END:VEVENT
BEGIN:VEVENT
DTSTART;TZID=Europe/Berlin:20251008T150000
DTEND;TZID=Europe/Berlin:20251008T160000
DTSTAMP:20260420T235046
CREATED:20250909T152103Z
LAST-MODIFIED:20250909T152103Z
UID:10105-1759935600-1759939200@kalender.seniorinnen.wien
SUMMARY:Wia beim Heurigen
DESCRIPTION:Michael Perfler und Erich Zib sorgen mit Humor\, guter Laune und wunderbar interpretierten Wienerliedern für Stimmung! \nkeine Anmeldung erforderlich\, einfach vorbeikommen \nInfos unter:\nTel.: 01/313991240 \nFoto: Freepik
URL:https://kalender.seniorinnen.wien/event/wia-beim-heurigen/
LOCATION:KWP – Haus Hohe Warte\, Hohe Warte 8\, Wien\, Wien\, 1190\, Austria
CATEGORIES:Monat der Senior:innen
ATTACH;FMTTYPE=image/jpeg:https://kalender.seniorinnen.wien/wp-content/uploads/2025/09/cheerful-senior-couple-with-sunglasses-dancing-having-fun-together-home-scaled-e1756374878240.jpg
END:VEVENT
END:VCALENDAR