BEGIN:VCALENDAR
VERSION:2.0
PRODID:-//Wien für Senior:innen - ECPv6.15.17.1//NONSGML v1.0//EN
CALSCALE:GREGORIAN
METHOD:PUBLISH
X-ORIGINAL-URL:https://kalender.seniorinnen.wien
X-WR-CALDESC:Veranstaltungen für Wien für Senior:innen
REFRESH-INTERVAL;VALUE=DURATION:PT1H
X-Robots-Tag:noindex
X-PUBLISHED-TTL:PT1H
BEGIN:VTIMEZONE
TZID:Europe/Berlin
BEGIN:DAYLIGHT
TZOFFSETFROM:+0100
TZOFFSETTO:+0200
TZNAME:CEST
DTSTART:20240331T010000
END:DAYLIGHT
BEGIN:STANDARD
TZOFFSETFROM:+0200
TZOFFSETTO:+0100
TZNAME:CET
DTSTART:20241027T010000
END:STANDARD
BEGIN:DAYLIGHT
TZOFFSETFROM:+0100
TZOFFSETTO:+0200
TZNAME:CEST
DTSTART:20250330T010000
END:DAYLIGHT
BEGIN:STANDARD
TZOFFSETFROM:+0200
TZOFFSETTO:+0100
TZNAME:CET
DTSTART:20251026T010000
END:STANDARD
BEGIN:DAYLIGHT
TZOFFSETFROM:+0100
TZOFFSETTO:+0200
TZNAME:CEST
DTSTART:20260329T010000
END:DAYLIGHT
BEGIN:STANDARD
TZOFFSETFROM:+0200
TZOFFSETTO:+0100
TZNAME:CET
DTSTART:20261025T010000
END:STANDARD
END:VTIMEZONE
BEGIN:VEVENT
DTSTART;TZID=Europe/Berlin:20251006T160000
DTEND;TZID=Europe/Berlin:20251006T180000
DTSTAMP:20260421T032017
CREATED:20250909T085750Z
LAST-MODIFIED:20250909T091046Z
UID:9981-1759766400-1759773600@kalender.seniorinnen.wien
SUMMARY:Demenz Workshop für Angehörige
DESCRIPTION:Demenz Workshop für Angehörige  in Zusammenarbeit mit dem Fonds Soziales Wien \nmax. 20 Teilnehmer:innen \nAnmeldungen unter:\nTel.: 01/313 99 1130\nE-Mail: haus.rosenberg@kwp.at \nFoto: Pixabay
URL:https://kalender.seniorinnen.wien/event/demenz-workshop-fuer-angehoerige/
LOCATION:KWP – Haus am Rosenberg\, Rosenhügelstraße 192\, Wien\, Wien\, 1130\, Austria
CATEGORIES:Monat der Senior:innen
ATTACH;FMTTYPE=image/jpeg:https://kalender.seniorinnen.wien/wp-content/uploads/2025/08/Schriftzug-Demenz-©Pixabay-e1754396077386.jpg
END:VEVENT
BEGIN:VEVENT
DTSTART;TZID=Europe/Berlin:20251002T150000
DTEND;TZID=Europe/Berlin:20251002T170000
DTSTAMP:20260421T032017
CREATED:20250909T085110Z
LAST-MODIFIED:20250909T095041Z
UID:9973-1759417200-1759424400@kalender.seniorinnen.wien
SUMMARY:Oktoberfest
DESCRIPTION:Oktoberfest im GastHaus \nmax. 20 Teilnehmer:innen \nAnmeldungen unter:\nTel.: 01/313 99 1130\nE-Mail: haus.rosenberg@kwp.at \nFoto: Freepik
URL:https://kalender.seniorinnen.wien/event/oktoberfest/
LOCATION:KWP – Haus am Rosenberg\, Rosenhügelstraße 192\, Wien\, Wien\, 1130\, Austria
CATEGORIES:Monat der Senior:innen
ATTACH;FMTTYPE=image/jpeg:https://kalender.seniorinnen.wien/wp-content/uploads/2025/09/oktoberfest-assortment-with-delicious-pretzel-scaled-e1757075291323.jpg
END:VEVENT
END:VCALENDAR