BEGIN:VCALENDAR
VERSION:2.0
PRODID:-//Wien für Senior:innen - ECPv6.15.17.1//NONSGML v1.0//EN
CALSCALE:GREGORIAN
METHOD:PUBLISH
X-ORIGINAL-URL:https://kalender.seniorinnen.wien
X-WR-CALDESC:Veranstaltungen für Wien für Senior:innen
REFRESH-INTERVAL;VALUE=DURATION:PT1H
X-Robots-Tag:noindex
X-PUBLISHED-TTL:PT1H
BEGIN:VTIMEZONE
TZID:Europe/Berlin
BEGIN:DAYLIGHT
TZOFFSETFROM:+0100
TZOFFSETTO:+0200
TZNAME:CEST
DTSTART:20220327T010000
END:DAYLIGHT
BEGIN:STANDARD
TZOFFSETFROM:+0200
TZOFFSETTO:+0100
TZNAME:CET
DTSTART:20221030T010000
END:STANDARD
BEGIN:DAYLIGHT
TZOFFSETFROM:+0100
TZOFFSETTO:+0200
TZNAME:CEST
DTSTART:20230326T010000
END:DAYLIGHT
BEGIN:STANDARD
TZOFFSETFROM:+0200
TZOFFSETTO:+0100
TZNAME:CET
DTSTART:20231029T010000
END:STANDARD
BEGIN:DAYLIGHT
TZOFFSETFROM:+0100
TZOFFSETTO:+0200
TZNAME:CEST
DTSTART:20240331T010000
END:DAYLIGHT
BEGIN:STANDARD
TZOFFSETFROM:+0200
TZOFFSETTO:+0100
TZNAME:CET
DTSTART:20241027T010000
END:STANDARD
BEGIN:DAYLIGHT
TZOFFSETFROM:+0100
TZOFFSETTO:+0200
TZNAME:CEST
DTSTART:20250330T010000
END:DAYLIGHT
BEGIN:STANDARD
TZOFFSETFROM:+0200
TZOFFSETTO:+0100
TZNAME:CET
DTSTART:20251026T010000
END:STANDARD
END:VTIMEZONE
BEGIN:VEVENT
DTSTART;TZID=Europe/Berlin:20241010T130000
DTEND;TZID=Europe/Berlin:20241010T170000
DTSTAMP:20260421T003345
CREATED:20240830T144602Z
LAST-MODIFIED:20240830T144602Z
UID:6571-1728565200-1728579600@kalender.seniorinnen.wien
SUMMARY:Wilkommen im Haus Hetzendorf
DESCRIPTION:Kommen Sie am 10.10. von 13 bis 17 Uhr zum Tag der offenen Tür ins Haus Hetzendorf! \nInformieren Sie sich zu Leistungen\, Tarifen und Voraussetzungen für den Einzug – inklusive Wohnungsbesichtigung! \nKeine Anmeldung erforderlich. \n 
URL:https://kalender.seniorinnen.wien/event/wilkommen-im-haus-hetzendorf/
LOCATION:KWP – Pensionistenwohnhaus Hetzendorf\, Hermann- Brochgasse 3\, Wien\, 1120
CATEGORIES:Information,Monat der Senior:innen,Unterhaltung
ATTACH;FMTTYPE=image/jpeg:https://kalender.seniorinnen.wien/wp-content/uploads/2024/08/1049_8b77cc27550cf0d-scaled-e1724316843728.jpg
END:VEVENT
BEGIN:VEVENT
DTSTART;TZID=Europe/Berlin:20240411T180000
DTEND;TZID=Europe/Berlin:20240411T233000
DTSTAMP:20260421T003345
CREATED:20240403T071007Z
LAST-MODIFIED:20240403T071007Z
UID:5604-1712858400-1712878200@kalender.seniorinnen.wien
SUMMARY:Klub 66 – Swing till dawn
DESCRIPTION:Packt die besten Tanzschuhe ein… \nAm Donnerstag\, 11.04.2024 legt DJ Chris Crocodile ab 18:00 Uhr im altehrwürdigen Tanzcafe Jenseits wieder die besten\, tanzbarsten und schwungvollsten Hits der 60er\, 70er und 80er auf. \nDamit legt der KWP mit den Klubmitgliedern eine heiße Sohle aufs Parkett. Gemeinsam mit dem Regenbogentreff hat Chris eine feine Playlist ausgewählt\, deren Lieder gerade auch die queere Community geprägt hat. \nDer Eintritt ist gratis\, inklusive Willkommensgetränk.
URL:https://kalender.seniorinnen.wien/event/klub-66-swing-till-dawn/
LOCATION:Tanzcafe Jenseits\, Nelkengasse 3\, Wien\, 1060
CATEGORIES:Begegnung,Fit und Gesund,Kunst und Kultur,Unterhaltung
END:VEVENT
BEGIN:VEVENT
DTSTART;TZID=Europe/Berlin:20230615T150000
DTEND;TZID=Europe/Berlin:20230615T170000
DTSTAMP:20260421T003345
CREATED:20230331T162438Z
LAST-MODIFIED:20230331T162438Z
UID:3372-1686841200-1686848400@kalender.seniorinnen.wien
SUMMARY:Info-Café Demenz
DESCRIPTION:Beim Info-Café Demenz im Haus Gustav Klimt können sich Penzinger:innen in gemütlicher Atmosphäre über Demenz informieren.\nÜber Demenz informieren \nIm Auftrag der Bezirksvorstehung Penzing und in Zusammenarbeit mit der Plattform Demenzfreundliches Wien haben die Häuser zum Leben nun eine niederschwellige Informationsveranstaltung organisiert: das Info-Café Demenz. \nDas erste Info-Café Demenz findet am 15. Juni\, ab 15:00 Uhr im Haus Gustav Klimt statt. Verschiedenste Organisationen\, unter anderen die Volkshilfe Wien und das Wiener Hilfswerk\, und Initiativen präsentieren ihr Angebot zum Thema Demenz. \nBewohner:innen aus dem Bezirk Penzing sind herzlich eingeladen\, sich in gemütlicher Kaffeehaus-Atmosphäre bei Kuchen und Getränken zu informieren. \nDas Kuratorium Kuratorium Wiener Pensionisten-Wohnhäuser ist Mitglied der Plattform Demenzfreundliches Wien.
URL:https://kalender.seniorinnen.wien/event/info-cafe-demenz/
LOCATION:Haus Gustav Klimt\, Felbigergasse 81\, Wien\, 1140
CATEGORIES:Demenz,Grätzel,Information,Unterhaltung
ATTACH;FMTTYPE=image/jpeg:https://kalender.seniorinnen.wien/wp-content/uploads/2021/08/DFW_Banner_1200x630px-e1742394715867.jpg
END:VEVENT
END:VCALENDAR