BEGIN:VCALENDAR
VERSION:2.0
PRODID:-//Wien für Senior:innen - ECPv6.15.17.1//NONSGML v1.0//EN
CALSCALE:GREGORIAN
METHOD:PUBLISH
X-WR-CALNAME:Wien für Senior:innen
X-ORIGINAL-URL:https://kalender.seniorinnen.wien
X-WR-CALDESC:Veranstaltungen für Wien für Senior:innen
REFRESH-INTERVAL;VALUE=DURATION:PT1H
X-Robots-Tag:noindex
X-PUBLISHED-TTL:PT1H
BEGIN:VTIMEZONE
TZID:Europe/Berlin
BEGIN:DAYLIGHT
TZOFFSETFROM:+0100
TZOFFSETTO:+0200
TZNAME:CEST
DTSTART:20210328T010000
END:DAYLIGHT
BEGIN:STANDARD
TZOFFSETFROM:+0200
TZOFFSETTO:+0100
TZNAME:CET
DTSTART:20211031T010000
END:STANDARD
BEGIN:DAYLIGHT
TZOFFSETFROM:+0100
TZOFFSETTO:+0200
TZNAME:CEST
DTSTART:20220327T010000
END:DAYLIGHT
BEGIN:STANDARD
TZOFFSETFROM:+0200
TZOFFSETTO:+0100
TZNAME:CET
DTSTART:20221030T010000
END:STANDARD
BEGIN:DAYLIGHT
TZOFFSETFROM:+0100
TZOFFSETTO:+0200
TZNAME:CEST
DTSTART:20230326T010000
END:DAYLIGHT
BEGIN:STANDARD
TZOFFSETFROM:+0200
TZOFFSETTO:+0100
TZNAME:CET
DTSTART:20231029T010000
END:STANDARD
BEGIN:DAYLIGHT
TZOFFSETFROM:+0100
TZOFFSETTO:+0200
TZNAME:CEST
DTSTART:20240331T010000
END:DAYLIGHT
BEGIN:STANDARD
TZOFFSETFROM:+0200
TZOFFSETTO:+0100
TZNAME:CET
DTSTART:20241027T010000
END:STANDARD
END:VTIMEZONE
BEGIN:VEVENT
DTSTART;TZID=Europe/Berlin:20231027T150000
DTEND;TZID=Europe/Berlin:20231027T160000
DTSTAMP:20260420T231716
CREATED:20231006T105842Z
LAST-MODIFIED:20231006T105842Z
UID:4213-1698418800-1698422400@kalender.seniorinnen.wien
SUMMARY:Museumsführung für Menschen mit Demenz oder Vergesslichkeit
DESCRIPTION:Ephesos war eine der bedeutendsten Städte der Antike und liegt heute in der Türkei. Seit dem Jahr 1895 legen österreichische Archäolog*innen die Ruinen von Ephesos frei. Aus diesem Grund fanden zahlreiche Objekte ihren Weg nach Wien. Machen Sie sich ein Bild von dieser großartigen Stadt! \nDiese Führung ist besonders für Menschen mit Demenz oder Vergesslichkeit geeignet. \nTreffpunkt: in der Eingangshalle des Österreichischen Hauses der Geschichte\, Neue Hofburg\, Heldenplatz \nAnmeldung erwünscht:\n+43 1 525 24 – 5210 oder julia.haeussler@khm.at
URL:https://kalender.seniorinnen.wien/event/museumsfuehrung-fuer-menschen-mit-demenz-oder-vergesslichkeit/
LOCATION:Ephesos Musuem\, Eingang Haus der Geschichte: Heldenplatz\, Wien\, Österreichische Nationalbibliothek Standort: Neue Burg\, Heldenplatz\, Wien\, 1010
CATEGORIES:Demenz
END:VEVENT
BEGIN:VEVENT
DTSTART;VALUE=DATE:20221028
DTEND;VALUE=DATE:20221029
DTSTAMP:20260420T231716
CREATED:20220330T105922Z
LAST-MODIFIED:20220923T073753Z
UID:2699-1666915200-1667001599@kalender.seniorinnen.wien
SUMMARY:Barriere*FREI*Tag im Kunsthistorischen Museum
DESCRIPTION:An jedem vierten Freitag im Monat erwarten Sie im Kunsthistorischen Museum spannende Objekte\, die aufregende Geschichten erzählen. Bei den Führungen für Menschen mit Demenz werden sorgsam ausgewählte Kunstwerke betrachtet und Brücken in die Vergangenheit geschlagen. Durch geweckte Erinnerungen werden alle Teilnehmer:innen zu Gesprächen angeregt. \nErleben Sie einen entspannten und anregenden Nachmittag im Museum. Jeder Monat ist einem bestimmten Thema gewidmet. Es gibt also jedes Mal etwas Neues zu entdecken: \nFreitag\, 23.9.\, 100 Jahre Wagenburg – ein Grund zum Feiern!\nFreitag\, 28.10.\, Durch Mark und Bein – Horror in der Kunst\nFreitag\, 25.11.\, Sonderausstellung: idole und Rivalen. Künstler:innen im Wettstreit\nFreitag\, 23.12.\, Krone\, Zepter\, Reichsapfel – Zeichen der Macht in der Schatzkammer Wien \nBeginn ist jeweils um 15:00 Uhr\, die Dauer der Führung beträgt ca. 60 Minuten. Zu den Führungen sind alle willkommen – auch Ihre Freund:innen\, Familie\, Bezugspersonen und alle Interessierten! \nAlle Informationen und Standorte zu den kostenlosen Führungen unter https:www.khm.at/ \nUm eine Anmeldung wird gebeten: +43 1 525 24 – 5210 oder julia.haeussler@khm.at \n©KHM-Museumsverband
URL:https://kalender.seniorinnen.wien/event/barrierefreitag-im-kunsthistorischen-museum/
LOCATION:Kunsthistorisches Museum\, Burgring 5\, Wien\, 1010
CATEGORIES:Demenz,Kunst und Kultur,Unterhaltung
ATTACH;FMTTYPE=image/jpeg:https://kalender.seniorinnen.wien/wp-content/uploads/2022/03/GG_Saal_VII_042013_DC74630_AWSZ.jpg
END:VEVENT
END:VCALENDAR