BEGIN:VCALENDAR
VERSION:2.0
PRODID:-//Wien für Senior:innen - ECPv6.15.17.1//NONSGML v1.0//EN
CALSCALE:GREGORIAN
METHOD:PUBLISH
X-ORIGINAL-URL:https://kalender.seniorinnen.wien
X-WR-CALDESC:Veranstaltungen für Wien für Senior:innen
REFRESH-INTERVAL;VALUE=DURATION:PT1H
X-Robots-Tag:noindex
X-PUBLISHED-TTL:PT1H
BEGIN:VTIMEZONE
TZID:Europe/Berlin
BEGIN:DAYLIGHT
TZOFFSETFROM:+0100
TZOFFSETTO:+0200
TZNAME:CEST
DTSTART:20240331T010000
END:DAYLIGHT
BEGIN:STANDARD
TZOFFSETFROM:+0200
TZOFFSETTO:+0100
TZNAME:CET
DTSTART:20241027T010000
END:STANDARD
BEGIN:DAYLIGHT
TZOFFSETFROM:+0100
TZOFFSETTO:+0200
TZNAME:CEST
DTSTART:20250330T010000
END:DAYLIGHT
BEGIN:STANDARD
TZOFFSETFROM:+0200
TZOFFSETTO:+0100
TZNAME:CET
DTSTART:20251026T010000
END:STANDARD
BEGIN:DAYLIGHT
TZOFFSETFROM:+0100
TZOFFSETTO:+0200
TZNAME:CEST
DTSTART:20260329T010000
END:DAYLIGHT
BEGIN:STANDARD
TZOFFSETFROM:+0200
TZOFFSETTO:+0100
TZNAME:CET
DTSTART:20261025T010000
END:STANDARD
END:VTIMEZONE
BEGIN:VEVENT
DTSTART;TZID=Europe/Berlin:20250922T170000
DTEND;TZID=Europe/Berlin:20250922T183000
DTSTAMP:20260420T224131
CREATED:20250917T100411Z
LAST-MODIFIED:20250917T100446Z
UID:10476-1758560400-1758565800@kalender.seniorinnen.wien
SUMMARY:WELT-ALZHEIMERTAG 2025
DESCRIPTION:FORTSCHRITTE BEI PRÄVENTION\, FRÜHERKENNUNGUND THERAPIE – HOFFNUNGEN\, CHANCEN & FAKTEN\nWAS ERWARTET SIE? \nDer diesjährige Welt-Alzheimertag am 21.09.2025 steht bei uns ganz im Zeichen der Hoffnung: Vielversprechende Erkenntnisse zur Prävention sowie Fortschritte in Früherkennung und Therapie eröffnen neue Chancen. Wir sprechen über Fakten und klären verständlich auf. \nPrävention: Wie können wir das Potenzial der Vorbeugung besser nutzen?\nFrüherkennung: Wie lassen sich erste Anzeichenerkennen? Wie sieht der Weg zur Abklärung aus?\nTherapien: Welche Behandlungsmöglichkeiten gibt es? Forschung: Was bringt die Zukunft?\nUnterstützung: Was brauchen Betroffene und Angehörige? \nVortragende:  \nDr. Sara Silvaieh\nAlzheimerexpertin\, Uniklinik für Neurologie\, AKH Wien \nRaphael Schönborn\, MA\, Geschäftsführer von KompetenzDemenz.at und PROMENZ.at \nStellen Sie Ihre Fragen live oder schicken Sie sie uns vorab! \nKontakt & kostenlose Anmeldung:\nE-Mail:kontakt@kompetenzdemenz.at\nTel.:+43 676 792 0903 \n\nWelt-Alzheimertag 2025 \n\nFoto: Pixabay
URL:https://kalender.seniorinnen.wien/event/welt-alzheimertag-2025-21-09-2025/
LOCATION:Online
CATEGORIES:Demenz
ATTACH;FMTTYPE=image/jpeg:https://kalender.seniorinnen.wien/wp-content/uploads/2025/08/Schriftzug-Demenz-©Pixabay-e1754396077386.jpg
END:VEVENT
END:VCALENDAR