BEGIN:VCALENDAR
VERSION:2.0
PRODID:-//Wien für Senior:innen - ECPv6.15.17.1//NONSGML v1.0//EN
CALSCALE:GREGORIAN
METHOD:PUBLISH
X-ORIGINAL-URL:https://kalender.seniorinnen.wien
X-WR-CALDESC:Veranstaltungen für Wien für Senior:innen
REFRESH-INTERVAL;VALUE=DURATION:PT1H
X-Robots-Tag:noindex
X-PUBLISHED-TTL:PT1H
BEGIN:VTIMEZONE
TZID:Europe/Berlin
BEGIN:DAYLIGHT
TZOFFSETFROM:+0100
TZOFFSETTO:+0200
TZNAME:CEST
DTSTART:20230326T010000
END:DAYLIGHT
BEGIN:STANDARD
TZOFFSETFROM:+0200
TZOFFSETTO:+0100
TZNAME:CET
DTSTART:20231029T010000
END:STANDARD
BEGIN:DAYLIGHT
TZOFFSETFROM:+0100
TZOFFSETTO:+0200
TZNAME:CEST
DTSTART:20240331T010000
END:DAYLIGHT
BEGIN:STANDARD
TZOFFSETFROM:+0200
TZOFFSETTO:+0100
TZNAME:CET
DTSTART:20241027T010000
END:STANDARD
BEGIN:DAYLIGHT
TZOFFSETFROM:+0100
TZOFFSETTO:+0200
TZNAME:CEST
DTSTART:20250330T010000
END:DAYLIGHT
BEGIN:STANDARD
TZOFFSETFROM:+0200
TZOFFSETTO:+0100
TZNAME:CET
DTSTART:20251026T010000
END:STANDARD
END:VTIMEZONE
BEGIN:VEVENT
DTSTART;TZID=Europe/Berlin:20241208T100000
DTEND;TZID=Europe/Berlin:20241208T120000
DTSTAMP:20260421T044426
CREATED:20241114T100155Z
LAST-MODIFIED:20241114T100155Z
UID:6990-1733652000-1733659200@kalender.seniorinnen.wien
SUMMARY:Demenzfreundlicher Gottesdienst der evangelischen Pfarrgemeinde Simmering
DESCRIPTION:Am Sonntag\, dem 8. Dezember 2024 findet um 10 Uhr in der Glaubenskirche ein demenzfreundlicher Gottesdienst statt. \nEs predigt Sepp Lagger. Der Kirchenmusiker Karl Wagner wird seine Knöpfelharmonika zum Gottesdienst mitbringen und es werden bekannte Lieder gesungen. \n\nWeitere Informationen:\nhttps://www.glaubenskirche.at/gottesdienst/demeinzfreundlicher-gotetsdienst-1
URL:https://kalender.seniorinnen.wien/event/demenzfreundlicher-gottesdienst-der-evangelischen-pfarrgemeinde-simmering/
LOCATION:Glaubenskirche der Pfarrgemeinde Simmering\, Braunhubergasse 20\, Wien\, 1110
CATEGORIES:Begegnung,Demenz
ATTACH;FMTTYPE=image/jpeg:https://kalender.seniorinnen.wien/wp-content/uploads/2024/11/hands-2168901_1280_Pixabay.jpg
ORGANIZER;CN="Glaubenskirche der Pfarrkirche Simmering":MAILTO:PG.Simmering@evang.at
END:VEVENT
END:VCALENDAR