BEGIN:VCALENDAR
VERSION:2.0
PRODID:-//Wien für Senior:innen - ECPv6.15.17.1//NONSGML v1.0//EN
CALSCALE:GREGORIAN
METHOD:PUBLISH
X-WR-CALNAME:Wien für Senior:innen
X-ORIGINAL-URL:https://kalender.seniorinnen.wien
X-WR-CALDESC:Veranstaltungen für Wien für Senior:innen
REFRESH-INTERVAL;VALUE=DURATION:PT1H
X-Robots-Tag:noindex
X-PUBLISHED-TTL:PT1H
BEGIN:VTIMEZONE
TZID:Europe/Berlin
BEGIN:DAYLIGHT
TZOFFSETFROM:+0100
TZOFFSETTO:+0200
TZNAME:CEST
DTSTART:20240331T010000
END:DAYLIGHT
BEGIN:STANDARD
TZOFFSETFROM:+0200
TZOFFSETTO:+0100
TZNAME:CET
DTSTART:20241027T010000
END:STANDARD
BEGIN:DAYLIGHT
TZOFFSETFROM:+0100
TZOFFSETTO:+0200
TZNAME:CEST
DTSTART:20250330T010000
END:DAYLIGHT
BEGIN:STANDARD
TZOFFSETFROM:+0200
TZOFFSETTO:+0100
TZNAME:CET
DTSTART:20251026T010000
END:STANDARD
BEGIN:DAYLIGHT
TZOFFSETFROM:+0100
TZOFFSETTO:+0200
TZNAME:CEST
DTSTART:20260329T010000
END:DAYLIGHT
BEGIN:STANDARD
TZOFFSETFROM:+0200
TZOFFSETTO:+0100
TZNAME:CET
DTSTART:20261025T010000
END:STANDARD
END:VTIMEZONE
BEGIN:VEVENT
DTSTART;TZID=Europe/Berlin:20251022T150000
DTEND;TZID=Europe/Berlin:20251022T180000
DTSTAMP:20260421T011846
CREATED:20250831T230035Z
LAST-MODIFIED:20250828T081518Z
UID:8586-1761145200-1761156000@kalender.seniorinnen.wien
SUMMARY:Kochen für die Zukunft
DESCRIPTION:Die Gebietsbetreuung Stadterneuerung lädt begeisterte Köch:innen ein\, gemeinsam zu schnippeln\, zu rühren und natürlich auch zu genießen! Aus saisonalen und geretteten Lebensmitteln zaubern wir ein 3-Gänge-Menü. Ganz nach dem Motto: Wir lassen uns die Zukunft schmecken. Beim Essen informieren wir über Regionalität von Produkten und über Standorte\, an denen man gerettete Lebensmittel regional\, kostengünstig oder gratis beziehen kann – sei es am Markt\, von Fairteilern oder Foodsharing. \nMax. 12 Teilnehmer:innen pro Termin \nAnmeldung bis 20.10. \nTel.: 0676 699 55 69 \nMail: ost@gbstern.at \n  \nFoto: Envato
URL:https://kalender.seniorinnen.wien/event/kochen-fuer-die-zukunft-2/
LOCATION:GB*Stadtteilbüro für den 22. Bezirk\, Bernoullistraße 1 (Ecke Curiegasse\, neben der Apotheke)\, Wien\, Wien\, 1220\, Austria
CATEGORIES:Monat der Senior:innen
ATTACH;FMTTYPE=image/jpeg:https://kalender.seniorinnen.wien/wp-content/uploads/2025/08/Bild_Kochen-fuer-die-Zukunft_MdS-e1754929130415.jpg
ORGANIZER;CN="GB*Stadtteilb%C3%BCro f%C3%BCr den 22.Bezirk":MAILTO:ost@gbstern.at
END:VEVENT
END:VCALENDAR