BEGIN:VCALENDAR
VERSION:2.0
PRODID:-//Wien für Senior:innen - ECPv6.15.17.1//NONSGML v1.0//EN
CALSCALE:GREGORIAN
METHOD:PUBLISH
X-ORIGINAL-URL:https://kalender.seniorinnen.wien
X-WR-CALDESC:Veranstaltungen für Wien für Senior:innen
REFRESH-INTERVAL;VALUE=DURATION:PT1H
X-Robots-Tag:noindex
X-PUBLISHED-TTL:PT1H
BEGIN:VTIMEZONE
TZID:Europe/Berlin
BEGIN:DAYLIGHT
TZOFFSETFROM:+0100
TZOFFSETTO:+0200
TZNAME:CEST
DTSTART:20210328T010000
END:DAYLIGHT
BEGIN:STANDARD
TZOFFSETFROM:+0200
TZOFFSETTO:+0100
TZNAME:CET
DTSTART:20211031T010000
END:STANDARD
BEGIN:DAYLIGHT
TZOFFSETFROM:+0100
TZOFFSETTO:+0200
TZNAME:CEST
DTSTART:20220327T010000
END:DAYLIGHT
BEGIN:STANDARD
TZOFFSETFROM:+0200
TZOFFSETTO:+0100
TZNAME:CET
DTSTART:20221030T010000
END:STANDARD
BEGIN:DAYLIGHT
TZOFFSETFROM:+0100
TZOFFSETTO:+0200
TZNAME:CEST
DTSTART:20230326T010000
END:DAYLIGHT
BEGIN:STANDARD
TZOFFSETFROM:+0200
TZOFFSETTO:+0100
TZNAME:CET
DTSTART:20231029T010000
END:STANDARD
END:VTIMEZONE
BEGIN:VEVENT
DTSTART;VALUE=DATE:20221008
DTEND;VALUE=DATE:20221010
DTSTAMP:20260420T183918
CREATED:20220725T124058Z
LAST-MODIFIED:20220822T084356Z
UID:2854-1665187200-1665359999@kalender.seniorinnen.wien
SUMMARY:Wiener Freiwilligenmesse
DESCRIPTION:Die Wiener Freiwilligenmesse bietet einen Überblick über alle Angebote zur Freiwilligenarbeit in Wien. Interessierten wird die Möglichkeit geboten\, mit Mitarbeiter:innen von rund 100 ausstellenden Organisationen ins Gespräch zu kommen. Vielleicht gibt es für Sie die ideale Einrichtung\, um sich freiwillig zu engagieren. Der Eintritt ist frei\, keine Voranmeldung erforderlich. \nBitte beachten Sie: Aufgrund COVID-19 sind kurzfristige Änderungen oder auch Absagen möglich. Das Team der Senior:innenbeauftragten und die Veranstalter:innen bitten um Verständnis. \n(c) Freiwilligenmesse
URL:https://kalender.seniorinnen.wien/event/wiener-freiwilligenmesse/
LOCATION:Wiener Rathaus\, Friedrich-Schmidt-Platz\, Wien\, 1010\, Österreich
CATEGORIES:Monat der Senior:innen
ATTACH;FMTTYPE=image/jpeg:https://kalender.seniorinnen.wien/wp-content/uploads/2020/07/Freiwilligenmesse-2019-3737-highres-c-Renée-Del-Missier-scaled.jpeg
END:VEVENT
END:VCALENDAR