BEGIN:VCALENDAR
VERSION:2.0
PRODID:-//Wien für Senior:innen - ECPv6.15.17.1//NONSGML v1.0//EN
CALSCALE:GREGORIAN
METHOD:PUBLISH
X-WR-CALNAME:Wien für Senior:innen
X-ORIGINAL-URL:https://kalender.seniorinnen.wien
X-WR-CALDESC:Veranstaltungen für Wien für Senior:innen
REFRESH-INTERVAL;VALUE=DURATION:PT1H
X-Robots-Tag:noindex
X-PUBLISHED-TTL:PT1H
BEGIN:VTIMEZONE
TZID:Europe/Berlin
BEGIN:DAYLIGHT
TZOFFSETFROM:+0100
TZOFFSETTO:+0200
TZNAME:CEST
DTSTART:20230326T010000
END:DAYLIGHT
BEGIN:STANDARD
TZOFFSETFROM:+0200
TZOFFSETTO:+0100
TZNAME:CET
DTSTART:20231029T010000
END:STANDARD
BEGIN:DAYLIGHT
TZOFFSETFROM:+0100
TZOFFSETTO:+0200
TZNAME:CEST
DTSTART:20240331T010000
END:DAYLIGHT
BEGIN:STANDARD
TZOFFSETFROM:+0200
TZOFFSETTO:+0100
TZNAME:CET
DTSTART:20241027T010000
END:STANDARD
BEGIN:DAYLIGHT
TZOFFSETFROM:+0100
TZOFFSETTO:+0200
TZNAME:CEST
DTSTART:20250330T010000
END:DAYLIGHT
BEGIN:STANDARD
TZOFFSETFROM:+0200
TZOFFSETTO:+0100
TZNAME:CET
DTSTART:20251026T010000
END:STANDARD
END:VTIMEZONE
BEGIN:VEVENT
DTSTART;TZID=Europe/Berlin:20241022T180000
DTEND;TZID=Europe/Berlin:20241022T200000
DTSTAMP:20260421T003316
CREATED:20240930T102947Z
LAST-MODIFIED:20240930T103228Z
UID:6759-1729620000-1729627200@kalender.seniorinnen.wien
SUMMARY:Gesundheitscercle: Leben mit Demenz
DESCRIPTION:Der Gesundheitscercle 2024 wird als fünfteilige Vortragsserie von Seiten der EURAG Österreich im Wiener Rathaus stattfinden. Im Rahmen des Gesundheitscercle findet am 22. Okt. ein Vortrag zum Thema „Leben mit Demenz – Hilfe für Betroffene und Angehörige“ im Wiener Rathaus (Top 24) statt. Wie Demenz das Leben beeinflusst und welche Unterstützungsmöglichkeiten es gibt\, darüber wird diskutiert. \nDie Teilnahme ist kostenlos. Weitere Informationen: www.eurag.at bzw. eurag@eurag.at
URL:https://kalender.seniorinnen.wien/event/gesundheitscercle-leben-mit-demenz/
LOCATION:Wiener Rathaus\, Friedrich-Schmidt-Platz\, Wien\, 1010\, Österreich
CATEGORIES:Bildung,Demenz,Information,Monat der Senior:innen
ATTACH;FMTTYPE=image/jpeg:https://kalender.seniorinnen.wien/wp-content/uploads/2024/09/microphone-2316268_640-e1727692126318.jpg
ORGANIZER;CN="EURAG %C3%96sterreich":MAILTO:eurag@eurag.at
END:VEVENT
END:VCALENDAR