BEGIN:VCALENDAR
VERSION:2.0
PRODID:-//Wien für Senior:innen - ECPv6.15.17.1//NONSGML v1.0//EN
CALSCALE:GREGORIAN
METHOD:PUBLISH
X-WR-CALNAME:Wien für Senior:innen
X-ORIGINAL-URL:https://kalender.seniorinnen.wien
X-WR-CALDESC:Veranstaltungen für Wien für Senior:innen
REFRESH-INTERVAL;VALUE=DURATION:PT1H
X-Robots-Tag:noindex
X-PUBLISHED-TTL:PT1H
BEGIN:VTIMEZONE
TZID:Europe/Berlin
BEGIN:DAYLIGHT
TZOFFSETFROM:+0100
TZOFFSETTO:+0200
TZNAME:CEST
DTSTART:20230326T010000
END:DAYLIGHT
BEGIN:STANDARD
TZOFFSETFROM:+0200
TZOFFSETTO:+0100
TZNAME:CET
DTSTART:20231029T010000
END:STANDARD
BEGIN:DAYLIGHT
TZOFFSETFROM:+0100
TZOFFSETTO:+0200
TZNAME:CEST
DTSTART:20240331T010000
END:DAYLIGHT
BEGIN:STANDARD
TZOFFSETFROM:+0200
TZOFFSETTO:+0100
TZNAME:CET
DTSTART:20241027T010000
END:STANDARD
BEGIN:DAYLIGHT
TZOFFSETFROM:+0100
TZOFFSETTO:+0200
TZNAME:CEST
DTSTART:20250330T010000
END:DAYLIGHT
BEGIN:STANDARD
TZOFFSETFROM:+0200
TZOFFSETTO:+0100
TZNAME:CET
DTSTART:20251026T010000
END:STANDARD
BEGIN:DAYLIGHT
TZOFFSETFROM:+0100
TZOFFSETTO:+0200
TZNAME:CEST
DTSTART:20260329T010000
END:DAYLIGHT
BEGIN:STANDARD
TZOFFSETFROM:+0200
TZOFFSETTO:+0100
TZNAME:CET
DTSTART:20261025T010000
END:STANDARD
BEGIN:DAYLIGHT
TZOFFSETFROM:+0100
TZOFFSETTO:+0200
TZNAME:CEST
DTSTART:20270328T010000
END:DAYLIGHT
BEGIN:STANDARD
TZOFFSETFROM:+0200
TZOFFSETTO:+0100
TZNAME:CET
DTSTART:20271031T010000
END:STANDARD
END:VTIMEZONE
BEGIN:VEVENT
DTSTART;TZID=Europe/Berlin:20260318T160000
DTEND;TZID=Europe/Berlin:20260318T173000
DTSTAMP:20260423T122816
CREATED:20260302T073610Z
LAST-MODIFIED:20260302T073610Z
UID:12247-1773849600-1773855000@kalender.seniorinnen.wien
SUMMARY:Vergessen? Demenz? Reden wir darüber!
DESCRIPTION:Informationsmöglichkeit und Austausch zum Thema Vergesslichkeit und Demenz \nMittwoch\, 18. März 2026\, 16 bis 17:30 Uhr\nHeuriger EDLMOSER\nMaurer Lange Gasse 123\, 1230 Wien \nErreichbar mit der Autobuslinie 60A \nBitte-wenn möglich-um Anmeldung: petra.hausteiner@cs.at\nEintritt frei \nFoto: Pixabay
URL:https://kalender.seniorinnen.wien/event/vergessen-demenz-reden-wir-darueber-4/
LOCATION:Heuriger Edlmoser\, Maurer Lange Gasse 123\, Wien\, 1230\, Österreich
CATEGORIES:Demenz,Information
ATTACH;FMTTYPE=image/jpeg:https://kalender.seniorinnen.wien/wp-content/uploads/2025/08/Schriftzug-Demenz-©Pixabay-e1754396077386.jpg
END:VEVENT
BEGIN:VEVENT
DTSTART;TZID=Europe/Berlin:20251105T160000
DTEND;TZID=Europe/Berlin:20251105T173000
DTSTAMP:20260423T122816
CREATED:20251014T063829Z
LAST-MODIFIED:20251014T063829Z
UID:10961-1762358400-1762363800@kalender.seniorinnen.wien
SUMMARY:Vergessen? Demenz?
DESCRIPTION:Netzwerk demenzfreundlicher 23. Bezirk\nReden wir darüber!\nTreffpunkt Heuriger\nHeuriger Edlmoser\nMaurer Lange Gasse 123\n1230 Wien \nInformationsmöglichkeit und Austausch zum Thema Vergesslichkeit und Demenz \nAnmeldung: petra.hausteiner@cs.at \n 
URL:https://kalender.seniorinnen.wien/event/vergessen-demenz-2/
CATEGORIES:Demenz,Information
ATTACH;FMTTYPE=image/jpeg:https://kalender.seniorinnen.wien/wp-content/uploads/2025/08/Schriftzug-Demenz-©Pixabay-e1754396077386.jpg
END:VEVENT
BEGIN:VEVENT
DTSTART;TZID=Europe/Berlin:20251014T103000
DTEND;TZID=Europe/Berlin:20251014T113000
DTSTAMP:20260423T122816
CREATED:20250831T230034Z
LAST-MODIFIED:20250828T064841Z
UID:8325-1760437800-1760441400@kalender.seniorinnen.wien
SUMMARY:Live-Musik mit Entertainer Martin - beliebte Schlager zum Mitsingen und Tanzen
DESCRIPTION:Lassen Sie sich mitreißen von beliebten Schlagern und bekannten Oldies – perfekt zum Mitsingen\, Mitschunkeln und Mittanzen! Entertainer Martin sorgt mit Charme\, Stimme und viel Gefühl für beste Unterhaltung und unvergessliche Stimmung. \nAnmeldung bis 1.10. \nTel.: 01 717 53-2840\nMail: gertrude.beidl@cs.at \n  \nFoto: Entertainer Martin
URL:https://kalender.seniorinnen.wien/event/live-musik-mit-entertainer-martin-beliebte-schlager-zum-mitsingen-und-tanzen/
LOCATION:CS Kalksburg (Café Schlössl)\, Breitenfurter Straße 529\,1230 Wien\, Breitenfurter Straße 529\, Wien\, 1230
CATEGORIES:Demenz,Monat der Senior:innen
ATTACH;FMTTYPE=image/jpeg:https://kalender.seniorinnen.wien/wp-content/uploads/2025/08/entertainer-martin-couch-quer_-1-e1754491237451.jpg
END:VEVENT
BEGIN:VEVENT
DTSTART;TZID=Europe/Berlin:20251002T101500
DTEND;TZID=Europe/Berlin:20251002T111500
DTSTAMP:20260423T122816
CREATED:20250831T230035Z
LAST-MODIFIED:20250826T100402Z
UID:8849-1759400100-1759403700@kalender.seniorinnen.wien
SUMMARY:Lebenskunst
DESCRIPTION:Welche Lebensweisheiten helfen\, im Alter gut zu leben? \nWir arbeiten an unseren inneren Einstellungen\, an der Gemeinschaftsbildung und an der Gestaltung des eigenen Lebensabschnittes. Wir fragen\, was die jeweiligen Teilnehmenden lebensfroh und zuversichtlich macht oder was gerade Sorgen bereitet. \nZiele unserer Zusammenkunft können sein: Wertebewusstsein\, Lebensfreude und Hoffnung zu stärken und die Kraft der Gegenwart zu nutzen. \nMaximal 15 Teilnehmende \nAnmeldung: bis 29.9. 2025 \nTel.: 01 71753 2343 (Rezeption)\nE-Mail: Margret.wohlfahrt@cs.at \nFoto: CS Caritas Socialis GmbH
URL:https://kalender.seniorinnen.wien/event/lebenskunst/
LOCATION:CS Kalksburg (Café Schlössl)\, Breitenfurter Straße 529\,1230 Wien\, Breitenfurter Straße 529\, Wien\, 1230
CATEGORIES:Begegnung,Monat der Senior:innen,Selbstfürsorge
ATTACH;FMTTYPE=image/jpeg:https://kalender.seniorinnen.wien/wp-content/uploads/2025/08/Lebenskunst-scaled-e1755783480361.jpg
END:VEVENT
BEGIN:VEVENT
DTSTART;TZID=Europe/Berlin:20240607T170000
DTEND;TZID=Europe/Berlin:20240607T200000
DTSTAMP:20260423T122816
CREATED:20240417T114910Z
LAST-MODIFIED:20240417T114910Z
UID:5672-1717779600-1717790400@kalender.seniorinnen.wien
SUMMARY:Demenzimpuls in der "Langen Nacht der Kirchen"
DESCRIPTION:In der „Langen Nacht der Kirchen“ am Freitag\, 7. Juni 2024 gibt es ein Programm der CS Kalksburg: \n17:00 – 17:30 WILLKOMMEN in der CS Caritas Socialis Kalksburg – unser Konzept\nDas CS-Konzept wird von Pflegedienst- und Heimleiterin Sabine Walzer\, MSc\, vorgestellt. \n17:30 – 18:00 SPIRITUELLES SINGEN „Öffne dein Herz“\nJede Woche treffen sich unsere Bewohner:innen zum „Spirituellen Singen“.\nWir laden ein zu heilsamen Liedern\, die unser Herz für die Heilige Geistkraft öffnen. \n18:00 – 18:30 AGAPE \n18:30 – 19:00 KAPELLENFÜHRUNG – Von einer Umarmung erwartet\nSr. Karin Weiler führt durch die neue Kapelle. \n19:00 – 20:00 TERRASSENGESPRÄCH „Demenz kompakt“\nDemenz ist ein Thema\, das zu Herzen geht. Für viele ist es eine große Herausforderung: für Betroffene\, Angehörige\, Ehrenamtliche.\nGerda Schmidt und Dagmar Woods geben Input zum Thema Demenz\, gehen auf Ihre Fragen ein\, kommen ins Gespräch.
URL:https://kalender.seniorinnen.wien/event/demenzimpuls-in-der-langen-nacht-der-kirchen/
LOCATION:CS Caritas Socialis Kalksburg\, Breitenfurterstr. 529\, Wien\, 1230
CATEGORIES:Demenz
END:VEVENT
END:VCALENDAR