BEGIN:VCALENDAR
VERSION:2.0
PRODID:-//Wien für Senior:innen - ECPv6.15.17.1//NONSGML v1.0//EN
CALSCALE:GREGORIAN
METHOD:PUBLISH
X-WR-CALNAME:Wien für Senior:innen
X-ORIGINAL-URL:https://kalender.seniorinnen.wien
X-WR-CALDESC:Veranstaltungen für Wien für Senior:innen
REFRESH-INTERVAL;VALUE=DURATION:PT1H
X-Robots-Tag:noindex
X-PUBLISHED-TTL:PT1H
BEGIN:VTIMEZONE
TZID:Europe/Berlin
BEGIN:DAYLIGHT
TZOFFSETFROM:+0100
TZOFFSETTO:+0200
TZNAME:CEST
DTSTART:20250330T010000
END:DAYLIGHT
BEGIN:STANDARD
TZOFFSETFROM:+0200
TZOFFSETTO:+0100
TZNAME:CET
DTSTART:20251026T010000
END:STANDARD
BEGIN:DAYLIGHT
TZOFFSETFROM:+0100
TZOFFSETTO:+0200
TZNAME:CEST
DTSTART:20260329T010000
END:DAYLIGHT
BEGIN:STANDARD
TZOFFSETFROM:+0200
TZOFFSETTO:+0100
TZNAME:CET
DTSTART:20261025T010000
END:STANDARD
BEGIN:DAYLIGHT
TZOFFSETFROM:+0100
TZOFFSETTO:+0200
TZNAME:CEST
DTSTART:20270328T010000
END:DAYLIGHT
BEGIN:STANDARD
TZOFFSETFROM:+0200
TZOFFSETTO:+0100
TZNAME:CET
DTSTART:20271031T010000
END:STANDARD
END:VTIMEZONE
BEGIN:VEVENT
DTSTART;TZID=Europe/Berlin:20260427T090000
DTEND;TZID=Europe/Berlin:20260427T121500
DTSTAMP:20260421T101902
CREATED:20260316T130636Z
LAST-MODIFIED:20260316T131244Z
UID:12449-1777280400-1777292100@kalender.seniorinnen.wien
SUMMARY:BFI Wien: Digitale Senior:innenbildung
DESCRIPTION:Beginn 20. April (Workshopreihe mit 3 Terminen) \nKostenloser Workshop zur digitalen Senior:innenbildung wieder im Kursangebot vom BFI Wien! \nIn diesem Workshop unterstützen wir Senior:innen dabei\, digitale Kompetenzen zu stärken und den sicheren Umgang mit digitalen Medien zu erlernen – praxisnah\, verständlich und mit viel Geduld. \nOrt: BFI Wien\, Alfred-Dallinger-Platz 1\, 1030 Wien \nAnmeldung:\nKurs. Nr: 25BMS80007 (Workshopreihe mit 3 Terminen)\nOnline: Suche | BFI Wien\nTel.: 01 8117810100 \nFoto: Pixabay
URL:https://kalender.seniorinnen.wien/event/bfi-wien-digitale-seniorinnenbildung-2/2026-04-27/
LOCATION:bfi Wien\, Alfred-Dallinger-Platz 1\, Wien\, Wien\, 1030\, Austria
CATEGORIES:Digital und Online,Information
ATTACH;FMTTYPE=image/jpeg:https://kalender.seniorinnen.wien/wp-content/uploads/2026/03/stocksnap-macbook-924015-scaled.jpg
END:VEVENT
BEGIN:VEVENT
DTSTART;TZID=Europe/Berlin:20260504T090000
DTEND;TZID=Europe/Berlin:20260504T121500
DTSTAMP:20260421T101902
CREATED:20260316T130636Z
LAST-MODIFIED:20260316T131245Z
UID:12450-1777885200-1777896900@kalender.seniorinnen.wien
SUMMARY:BFI Wien: Digitale Senior:innenbildung
DESCRIPTION:Beginn 20. April (Workshopreihe mit 3 Terminen) \nKostenloser Workshop zur digitalen Senior:innenbildung wieder im Kursangebot vom BFI Wien! \nIn diesem Workshop unterstützen wir Senior:innen dabei\, digitale Kompetenzen zu stärken und den sicheren Umgang mit digitalen Medien zu erlernen – praxisnah\, verständlich und mit viel Geduld. \nOrt: BFI Wien\, Alfred-Dallinger-Platz 1\, 1030 Wien \nAnmeldung:\nKurs. Nr: 25BMS80007 (Workshopreihe mit 3 Terminen)\nOnline: Suche | BFI Wien\nTel.: 01 8117810100 \nFoto: Pixabay
URL:https://kalender.seniorinnen.wien/event/bfi-wien-digitale-seniorinnenbildung-2/2026-05-04/
LOCATION:bfi Wien\, Alfred-Dallinger-Platz 1\, Wien\, Wien\, 1030\, Austria
CATEGORIES:Digital und Online,Information
ATTACH;FMTTYPE=image/jpeg:https://kalender.seniorinnen.wien/wp-content/uploads/2026/03/stocksnap-macbook-924015-scaled.jpg
END:VEVENT
BEGIN:VEVENT
DTSTART;TZID=Europe/Berlin:20260518T090000
DTEND;TZID=Europe/Berlin:20260518T121500
DTSTAMP:20260421T101902
CREATED:20260316T130923Z
LAST-MODIFIED:20260316T131232Z
UID:12451-1779094800-1779106500@kalender.seniorinnen.wien
SUMMARY:BFI Wien: Digitale Senior:innenbildung
DESCRIPTION:Beginn 18. Mai (Workshopreihe mit 3 Terminen) \nKostenloser Workshop zur digitalen Senior:innenbildung wieder im Kursangebot vom BFI Wien! \nIn diesem Workshop unterstützen wir Senior:innen dabei\, digitale Kompetenzen zu stärken und den sicheren Umgang mit digitalen Medien zu erlernen – praxisnah\, verständlich und mit viel Geduld. \nOrt: BFI Wien\, Alfred-Dallinger-Platz 1\, 1030 Wien \nAnmeldung:\nKurs. Nr: 25BMS80008 (Workshopreihe mit 3 Terminen)\nOnline: Suche | BFI Wien\nTel.: 01 8117810100 \nFoto: Pixabay
URL:https://kalender.seniorinnen.wien/event/bfi-wien-digitale-seniorinnenbildung-3/2026-05-18/
LOCATION:bfi Wien\, Alfred-Dallinger-Platz 1\, Wien\, Wien\, 1030\, Austria
CATEGORIES:Digital und Online,Information
ATTACH;FMTTYPE=image/jpeg:https://kalender.seniorinnen.wien/wp-content/uploads/2026/03/stocksnap-macbook-924015-scaled.jpg
END:VEVENT
BEGIN:VEVENT
DTSTART;TZID=Europe/Berlin:20260601T090000
DTEND;TZID=Europe/Berlin:20260601T121500
DTSTAMP:20260421T101902
CREATED:20260316T130923Z
LAST-MODIFIED:20260316T131233Z
UID:12452-1780304400-1780316100@kalender.seniorinnen.wien
SUMMARY:BFI Wien: Digitale Senior:innenbildung
DESCRIPTION:Beginn 18. Mai (Workshopreihe mit 3 Terminen) \nKostenloser Workshop zur digitalen Senior:innenbildung wieder im Kursangebot vom BFI Wien! \nIn diesem Workshop unterstützen wir Senior:innen dabei\, digitale Kompetenzen zu stärken und den sicheren Umgang mit digitalen Medien zu erlernen – praxisnah\, verständlich und mit viel Geduld. \nOrt: BFI Wien\, Alfred-Dallinger-Platz 1\, 1030 Wien \nAnmeldung:\nKurs. Nr: 25BMS80008 (Workshopreihe mit 3 Terminen)\nOnline: Suche | BFI Wien\nTel.: 01 8117810100 \nFoto: Pixabay
URL:https://kalender.seniorinnen.wien/event/bfi-wien-digitale-seniorinnenbildung-3/2026-06-01/
LOCATION:bfi Wien\, Alfred-Dallinger-Platz 1\, Wien\, Wien\, 1030\, Austria
CATEGORIES:Digital und Online,Information
ATTACH;FMTTYPE=image/jpeg:https://kalender.seniorinnen.wien/wp-content/uploads/2026/03/stocksnap-macbook-924015-scaled.jpg
END:VEVENT
BEGIN:VEVENT
DTSTART;TZID=Europe/Berlin:20260608T090000
DTEND;TZID=Europe/Berlin:20260608T121500
DTSTAMP:20260421T101902
CREATED:20260316T130923Z
LAST-MODIFIED:20260316T131234Z
UID:12453-1780909200-1780920900@kalender.seniorinnen.wien
SUMMARY:BFI Wien: Digitale Senior:innenbildung
DESCRIPTION:Beginn 18. Mai (Workshopreihe mit 3 Terminen) \nKostenloser Workshop zur digitalen Senior:innenbildung wieder im Kursangebot vom BFI Wien! \nIn diesem Workshop unterstützen wir Senior:innen dabei\, digitale Kompetenzen zu stärken und den sicheren Umgang mit digitalen Medien zu erlernen – praxisnah\, verständlich und mit viel Geduld. \nOrt: BFI Wien\, Alfred-Dallinger-Platz 1\, 1030 Wien \nAnmeldung:\nKurs. Nr: 25BMS80008 (Workshopreihe mit 3 Terminen)\nOnline: Suche | BFI Wien\nTel.: 01 8117810100 \nFoto: Pixabay
URL:https://kalender.seniorinnen.wien/event/bfi-wien-digitale-seniorinnenbildung-3/2026-06-08/
LOCATION:bfi Wien\, Alfred-Dallinger-Platz 1\, Wien\, Wien\, 1030\, Austria
CATEGORIES:Digital und Online,Information
ATTACH;FMTTYPE=image/jpeg:https://kalender.seniorinnen.wien/wp-content/uploads/2026/03/stocksnap-macbook-924015-scaled.jpg
END:VEVENT
BEGIN:VEVENT
DTSTART;TZID=Europe/Berlin:20260615T090000
DTEND;TZID=Europe/Berlin:20260615T121500
DTSTAMP:20260421T101902
CREATED:20260316T131159Z
LAST-MODIFIED:20260316T131221Z
UID:12455-1781514000-1781525700@kalender.seniorinnen.wien
SUMMARY:BFI Wien: Digitale Senior:innenbildung
DESCRIPTION:Beginn 15. Juni (Workshopreihe mit 3 Terminen) \nKostenloser Workshop zur digitalen Senior:innenbildung wieder im Kursangebot vom BFI Wien! \nIn diesem Workshop unterstützen wir Senior:innen dabei\, digitale Kompetenzen zu stärken und den sicheren Umgang mit digitalen Medien zu erlernen – praxisnah\, verständlich und mit viel Geduld. \nOrt: BFI Wien\, Alfred-Dallinger-Platz 1\, 1030 Wien \nAnmeldung:\nKurs. Nr: 25BMS80010 (Workshopreihe mit 3 Terminen)\nOnline: Suche | BFI Wien\nTel.: 01 8117810100 \nFoto: Pixabay
URL:https://kalender.seniorinnen.wien/event/bfi-wien-digitale-seniorinnenbildung-4/2026-06-15/
LOCATION:bfi Wien\, Alfred-Dallinger-Platz 1\, Wien\, Wien\, 1030\, Austria
CATEGORIES:Digital und Online,Information
ATTACH;FMTTYPE=image/jpeg:https://kalender.seniorinnen.wien/wp-content/uploads/2026/03/stocksnap-macbook-924015-scaled.jpg
END:VEVENT
BEGIN:VEVENT
DTSTART;TZID=Europe/Berlin:20260622T090000
DTEND;TZID=Europe/Berlin:20260622T121500
DTSTAMP:20260421T101902
CREATED:20260316T131159Z
LAST-MODIFIED:20260316T131221Z
UID:12457-1782118800-1782130500@kalender.seniorinnen.wien
SUMMARY:BFI Wien: Digitale Senior:innenbildung
DESCRIPTION:Beginn 15. Juni (Workshopreihe mit 3 Terminen) \nKostenloser Workshop zur digitalen Senior:innenbildung wieder im Kursangebot vom BFI Wien! \nIn diesem Workshop unterstützen wir Senior:innen dabei\, digitale Kompetenzen zu stärken und den sicheren Umgang mit digitalen Medien zu erlernen – praxisnah\, verständlich und mit viel Geduld. \nOrt: BFI Wien\, Alfred-Dallinger-Platz 1\, 1030 Wien \nAnmeldung:\nKurs. Nr: 25BMS80010 (Workshopreihe mit 3 Terminen)\nOnline: Suche | BFI Wien\nTel.: 01 8117810100 \nFoto: Pixabay
URL:https://kalender.seniorinnen.wien/event/bfi-wien-digitale-seniorinnenbildung-4/2026-06-22/
LOCATION:bfi Wien\, Alfred-Dallinger-Platz 1\, Wien\, Wien\, 1030\, Austria
CATEGORIES:Digital und Online,Information
ATTACH;FMTTYPE=image/jpeg:https://kalender.seniorinnen.wien/wp-content/uploads/2026/03/stocksnap-macbook-924015-scaled.jpg
END:VEVENT
BEGIN:VEVENT
DTSTART;TZID=Europe/Berlin:20260629T090000
DTEND;TZID=Europe/Berlin:20260629T121500
DTSTAMP:20260421T101902
CREATED:20260316T131159Z
LAST-MODIFIED:20260316T131222Z
UID:12458-1782723600-1782735300@kalender.seniorinnen.wien
SUMMARY:BFI Wien: Digitale Senior:innenbildung
DESCRIPTION:Beginn 15. Juni (Workshopreihe mit 3 Terminen) \nKostenloser Workshop zur digitalen Senior:innenbildung wieder im Kursangebot vom BFI Wien! \nIn diesem Workshop unterstützen wir Senior:innen dabei\, digitale Kompetenzen zu stärken und den sicheren Umgang mit digitalen Medien zu erlernen – praxisnah\, verständlich und mit viel Geduld. \nOrt: BFI Wien\, Alfred-Dallinger-Platz 1\, 1030 Wien \nAnmeldung:\nKurs. Nr: 25BMS80010 (Workshopreihe mit 3 Terminen)\nOnline: Suche | BFI Wien\nTel.: 01 8117810100 \nFoto: Pixabay
URL:https://kalender.seniorinnen.wien/event/bfi-wien-digitale-seniorinnenbildung-4/2026-06-29/
LOCATION:bfi Wien\, Alfred-Dallinger-Platz 1\, Wien\, Wien\, 1030\, Austria
CATEGORIES:Digital und Online,Information
ATTACH;FMTTYPE=image/jpeg:https://kalender.seniorinnen.wien/wp-content/uploads/2026/03/stocksnap-macbook-924015-scaled.jpg
END:VEVENT
END:VCALENDAR