BEGIN:VCALENDAR
VERSION:2.0
PRODID:-//Wien für Senior:innen - ECPv6.15.17.1//NONSGML v1.0//EN
CALSCALE:GREGORIAN
METHOD:PUBLISH
X-WR-CALNAME:Wien für Senior:innen
X-ORIGINAL-URL:https://kalender.seniorinnen.wien
X-WR-CALDESC:Veranstaltungen für Wien für Senior:innen
REFRESH-INTERVAL;VALUE=DURATION:PT1H
X-Robots-Tag:noindex
X-PUBLISHED-TTL:PT1H
BEGIN:VTIMEZONE
TZID:Europe/Berlin
BEGIN:DAYLIGHT
TZOFFSETFROM:+0100
TZOFFSETTO:+0200
TZNAME:CEST
DTSTART:20230326T010000
END:DAYLIGHT
BEGIN:STANDARD
TZOFFSETFROM:+0200
TZOFFSETTO:+0100
TZNAME:CET
DTSTART:20231029T010000
END:STANDARD
BEGIN:DAYLIGHT
TZOFFSETFROM:+0100
TZOFFSETTO:+0200
TZNAME:CEST
DTSTART:20240331T010000
END:DAYLIGHT
BEGIN:STANDARD
TZOFFSETFROM:+0200
TZOFFSETTO:+0100
TZNAME:CET
DTSTART:20241027T010000
END:STANDARD
BEGIN:DAYLIGHT
TZOFFSETFROM:+0100
TZOFFSETTO:+0200
TZNAME:CEST
DTSTART:20250330T010000
END:DAYLIGHT
BEGIN:STANDARD
TZOFFSETFROM:+0200
TZOFFSETTO:+0100
TZNAME:CET
DTSTART:20251026T010000
END:STANDARD
BEGIN:DAYLIGHT
TZOFFSETFROM:+0100
TZOFFSETTO:+0200
TZNAME:CEST
DTSTART:20260329T010000
END:DAYLIGHT
BEGIN:STANDARD
TZOFFSETFROM:+0200
TZOFFSETTO:+0100
TZNAME:CET
DTSTART:20261025T010000
END:STANDARD
END:VTIMEZONE
BEGIN:VTIMEZONE
TZID:Europe/Vienna
BEGIN:DAYLIGHT
TZOFFSETFROM:+0100
TZOFFSETTO:+0200
TZNAME:CEST
DTSTART:20220327T010000
END:DAYLIGHT
BEGIN:STANDARD
TZOFFSETFROM:+0200
TZOFFSETTO:+0100
TZNAME:CET
DTSTART:20221030T010000
END:STANDARD
BEGIN:DAYLIGHT
TZOFFSETFROM:+0100
TZOFFSETTO:+0200
TZNAME:CEST
DTSTART:20230326T010000
END:DAYLIGHT
BEGIN:STANDARD
TZOFFSETFROM:+0200
TZOFFSETTO:+0100
TZNAME:CET
DTSTART:20231029T010000
END:STANDARD
BEGIN:DAYLIGHT
TZOFFSETFROM:+0100
TZOFFSETTO:+0200
TZNAME:CEST
DTSTART:20240331T010000
END:DAYLIGHT
BEGIN:STANDARD
TZOFFSETFROM:+0200
TZOFFSETTO:+0100
TZNAME:CET
DTSTART:20241027T010000
END:STANDARD
END:VTIMEZONE
BEGIN:VEVENT
DTSTART;TZID=Europe/Berlin:20251017T100000
DTEND;TZID=Europe/Berlin:20251017T130000
DTSTAMP:20260420T175052
CREATED:20250831T230050Z
LAST-MODIFIED:20250829T073350Z
UID:8258-1760695200-1760706000@kalender.seniorinnen.wien
SUMMARY:Zentralfriedhof und Bestattungsmuseum
DESCRIPTION:Die Führung gibt Aufschluss über die Geschichte des Zentralfriedhofs: Wir besuchen die alten Arkaden\, die Musiker:innen-Gruppe\, die Präsidentengruft\, die Karl-Borromäus-Kirche\, die Politiker:innengräber sowie die Ehrengräber von Udo Jürgens\, Manfred Deix\, Willi Resetarits und vielen mehr. Danach geht es weiter in das Bestattungsmuseum unter der Aufbahrungshalle 2. \nHier tauchen wir in die Welt der Wiener Bestattungskultur. Der Tod ist schließlich ein Wiener! \nMax. 25 Teilnehmer:innen pro Termin \nAnmeldung bis 5.10. \nTel.: 01 50 195 28 502\nE-Mail: office@bestattungwien.at \nFoto: Pixabay
URL:https://kalender.seniorinnen.wien/event/zentralfriedhof-und-bestattungsmuseum/2025-10-17/
LOCATION:Wiener Zentralfriedhof\, Simmeringer Hauptstraße 339\, Wien\, Wien\, 1110\, Austria
CATEGORIES:Monat der Senior:innen
ATTACH;FMTTYPE=image/jpeg:https://kalender.seniorinnen.wien/wp-content/uploads/2025/09/church-4445760_1920-e1756451660185.jpg
END:VEVENT
BEGIN:VEVENT
DTSTART;TZID=Europe/Berlin:20251010T100000
DTEND;TZID=Europe/Berlin:20251010T130000
DTSTAMP:20260420T175052
CREATED:20250831T230050Z
LAST-MODIFIED:20250829T073350Z
UID:8256-1760090400-1760101200@kalender.seniorinnen.wien
SUMMARY:Zentralfriedhof und Bestattungsmuseum
DESCRIPTION:Die Führung gibt Aufschluss über die Geschichte des Zentralfriedhofs: Wir besuchen die alten Arkaden\, die Musiker:innen-Gruppe\, die Präsidentengruft\, die Karl-Borromäus-Kirche\, die Politiker:innengräber sowie die Ehrengräber von Udo Jürgens\, Manfred Deix\, Willi Resetarits und vielen mehr. Danach geht es weiter in das Bestattungsmuseum unter der Aufbahrungshalle 2. \nHier tauchen wir in die Welt der Wiener Bestattungskultur. Der Tod ist schließlich ein Wiener! \nMax. 25 Teilnehmer:innen pro Termin \nAnmeldung bis 5.10. \nTel.: 01 50 195 28 502\nE-Mail: office@bestattungwien.at \nFoto: Pixabay
URL:https://kalender.seniorinnen.wien/event/zentralfriedhof-und-bestattungsmuseum/2025-10-10/
LOCATION:Wiener Zentralfriedhof\, Simmeringer Hauptstraße 339\, Wien\, Wien\, 1110\, Austria
CATEGORIES:Monat der Senior:innen
ATTACH;FMTTYPE=image/jpeg:https://kalender.seniorinnen.wien/wp-content/uploads/2025/09/church-4445760_1920-e1756451660185.jpg
END:VEVENT
BEGIN:VEVENT
DTSTART;TZID=Europe/Berlin:20241015T100000
DTEND;TZID=Europe/Berlin:20241015T130000
DTSTAMP:20260420T175052
CREATED:20240822T111208Z
LAST-MODIFIED:20240822T111208Z
UID:6037-1728986400-1728997200@kalender.seniorinnen.wien
SUMMARY:Führung: Zentralfriedhof und Bestattungsmuseum
DESCRIPTION:Die Friedhofsführung gibt Aufschluss über die Geschichte des Zentralfriedhofs. Wir besuchen die alten Arkaden\, die Musiker:innen-Gruppe\, die Präsidentengruft\, die Karl-Borromäus- Kirche\, die Politiker:innengräber sowie die Ehrengräber von Udo Jürgens\, Manfred Deix\, Willi Resetarits und vielen mehr. \nDanach geht es weiter in das Bestattungsmuseum unter der Aufbahrungshalle 2. Hier tauchen wir ein in die Welt der Wiener Bestattungskultur. \nDer Tod ist schließlich ein Wiener! \n  \nAnmeldung: 2.9. bis 4.10.2024\, max. Teilnehmer:innen: 25 \nTel.: 01 501 95 28 502 \nE-Mail: office@bestattungwien.at \n  \nFoto: Bestattung Wien
URL:https://kalender.seniorinnen.wien/event/fuehrung-zentralfriedhof-und-bestattungsmuseum/2024-10-15/
LOCATION:Zentralfriedhof – Bestattungsmuseum\, Simmeringer Hauptstraße 234\, Tor 2\, Wien\, Wien\, 1110
CATEGORIES:Information,Monat der Senior:innen
ATTACH;FMTTYPE=image/jpeg:https://kalender.seniorinnen.wien/wp-content/uploads/2024/08/3693126_header-image-flush_max-e1724161587784.jpeg
END:VEVENT
BEGIN:VEVENT
DTSTART;TZID=Europe/Berlin:20241008T100000
DTEND;TZID=Europe/Berlin:20241008T130000
DTSTAMP:20260420T175052
CREATED:20240822T111208Z
LAST-MODIFIED:20240822T111208Z
UID:6032-1728381600-1728392400@kalender.seniorinnen.wien
SUMMARY:Führung: Zentralfriedhof und Bestattungsmuseum
DESCRIPTION:Die Friedhofsführung gibt Aufschluss über die Geschichte des Zentralfriedhofs. Wir besuchen die alten Arkaden\, die Musiker:innen-Gruppe\, die Präsidentengruft\, die Karl-Borromäus- Kirche\, die Politiker:innengräber sowie die Ehrengräber von Udo Jürgens\, Manfred Deix\, Willi Resetarits und vielen mehr. \nDanach geht es weiter in das Bestattungsmuseum unter der Aufbahrungshalle 2. Hier tauchen wir ein in die Welt der Wiener Bestattungskultur. \nDer Tod ist schließlich ein Wiener! \n  \nAnmeldung: 2.9. bis 4.10.2024\, max. Teilnehmer:innen: 25 \nTel.: 01 501 95 28 502 \nE-Mail: office@bestattungwien.at \n  \nFoto: Bestattung Wien
URL:https://kalender.seniorinnen.wien/event/fuehrung-zentralfriedhof-und-bestattungsmuseum/2024-10-08/
LOCATION:Zentralfriedhof – Bestattungsmuseum\, Simmeringer Hauptstraße 234\, Tor 2\, Wien\, Wien\, 1110
CATEGORIES:Information,Monat der Senior:innen
ATTACH;FMTTYPE=image/jpeg:https://kalender.seniorinnen.wien/wp-content/uploads/2024/08/3693126_header-image-flush_max-e1724161587784.jpeg
END:VEVENT
BEGIN:VEVENT
DTSTART;TZID=Europe/Vienna:20231009T100000
DTEND;TZID=Europe/Vienna:20231009T123000
DTSTAMP:20260420T175052
CREATED:20230811T093412Z
LAST-MODIFIED:20230811T120036Z
UID:3745-1696845600-1696854600@kalender.seniorinnen.wien
SUMMARY:Monat der Senior:innen: Führung Zentralfriedhof und Bestattungsmuseum
DESCRIPTION:Erfahren Sie mehr zur Geschichte des Zentralfriedhofs\, besichtigen Sie alte Arkaden und Ehrengräber sowie das Bestattungsmuseum\, mit kuriosen Stücken aus der Vergangenheit des Bestattungsgewerbes. \nDie Teilnehmer:innenzahl ist auf 25 Personen beschränkt. Bitte melden Sie sich ab 1.9. bis 5.10.2023 an unter 01/501 95 28502\, oder unter office@bestattungwien.at. \nTreffpunkt ist kurz vor 10 Uhr vor dem Tor 2 vom Wiener Zentralfriedhof. \nSollten Sie nicht an der Veranstaltung teilnehmen können\, sagen Sie bitte ab. So haben Interessierte die Möglichkeit\, Ihren Platz einzunehmen. \nAuf vielen Veranstaltungen wird fotografiert und/oder gefilmt. Mit der Teilnahme an einer Veranstaltung stimmen Sie einer möglichen Veröffentlichung auf Websites\, Social Media-Kanälen\, Print- und Onlinemedien und dergleichen zu. \n(c) Bestattung Wien
URL:https://kalender.seniorinnen.wien/event/doppelfuehrung-zentralfriedhof-bestattungsmuseum/
LOCATION:Zentralfriedhof – Bestattungsmuseum\, Simmeringer Hauptstraße 234\, Tor 2\, Wien\, Wien\, 1110
CATEGORIES:Monat der Senior:innen
ATTACH;FMTTYPE=image/jpeg:https://kalender.seniorinnen.wien/wp-content/uploads/2023/08/3693126_header-image-flush_max.jpeg
END:VEVENT
END:VCALENDAR