BEGIN:VCALENDAR
VERSION:2.0
PRODID:-//Wien für Senior:innen - ECPv6.15.17.1//NONSGML v1.0//EN
CALSCALE:GREGORIAN
METHOD:PUBLISH
X-WR-CALNAME:Wien für Senior:innen
X-ORIGINAL-URL:https://kalender.seniorinnen.wien
X-WR-CALDESC:Veranstaltungen für Wien für Senior:innen
REFRESH-INTERVAL;VALUE=DURATION:PT1H
X-Robots-Tag:noindex
X-PUBLISHED-TTL:PT1H
BEGIN:VTIMEZONE
TZID:Europe/Berlin
BEGIN:DAYLIGHT
TZOFFSETFROM:+0100
TZOFFSETTO:+0200
TZNAME:CEST
DTSTART:20240331T010000
END:DAYLIGHT
BEGIN:STANDARD
TZOFFSETFROM:+0200
TZOFFSETTO:+0100
TZNAME:CET
DTSTART:20241027T010000
END:STANDARD
BEGIN:DAYLIGHT
TZOFFSETFROM:+0100
TZOFFSETTO:+0200
TZNAME:CEST
DTSTART:20250330T010000
END:DAYLIGHT
BEGIN:STANDARD
TZOFFSETFROM:+0200
TZOFFSETTO:+0100
TZNAME:CET
DTSTART:20251026T010000
END:STANDARD
BEGIN:DAYLIGHT
TZOFFSETFROM:+0100
TZOFFSETTO:+0200
TZNAME:CEST
DTSTART:20260329T010000
END:DAYLIGHT
BEGIN:STANDARD
TZOFFSETFROM:+0200
TZOFFSETTO:+0100
TZNAME:CET
DTSTART:20261025T010000
END:STANDARD
BEGIN:DAYLIGHT
TZOFFSETFROM:+0100
TZOFFSETTO:+0200
TZNAME:CEST
DTSTART:20270328T010000
END:DAYLIGHT
BEGIN:STANDARD
TZOFFSETFROM:+0200
TZOFFSETTO:+0100
TZNAME:CET
DTSTART:20271031T010000
END:STANDARD
END:VTIMEZONE
BEGIN:VEVENT
DTSTART;TZID=Europe/Berlin:20260420T165000
DTEND;TZID=Europe/Berlin:20260420T175000
DTSTAMP:20260421T113350
CREATED:20260416T105418Z
LAST-MODIFIED:20260416T105418Z
UID:12597-1776703800-1776707400@kalender.seniorinnen.wien
SUMMARY:Faszientraining
DESCRIPTION:Montags (bis Ende Juni) von 16:50 – 17:50 Uhr\nLehrperson: Eva Geiger \nLevel:  All Levels (keinerlei Vorkenntnisse notwendig)\, nicht aufbauend \nFaszien bilden die Grundlage der Vitalität und Mobilität des gesamten Körpers. \nSie umhüllen und tragen die Organe\, alle Muskeln und das gesamte Gefäß- und Nervensystem. Faszien verbinden alle Einzelteile des Organismus zu einer funktionierenden Einheit und koordinieren alle Funktionen untereinander. Ich lege in jeder Einheit Wert auf die persönliche Wahrnehmung jeder:jedes einzelnen. \nDas Selbstbestimmte und Eigenverantwortliche soll über den Körper im Körper gefördert werden: Wie fühle ich mich jetzt? Was brauche ich heute? Feines\, leichtes\, stärkendes oder großes\, exaltiertes\, auspowerndes Arbeiten? Möchte ich über die körperliche Grenze gehen oder soll es angenehm und wohltuend sein?\nEva \nPreis & Anmeldung: www.beat1060.wien\nOrt: Millergasse 42-44\, 1060 Wien \nEinstieg und Schnuppern jederzeit möglich!
URL:https://kalender.seniorinnen.wien/event/faszientraining/2026-04-20/
LOCATION:beat1060\, Millergasse 42-44\, Wien\, Wien\, 1060\, Austria
CATEGORIES:Fit und Gesund
ATTACH;FMTTYPE=image/png:https://kalender.seniorinnen.wien/wp-content/uploads/2026/04/Faszientraining-mit-Eva.png
ORGANIZER;CN="beat1060":MAILTO:office@beat1060.wien
END:VEVENT
BEGIN:VEVENT
DTSTART;TZID=Europe/Berlin:20260418T100000
DTEND;TZID=Europe/Berlin:20260418T113000
DTSTAMP:20260421T113350
CREATED:20260416T104647Z
LAST-MODIFIED:20260416T104647Z
UID:12589-1776506400-1776511800@kalender.seniorinnen.wien
SUMMARY:Atemcoaching und Bewegung
DESCRIPTION:Samstags von 10:00 – 11:30 Uhr \nAll Levels (keinerlei Vorkenntnisse notwendig)\, nicht aufbauend\nLehrperson: Bruno Genty \nDem Weg/Rhythmus/Fluss der Atmung folgen; den Einfluss in alle Bewegungen/Körperteile erkennen. Einfache Bewegungsstrukturen geben uns die Möglichkeit diese Natürlichkeit zu beobachten und davon zu lernen. \nDie Gelenke öffnen\, den Kontakt zum Boden vertiefen und ohne Kraft\, dafür mit Fülle\, bewegen. In diesem Kurs geht es um deinen Körper\, es wird kein Tanz unterrichtet. Es sind keine Vorkenntnisse notwendig.\nBruno \nPreis & Anmeldung: www.beat1060.wien\nOrt: Millergasse 42-44\, 1060 Wien \nEinstieg und Schnuppern jederzeit möglich!
URL:https://kalender.seniorinnen.wien/event/atemcoaching-und-bewegung/2026-04-18/
LOCATION:beat1060\, Millergasse 42-44\, Wien\, Wien\, 1060\, Austria
CATEGORIES:Fit und Gesund
ATTACH;FMTTYPE=image/png:https://kalender.seniorinnen.wien/wp-content/uploads/2026/04/ACO-mit-Bruno.png
ORGANIZER;CN="beat1060":MAILTO:office@beat1060.wien
END:VEVENT
BEGIN:VEVENT
DTSTART;TZID=Europe/Berlin:20260128T100000
DTEND;TZID=Europe/Berlin:20260128T113000
DTSTAMP:20260421T113350
CREATED:20251014T101300Z
LAST-MODIFIED:20251014T101300Z
UID:11002-1769594400-1769599800@kalender.seniorinnen.wien
SUMMARY:Contemporary mit 60+
DESCRIPTION:BasicPlus (für Tanzende mit ein wenig Tanzerfahrung)\nnicht aufbauend \nFür meine Einheiten habe ich kein Konzept von Stil\, kein ästhetisches Urteil.\nEs ist essentiell und notwendig für mich\, meinen Blick an die Teilnehmer:innen anzupassen.\nDas Wichtigste ist die Freude. Meine Einheiten ist eine Einladung.\nEin Moment des Teilens. Es ist also Teilen und die Freude am Teilen.\nIch baue meinen Unterricht auf Respekt und Liebe auf.\nBruno \nPreis & Anmeldung: www.beat1060.wien\nOrt: Millergasse 42-44\, 1060 Wien \nEinstieg und Schnuppern jederzeit möglich!
URL:https://kalender.seniorinnen.wien/event/contemporary-mit-60/2026-01-28/
LOCATION:beat1060\, Millergasse 42-44\, Wien\, Wien\, 1060\, Austria
ATTACH;FMTTYPE=image/jpeg:https://kalender.seniorinnen.wien/wp-content/uploads/2025/10/beat-1060-Contemporary-mit-60-e1760437314616.jpg
ORGANIZER;CN="beat1060":MAILTO:office@beat1060.wien
END:VEVENT
BEGIN:VEVENT
DTSTART;TZID=Europe/Berlin:20260121T100000
DTEND;TZID=Europe/Berlin:20260121T113000
DTSTAMP:20260421T113350
CREATED:20251014T101300Z
LAST-MODIFIED:20251014T101300Z
UID:11001-1768989600-1768995000@kalender.seniorinnen.wien
SUMMARY:Contemporary mit 60+
DESCRIPTION:BasicPlus (für Tanzende mit ein wenig Tanzerfahrung)\nnicht aufbauend \nFür meine Einheiten habe ich kein Konzept von Stil\, kein ästhetisches Urteil.\nEs ist essentiell und notwendig für mich\, meinen Blick an die Teilnehmer:innen anzupassen.\nDas Wichtigste ist die Freude. Meine Einheiten ist eine Einladung.\nEin Moment des Teilens. Es ist also Teilen und die Freude am Teilen.\nIch baue meinen Unterricht auf Respekt und Liebe auf.\nBruno \nPreis & Anmeldung: www.beat1060.wien\nOrt: Millergasse 42-44\, 1060 Wien \nEinstieg und Schnuppern jederzeit möglich!
URL:https://kalender.seniorinnen.wien/event/contemporary-mit-60/2026-01-21/
LOCATION:beat1060\, Millergasse 42-44\, Wien\, Wien\, 1060\, Austria
ATTACH;FMTTYPE=image/jpeg:https://kalender.seniorinnen.wien/wp-content/uploads/2025/10/beat-1060-Contemporary-mit-60-e1760437314616.jpg
ORGANIZER;CN="beat1060":MAILTO:office@beat1060.wien
END:VEVENT
BEGIN:VEVENT
DTSTART;TZID=Europe/Berlin:20260114T100000
DTEND;TZID=Europe/Berlin:20260114T113000
DTSTAMP:20260421T113350
CREATED:20251014T101300Z
LAST-MODIFIED:20251014T101300Z
UID:11000-1768384800-1768390200@kalender.seniorinnen.wien
SUMMARY:Contemporary mit 60+
DESCRIPTION:BasicPlus (für Tanzende mit ein wenig Tanzerfahrung)\nnicht aufbauend \nFür meine Einheiten habe ich kein Konzept von Stil\, kein ästhetisches Urteil.\nEs ist essentiell und notwendig für mich\, meinen Blick an die Teilnehmer:innen anzupassen.\nDas Wichtigste ist die Freude. Meine Einheiten ist eine Einladung.\nEin Moment des Teilens. Es ist also Teilen und die Freude am Teilen.\nIch baue meinen Unterricht auf Respekt und Liebe auf.\nBruno \nPreis & Anmeldung: www.beat1060.wien\nOrt: Millergasse 42-44\, 1060 Wien \nEinstieg und Schnuppern jederzeit möglich!
URL:https://kalender.seniorinnen.wien/event/contemporary-mit-60/2026-01-14/
LOCATION:beat1060\, Millergasse 42-44\, Wien\, Wien\, 1060\, Austria
ATTACH;FMTTYPE=image/jpeg:https://kalender.seniorinnen.wien/wp-content/uploads/2025/10/beat-1060-Contemporary-mit-60-e1760437314616.jpg
ORGANIZER;CN="beat1060":MAILTO:office@beat1060.wien
END:VEVENT
BEGIN:VEVENT
DTSTART;TZID=Europe/Berlin:20251126T100000
DTEND;TZID=Europe/Berlin:20251126T113000
DTSTAMP:20260421T113350
CREATED:20251014T101300Z
LAST-MODIFIED:20251014T101300Z
UID:10999-1764151200-1764156600@kalender.seniorinnen.wien
SUMMARY:Contemporary mit 60+
DESCRIPTION:BasicPlus (für Tanzende mit ein wenig Tanzerfahrung)\nnicht aufbauend \nFür meine Einheiten habe ich kein Konzept von Stil\, kein ästhetisches Urteil.\nEs ist essentiell und notwendig für mich\, meinen Blick an die Teilnehmer:innen anzupassen.\nDas Wichtigste ist die Freude. Meine Einheiten ist eine Einladung.\nEin Moment des Teilens. Es ist also Teilen und die Freude am Teilen.\nIch baue meinen Unterricht auf Respekt und Liebe auf.\nBruno \nPreis & Anmeldung: www.beat1060.wien\nOrt: Millergasse 42-44\, 1060 Wien \nEinstieg und Schnuppern jederzeit möglich!
URL:https://kalender.seniorinnen.wien/event/contemporary-mit-60/2025-11-26/
LOCATION:beat1060\, Millergasse 42-44\, Wien\, Wien\, 1060\, Austria
ATTACH;FMTTYPE=image/jpeg:https://kalender.seniorinnen.wien/wp-content/uploads/2025/10/beat-1060-Contemporary-mit-60-e1760437314616.jpg
ORGANIZER;CN="beat1060":MAILTO:office@beat1060.wien
END:VEVENT
BEGIN:VEVENT
DTSTART;TZID=Europe/Berlin:20251119T100000
DTEND;TZID=Europe/Berlin:20251119T113000
DTSTAMP:20260421T113350
CREATED:20251014T101300Z
LAST-MODIFIED:20251014T101300Z
UID:10998-1763546400-1763551800@kalender.seniorinnen.wien
SUMMARY:Contemporary mit 60+
DESCRIPTION:BasicPlus (für Tanzende mit ein wenig Tanzerfahrung)\nnicht aufbauend \nFür meine Einheiten habe ich kein Konzept von Stil\, kein ästhetisches Urteil.\nEs ist essentiell und notwendig für mich\, meinen Blick an die Teilnehmer:innen anzupassen.\nDas Wichtigste ist die Freude. Meine Einheiten ist eine Einladung.\nEin Moment des Teilens. Es ist also Teilen und die Freude am Teilen.\nIch baue meinen Unterricht auf Respekt und Liebe auf.\nBruno \nPreis & Anmeldung: www.beat1060.wien\nOrt: Millergasse 42-44\, 1060 Wien \nEinstieg und Schnuppern jederzeit möglich!
URL:https://kalender.seniorinnen.wien/event/contemporary-mit-60/2025-11-19/
LOCATION:beat1060\, Millergasse 42-44\, Wien\, Wien\, 1060\, Austria
ATTACH;FMTTYPE=image/jpeg:https://kalender.seniorinnen.wien/wp-content/uploads/2025/10/beat-1060-Contemporary-mit-60-e1760437314616.jpg
ORGANIZER;CN="beat1060":MAILTO:office@beat1060.wien
END:VEVENT
BEGIN:VEVENT
DTSTART;TZID=Europe/Berlin:20251022T100000
DTEND;TZID=Europe/Berlin:20251022T113000
DTSTAMP:20260421T113350
CREATED:20251014T101300Z
LAST-MODIFIED:20251014T101300Z
UID:10997-1761127200-1761132600@kalender.seniorinnen.wien
SUMMARY:Contemporary mit 60+
DESCRIPTION:BasicPlus (für Tanzende mit ein wenig Tanzerfahrung)\nnicht aufbauend \nFür meine Einheiten habe ich kein Konzept von Stil\, kein ästhetisches Urteil.\nEs ist essentiell und notwendig für mich\, meinen Blick an die Teilnehmer:innen anzupassen.\nDas Wichtigste ist die Freude. Meine Einheiten ist eine Einladung.\nEin Moment des Teilens. Es ist also Teilen und die Freude am Teilen.\nIch baue meinen Unterricht auf Respekt und Liebe auf.\nBruno \nPreis & Anmeldung: www.beat1060.wien\nOrt: Millergasse 42-44\, 1060 Wien \nEinstieg und Schnuppern jederzeit möglich!
URL:https://kalender.seniorinnen.wien/event/contemporary-mit-60/2025-10-22/
LOCATION:beat1060\, Millergasse 42-44\, Wien\, Wien\, 1060\, Austria
ATTACH;FMTTYPE=image/jpeg:https://kalender.seniorinnen.wien/wp-content/uploads/2025/10/beat-1060-Contemporary-mit-60-e1760437314616.jpg
ORGANIZER;CN="beat1060":MAILTO:office@beat1060.wien
END:VEVENT
BEGIN:VEVENT
DTSTART;TZID=Europe/Berlin:20251015T100000
DTEND;TZID=Europe/Berlin:20251015T113000
DTSTAMP:20260421T113350
CREATED:20251014T101300Z
LAST-MODIFIED:20251014T101300Z
UID:10988-1760522400-1760527800@kalender.seniorinnen.wien
SUMMARY:Contemporary mit 60+
DESCRIPTION:BasicPlus (für Tanzende mit ein wenig Tanzerfahrung)\nnicht aufbauend \nFür meine Einheiten habe ich kein Konzept von Stil\, kein ästhetisches Urteil.\nEs ist essentiell und notwendig für mich\, meinen Blick an die Teilnehmer:innen anzupassen.\nDas Wichtigste ist die Freude. Meine Einheiten ist eine Einladung.\nEin Moment des Teilens. Es ist also Teilen und die Freude am Teilen.\nIch baue meinen Unterricht auf Respekt und Liebe auf.\nBruno \nPreis & Anmeldung: www.beat1060.wien\nOrt: Millergasse 42-44\, 1060 Wien \nEinstieg und Schnuppern jederzeit möglich!
URL:https://kalender.seniorinnen.wien/event/contemporary-mit-60/2025-10-15/
LOCATION:beat1060\, Millergasse 42-44\, Wien\, Wien\, 1060\, Austria
ATTACH;FMTTYPE=image/jpeg:https://kalender.seniorinnen.wien/wp-content/uploads/2025/10/beat-1060-Contemporary-mit-60-e1760437314616.jpg
ORGANIZER;CN="beat1060":MAILTO:office@beat1060.wien
END:VEVENT
END:VCALENDAR