BEGIN:VCALENDAR
VERSION:2.0
PRODID:-//Wien für Senior:innen - ECPv6.15.17.1//NONSGML v1.0//EN
CALSCALE:GREGORIAN
METHOD:PUBLISH
X-WR-CALNAME:Wien für Senior:innen
X-ORIGINAL-URL:https://kalender.seniorinnen.wien
X-WR-CALDESC:Veranstaltungen für Wien für Senior:innen
REFRESH-INTERVAL;VALUE=DURATION:PT1H
X-Robots-Tag:noindex
X-PUBLISHED-TTL:PT1H
BEGIN:VTIMEZONE
TZID:Europe/Berlin
BEGIN:DAYLIGHT
TZOFFSETFROM:+0100
TZOFFSETTO:+0200
TZNAME:CEST
DTSTART:20230326T010000
END:DAYLIGHT
BEGIN:STANDARD
TZOFFSETFROM:+0200
TZOFFSETTO:+0100
TZNAME:CET
DTSTART:20231029T010000
END:STANDARD
BEGIN:DAYLIGHT
TZOFFSETFROM:+0100
TZOFFSETTO:+0200
TZNAME:CEST
DTSTART:20240331T010000
END:DAYLIGHT
BEGIN:STANDARD
TZOFFSETFROM:+0200
TZOFFSETTO:+0100
TZNAME:CET
DTSTART:20241027T010000
END:STANDARD
BEGIN:DAYLIGHT
TZOFFSETFROM:+0100
TZOFFSETTO:+0200
TZNAME:CEST
DTSTART:20250330T010000
END:DAYLIGHT
BEGIN:STANDARD
TZOFFSETFROM:+0200
TZOFFSETTO:+0100
TZNAME:CET
DTSTART:20251026T010000
END:STANDARD
BEGIN:DAYLIGHT
TZOFFSETFROM:+0100
TZOFFSETTO:+0200
TZNAME:CEST
DTSTART:20260329T010000
END:DAYLIGHT
BEGIN:STANDARD
TZOFFSETFROM:+0200
TZOFFSETTO:+0100
TZNAME:CET
DTSTART:20261025T010000
END:STANDARD
END:VTIMEZONE
BEGIN:VEVENT
DTSTART;TZID=Europe/Berlin:20251021T103000
DTEND;TZID=Europe/Berlin:20251021T113000
DTSTAMP:20260421T020249
CREATED:20250831T230035Z
LAST-MODIFIED:20250828T132719Z
UID:9613-1761042600-1761046200@kalender.seniorinnen.wien
SUMMARY:Gesunde Runde für Kopf und Körper
DESCRIPTION:Das Pflegehaus & Hospiz St. Katharina lädt herzlich ein zur „Gesunden Runde für Kopf und Körper“ gemeinsam mit den Bewohner:innen des Hauses. An zwei Terminen im Oktober findet einmal Gedächtnistraining und einmal Bewegungsrunde statt. Die Aktivitäten werden begleitet von der Seniorenbetreuung und sind auch für Menschen mit Demenz geeignet. \nMi\, 8.10. Gedächtnistraining\nDi\, 21.10. Bewegungsrunde \nMax. 15 Teilnehmer:innen \nkeine Anmeldung erforderlich! \n  \nFoto: Haus St. Katharina
URL:https://kalender.seniorinnen.wien/event/gesunde-runde-fuer-kopf-und-koerper/2025-10-21/
LOCATION:Pflegehaus St. Katharina\, Millergasse 6-8\, Wien\, 1060
CATEGORIES:Demenz,Fit und Gesund,Monat der Senior:innen
ATTACH;FMTTYPE=image/jpeg:https://kalender.seniorinnen.wien/wp-content/uploads/2025/08/Gesunde-Runde_Haus-St.-Katharina-scaled-e1756384102887.jpg
ORGANIZER;CN="Barmherzige Schwestern Pflege GmbH":MAILTO:office@bhs.or.at
END:VEVENT
BEGIN:VEVENT
DTSTART;TZID=Europe/Berlin:20251008T103000
DTEND;TZID=Europe/Berlin:20251008T113000
DTSTAMP:20260421T020249
CREATED:20250831T230035Z
LAST-MODIFIED:20250828T132719Z
UID:9611-1759919400-1759923000@kalender.seniorinnen.wien
SUMMARY:Gesunde Runde für Kopf und Körper
DESCRIPTION:Das Pflegehaus & Hospiz St. Katharina lädt herzlich ein zur „Gesunden Runde für Kopf und Körper“ gemeinsam mit den Bewohner:innen des Hauses. An zwei Terminen im Oktober findet einmal Gedächtnistraining und einmal Bewegungsrunde statt. Die Aktivitäten werden begleitet von der Seniorenbetreuung und sind auch für Menschen mit Demenz geeignet. \nMi\, 8.10. Gedächtnistraining\nDi\, 21.10. Bewegungsrunde \nMax. 15 Teilnehmer:innen \nkeine Anmeldung erforderlich! \n  \nFoto: Haus St. Katharina
URL:https://kalender.seniorinnen.wien/event/gesunde-runde-fuer-kopf-und-koerper/2025-10-08/
LOCATION:Pflegehaus St. Katharina\, Millergasse 6-8\, Wien\, 1060
CATEGORIES:Demenz,Fit und Gesund,Monat der Senior:innen
ATTACH;FMTTYPE=image/jpeg:https://kalender.seniorinnen.wien/wp-content/uploads/2025/08/Gesunde-Runde_Haus-St.-Katharina-scaled-e1756384102887.jpg
ORGANIZER;CN="Barmherzige Schwestern Pflege GmbH":MAILTO:office@bhs.or.at
END:VEVENT
BEGIN:VEVENT
DTSTART;TZID=Europe/Berlin:20241009T100000
DTEND;TZID=Europe/Berlin:20241009T160000
DTSTAMP:20260421T020249
CREATED:20240830T143909Z
LAST-MODIFIED:20240830T143909Z
UID:6564-1728468000-1728489600@kalender.seniorinnen.wien
SUMMARY:Pflegehaus St. Katharina: Kompetenz fürs Altern
DESCRIPTION:Am Tag der offenen Tür im Pflegehaus St. Katharina erwarten Sie spannende Vorträge und einfache Alltagstipps für ein vitales Leben im Alter. Kommen Sie am  9.10. von 10 bis 16 Uhr in die Millergasse 6-8\, 1060 Wien. \nMachen Sie mit bei gemeinsamen Aktivitäten mit der Senior:innenbetreuung. Informieren Sie sich bei Führungen\, Snacks und Getränken über das Haus! \nKeine Anmeldung erforderlich.
URL:https://kalender.seniorinnen.wien/event/pflegehaus-st-katharina-kompetenz-fuers-altern/
LOCATION:Pflegehaus St. Katharina\, Millergasse 6-8\, Wien\, 1060
CATEGORIES:Information,Monat der Senior:innen
ATTACH;FMTTYPE=image/jpeg:https://kalender.seniorinnen.wien/wp-content/uploads/2024/08/2674_162ccc6602797e4-scaled-e1724321580900.jpg
ORGANIZER;CN="Barmherzige Schwestern Pflege GmbH":MAILTO:office@bhs.or.at
END:VEVENT
END:VCALENDAR