BEGIN:VCALENDAR
VERSION:2.0
PRODID:-//Wien für Senior:innen - ECPv6.15.17.1//NONSGML v1.0//EN
CALSCALE:GREGORIAN
METHOD:PUBLISH
X-ORIGINAL-URL:https://kalender.seniorinnen.wien
X-WR-CALDESC:Veranstaltungen für Wien für Senior:innen
REFRESH-INTERVAL;VALUE=DURATION:PT1H
X-Robots-Tag:noindex
X-PUBLISHED-TTL:PT1H
BEGIN:VTIMEZONE
TZID:Europe/Berlin
BEGIN:DAYLIGHT
TZOFFSETFROM:+0100
TZOFFSETTO:+0200
TZNAME:CEST
DTSTART:20240331T010000
END:DAYLIGHT
BEGIN:STANDARD
TZOFFSETFROM:+0200
TZOFFSETTO:+0100
TZNAME:CET
DTSTART:20241027T010000
END:STANDARD
BEGIN:DAYLIGHT
TZOFFSETFROM:+0100
TZOFFSETTO:+0200
TZNAME:CEST
DTSTART:20250330T010000
END:DAYLIGHT
BEGIN:STANDARD
TZOFFSETFROM:+0200
TZOFFSETTO:+0100
TZNAME:CET
DTSTART:20251026T010000
END:STANDARD
BEGIN:DAYLIGHT
TZOFFSETFROM:+0100
TZOFFSETTO:+0200
TZNAME:CEST
DTSTART:20260329T010000
END:DAYLIGHT
BEGIN:STANDARD
TZOFFSETFROM:+0200
TZOFFSETTO:+0100
TZNAME:CET
DTSTART:20261025T010000
END:STANDARD
END:VTIMEZONE
BEGIN:VEVENT
DTSTART;TZID=Europe/Berlin:20250616T120000
DTEND;TZID=Europe/Berlin:20250616T120000
DTSTAMP:20260420T181831
CREATED:20250205T095234Z
LAST-MODIFIED:20250205T095234Z
UID:7410-1750075200-1750075200@kalender.seniorinnen.wien
SUMMARY:Peer to Peer ‒ Gespräch/Beratung
DESCRIPTION:Menschen mit demenziellen Einschränkungen führen entlastende Gespräche mit ähnlich Betroffenen. \nAnmeldung unter 0676 6362973 oder johanna.pueringer@gmail.com erforderlich.
URL:https://kalender.seniorinnen.wien/event/peer-to-peer-%e2%80%92-gespraech-beratung/2025-06-16/
LOCATION:Alzheimer Austria\, Obere Augartenstr. 26-28\, Wien\, Wien\, 1020
CATEGORIES:Begegnung,Demenz,Information
ATTACH;FMTTYPE=image/jpeg:https://kalender.seniorinnen.wien/wp-content/uploads/2024/02/post-it-notes-1284667_1920-e1709728597502.jpg
ORGANIZER;CN="alzheimer austria":MAILTO:johanna.pueringer@gmail.com
END:VEVENT
BEGIN:VEVENT
DTSTART;TZID=Europe/Berlin:20250512T120000
DTEND;TZID=Europe/Berlin:20250512T120000
DTSTAMP:20260420T181831
CREATED:20250205T095234Z
LAST-MODIFIED:20250205T095234Z
UID:7409-1747051200-1747051200@kalender.seniorinnen.wien
SUMMARY:Peer to Peer ‒ Gespräch/Beratung
DESCRIPTION:Menschen mit demenziellen Einschränkungen führen entlastende Gespräche mit ähnlich Betroffenen. \nAnmeldung unter 0676 6362973 oder johanna.pueringer@gmail.com erforderlich.
URL:https://kalender.seniorinnen.wien/event/peer-to-peer-%e2%80%92-gespraech-beratung/2025-05-12/
LOCATION:Alzheimer Austria\, Obere Augartenstr. 26-28\, Wien\, Wien\, 1020
CATEGORIES:Begegnung,Demenz,Information
ATTACH;FMTTYPE=image/jpeg:https://kalender.seniorinnen.wien/wp-content/uploads/2024/02/post-it-notes-1284667_1920-e1709728597502.jpg
ORGANIZER;CN="alzheimer austria":MAILTO:johanna.pueringer@gmail.com
END:VEVENT
BEGIN:VEVENT
DTSTART;TZID=Europe/Berlin:20250407T120000
DTEND;TZID=Europe/Berlin:20250407T120000
DTSTAMP:20260420T181831
CREATED:20250205T095234Z
LAST-MODIFIED:20250205T095234Z
UID:7408-1744027200-1744027200@kalender.seniorinnen.wien
SUMMARY:Peer to Peer ‒ Gespräch/Beratung
DESCRIPTION:Menschen mit demenziellen Einschränkungen führen entlastende Gespräche mit ähnlich Betroffenen. \nAnmeldung unter 0676 6362973 oder johanna.pueringer@gmail.com erforderlich.
URL:https://kalender.seniorinnen.wien/event/peer-to-peer-%e2%80%92-gespraech-beratung/2025-04-07/
LOCATION:Alzheimer Austria\, Obere Augartenstr. 26-28\, Wien\, Wien\, 1020
CATEGORIES:Begegnung,Demenz,Information
ATTACH;FMTTYPE=image/jpeg:https://kalender.seniorinnen.wien/wp-content/uploads/2024/02/post-it-notes-1284667_1920-e1709728597502.jpg
ORGANIZER;CN="alzheimer austria":MAILTO:johanna.pueringer@gmail.com
END:VEVENT
BEGIN:VEVENT
DTSTART;TZID=Europe/Berlin:20250317T120000
DTEND;TZID=Europe/Berlin:20250317T120000
DTSTAMP:20260420T181831
CREATED:20250205T095234Z
LAST-MODIFIED:20250205T095234Z
UID:7407-1742212800-1742212800@kalender.seniorinnen.wien
SUMMARY:Peer to Peer ‒ Gespräch/Beratung
DESCRIPTION:Menschen mit demenziellen Einschränkungen führen entlastende Gespräche mit ähnlich Betroffenen. \nAnmeldung unter 0676 6362973 oder johanna.pueringer@gmail.com erforderlich.
URL:https://kalender.seniorinnen.wien/event/peer-to-peer-%e2%80%92-gespraech-beratung/2025-03-17/
LOCATION:Alzheimer Austria\, Obere Augartenstr. 26-28\, Wien\, Wien\, 1020
CATEGORIES:Begegnung,Demenz,Information
ATTACH;FMTTYPE=image/jpeg:https://kalender.seniorinnen.wien/wp-content/uploads/2024/02/post-it-notes-1284667_1920-e1709728597502.jpg
ORGANIZER;CN="alzheimer austria":MAILTO:johanna.pueringer@gmail.com
END:VEVENT
BEGIN:VEVENT
DTSTART;TZID=Europe/Berlin:20250210T120000
DTEND;TZID=Europe/Berlin:20250210T120000
DTSTAMP:20260420T181831
CREATED:20250205T095234Z
LAST-MODIFIED:20250205T095234Z
UID:7400-1739188800-1739188800@kalender.seniorinnen.wien
SUMMARY:Peer to Peer ‒ Gespräch/Beratung
DESCRIPTION:Menschen mit demenziellen Einschränkungen führen entlastende Gespräche mit ähnlich Betroffenen. \nAnmeldung unter 0676 6362973 oder johanna.pueringer@gmail.com erforderlich.
URL:https://kalender.seniorinnen.wien/event/peer-to-peer-%e2%80%92-gespraech-beratung/2025-02-10/
LOCATION:Alzheimer Austria\, Obere Augartenstr. 26-28\, Wien\, Wien\, 1020
CATEGORIES:Begegnung,Demenz,Information
ATTACH;FMTTYPE=image/jpeg:https://kalender.seniorinnen.wien/wp-content/uploads/2024/02/post-it-notes-1284667_1920-e1709728597502.jpg
ORGANIZER;CN="alzheimer austria":MAILTO:johanna.pueringer@gmail.com
END:VEVENT
END:VCALENDAR