BEGIN:VCALENDAR
VERSION:2.0
PRODID:-//Wien für Senior:innen - ECPv6.15.17.1//NONSGML v1.0//EN
CALSCALE:GREGORIAN
METHOD:PUBLISH
X-WR-CALNAME:Wien für Senior:innen
X-ORIGINAL-URL:https://kalender.seniorinnen.wien
X-WR-CALDESC:Veranstaltungen für Wien für Senior:innen
REFRESH-INTERVAL;VALUE=DURATION:PT1H
X-Robots-Tag:noindex
X-PUBLISHED-TTL:PT1H
BEGIN:VTIMEZONE
TZID:Europe/Berlin
BEGIN:DAYLIGHT
TZOFFSETFROM:+0100
TZOFFSETTO:+0200
TZNAME:CEST
DTSTART:20230326T010000
END:DAYLIGHT
BEGIN:STANDARD
TZOFFSETFROM:+0200
TZOFFSETTO:+0100
TZNAME:CET
DTSTART:20231029T010000
END:STANDARD
BEGIN:DAYLIGHT
TZOFFSETFROM:+0100
TZOFFSETTO:+0200
TZNAME:CEST
DTSTART:20240331T010000
END:DAYLIGHT
BEGIN:STANDARD
TZOFFSETFROM:+0200
TZOFFSETTO:+0100
TZNAME:CET
DTSTART:20241027T010000
END:STANDARD
BEGIN:DAYLIGHT
TZOFFSETFROM:+0100
TZOFFSETTO:+0200
TZNAME:CEST
DTSTART:20250330T010000
END:DAYLIGHT
BEGIN:STANDARD
TZOFFSETFROM:+0200
TZOFFSETTO:+0100
TZNAME:CET
DTSTART:20251026T010000
END:STANDARD
END:VTIMEZONE
BEGIN:VEVENT
DTSTART;VALUE=DATE:20240626
DTEND;VALUE=DATE:20240903
DTSTAMP:20260423T151222
CREATED:20240625T124131Z
LAST-MODIFIED:20240625T124131Z
UID:5767-1719360000-1725321599@kalender.seniorinnen.wien
SUMMARY:Stadtausstellung: Wie wir (nicht) leben
DESCRIPTION:In Kooperation mit der Klasse für Angewandte Fotografie zeigt die AK Wien die Stadtausstellung WIE WIR (NICHT) LEBEN Fotos und Videos zu Themen wie Wohnbedingungen\, Gleichberechtigung\, Leerstand\, Immobilienspekulation\, Nachbarschaft und Solidarität. Gerechten Wohn- und Stadtpolitik werden in künstlerische Konzepte übersetzt. Die Foto- und Videoprojekte finden sich rund um den Schlingermarkt\, die U3 Station Ottakring\, den Viktor-Adler-Mark und den Volkertmarkt. \nDie Ausstellung ist Teil des Sommerprogramms „Summer in the City“ und mittels digitalem Stadtplan ist die Ausstellung frei zugänglich\, die Ausstellungseröffnung findet am 26. Juni 2024 um 13:00 Uhr am Ausstellungsort Oskar-Kokoschka-Platz 2 in 1010 Wien statt \nWeitere Informationen sind auf der Website zur Ausstellung: www.wiewirnichtleben.at \nFoto (c): pixabay
URL:https://kalender.seniorinnen.wien/event/stadtausstellung-wie-wir-nicht-leben/
LOCATION:Oskar-Kokoschka-Platz 2\, 1010 Wien\, Oskar-Kokoschka-Platz 2\, 1010\, Wien\, Österreich
CATEGORIES:Information,Kunst und Kultur
ATTACH;FMTTYPE=image/jpeg:https://kalender.seniorinnen.wien/wp-content/uploads/2024/06/vienna-1154998_1280-e1719317071130.jpg
END:VEVENT
END:VCALENDAR