BEGIN:VCALENDAR
VERSION:2.0
PRODID:-//Wien für Senior:innen - ECPv6.15.17.1//NONSGML v1.0//EN
CALSCALE:GREGORIAN
METHOD:PUBLISH
X-ORIGINAL-URL:https://kalender.seniorinnen.wien
X-WR-CALDESC:Veranstaltungen für Wien für Senior:innen
REFRESH-INTERVAL;VALUE=DURATION:PT1H
X-Robots-Tag:noindex
X-PUBLISHED-TTL:PT1H
BEGIN:VTIMEZONE
TZID:Europe/Berlin
BEGIN:DAYLIGHT
TZOFFSETFROM:+0100
TZOFFSETTO:+0200
TZNAME:CEST
DTSTART:20240331T010000
END:DAYLIGHT
BEGIN:STANDARD
TZOFFSETFROM:+0200
TZOFFSETTO:+0100
TZNAME:CET
DTSTART:20241027T010000
END:STANDARD
BEGIN:DAYLIGHT
TZOFFSETFROM:+0100
TZOFFSETTO:+0200
TZNAME:CEST
DTSTART:20250330T010000
END:DAYLIGHT
BEGIN:STANDARD
TZOFFSETFROM:+0200
TZOFFSETTO:+0100
TZNAME:CET
DTSTART:20251026T010000
END:STANDARD
BEGIN:DAYLIGHT
TZOFFSETFROM:+0100
TZOFFSETTO:+0200
TZNAME:CEST
DTSTART:20260329T010000
END:DAYLIGHT
BEGIN:STANDARD
TZOFFSETFROM:+0200
TZOFFSETTO:+0100
TZNAME:CET
DTSTART:20261025T010000
END:STANDARD
END:VTIMEZONE
BEGIN:VEVENT
DTSTART;TZID=Europe/Berlin:20251119T100000
DTEND;TZID=Europe/Berlin:20251119T120000
DTSTAMP:20260424T213207
CREATED:20250930T120445Z
LAST-MODIFIED:20250930T120445Z
UID:10713-1763546400-1763553600@kalender.seniorinnen.wien
SUMMARY:Kontaktbesuchsdienst: Infotische im 6. Bezirk
DESCRIPTION:Der Kontaktbesuchsdienst informiert beim Infotisch über die sozialen Dienstleistungen der Stadt: passende Ansprechpartner\, Telefonnummern und Adressen rund um Themen wie Freizeitaktivitäten\, Unterstützung für pflegende Angehörige\, Wohnen\, Vorsorge und das digitale Angebot der Stadt. \nInfotisch PK Gumpendorfpen\nPensionistenklub Gumpendorferstraße 117\, 1060\, Wien \nMi.\, 17.09.2025\, 10:00 – 12:00\nMi.\, 15.10.2025\, 10:00 – 12:00\nMi.\, 19.11.2025\, 10:00 – 12:00\nMi.\, 17.12.2025\, 10:00 – 12:00 \nDer Kontaktbesuchsdienst ist auch telefonisch und per E-Mail erreichbar: \nTelefon: 001 98121 DW 1730 oder 1740\n(Montag bis Freitag von 9:00 – 15:00 Uhr) \nE-Mail: kontaktbesuchsdienst@wiso.or.at \nFoto (c) Pixabay
URL:https://kalender.seniorinnen.wien/event/kontaktbesuchsdienst-infotische-im-6-bezirk-2/2025-11-19/
LOCATION:Pensionist:innen Klub Gumpendorf\, Gumpendorfer Straße 117\, Wien\, Wien\, 1060\, Austria
CATEGORIES:Grätzel,Information
ATTACH;FMTTYPE=image/jpeg:https://kalender.seniorinnen.wien/wp-content/uploads/2024/08/mobile-4515151_1920-e1725025926670.jpg
END:VEVENT
END:VCALENDAR