BEGIN:VCALENDAR
VERSION:2.0
PRODID:-//Wien für Senior:innen - ECPv6.15.17.1//NONSGML v1.0//EN
CALSCALE:GREGORIAN
METHOD:PUBLISH
X-WR-CALNAME:Wien für Senior:innen
X-ORIGINAL-URL:https://kalender.seniorinnen.wien
X-WR-CALDESC:Veranstaltungen für Wien für Senior:innen
REFRESH-INTERVAL;VALUE=DURATION:PT1H
X-Robots-Tag:noindex
X-PUBLISHED-TTL:PT1H
BEGIN:VTIMEZONE
TZID:Europe/Berlin
BEGIN:DAYLIGHT
TZOFFSETFROM:+0100
TZOFFSETTO:+0200
TZNAME:CEST
DTSTART:20230326T010000
END:DAYLIGHT
BEGIN:STANDARD
TZOFFSETFROM:+0200
TZOFFSETTO:+0100
TZNAME:CET
DTSTART:20231029T010000
END:STANDARD
BEGIN:DAYLIGHT
TZOFFSETFROM:+0100
TZOFFSETTO:+0200
TZNAME:CEST
DTSTART:20240331T010000
END:DAYLIGHT
BEGIN:STANDARD
TZOFFSETFROM:+0200
TZOFFSETTO:+0100
TZNAME:CET
DTSTART:20241027T010000
END:STANDARD
BEGIN:DAYLIGHT
TZOFFSETFROM:+0100
TZOFFSETTO:+0200
TZNAME:CEST
DTSTART:20250330T010000
END:DAYLIGHT
BEGIN:STANDARD
TZOFFSETFROM:+0200
TZOFFSETTO:+0100
TZNAME:CET
DTSTART:20251026T010000
END:STANDARD
END:VTIMEZONE
BEGIN:VEVENT
DTSTART;VALUE=DATE:20241224
DTEND;VALUE=DATE:20241225
DTSTAMP:20260425T135552
CREATED:20241217T135853Z
LAST-MODIFIED:20241217T140019Z
UID:7173-1734998400-1735084799@kalender.seniorinnen.wien
SUMMARY:Weihnachtliches Beisammensein am 24.12.
DESCRIPTION:Die Pensionist:innenklubs für die Stadt Wien und die Häuser zum Leben laden am Heiligen Abend zum feierlichen Nachmittag bei Punsch\, Keksen und weihnachtlichem Programm ein. \nUm Anmeldung zur Veranstaltung wird gebeten! \nNähere Informationen finden Sie bei den jeweiligen Standorten unter folgendem Link.\nhttps://kwp.at/veranstaltungen/?filter=house&event_search=&start_date=2024-12-24&end_date=2024-12-24
URL:https://kalender.seniorinnen.wien/event/weihnachtliches-beisammensein-am-24-dezember-2024/
LOCATION:Wien
CATEGORIES:Begegnung,Weihnachten
ATTACH;FMTTYPE=image/jpeg:https://kalender.seniorinnen.wien/wp-content/uploads/2024/12/Weihnachtliches-Beisammensein_Fotocredit_KWP_1.jpg
END:VEVENT
END:VCALENDAR