BEGIN:VCALENDAR
VERSION:2.0
PRODID:-//Wien für Senior:innen - ECPv6.15.17.1//NONSGML v1.0//EN
CALSCALE:GREGORIAN
METHOD:PUBLISH
X-ORIGINAL-URL:https://kalender.seniorinnen.wien
X-WR-CALDESC:Veranstaltungen für Wien für Senior:innen
REFRESH-INTERVAL;VALUE=DURATION:PT1H
X-Robots-Tag:noindex
X-PUBLISHED-TTL:PT1H
BEGIN:VTIMEZONE
TZID:Europe/Berlin
BEGIN:DAYLIGHT
TZOFFSETFROM:+0100
TZOFFSETTO:+0200
TZNAME:CEST
DTSTART:20230326T010000
END:DAYLIGHT
BEGIN:STANDARD
TZOFFSETFROM:+0200
TZOFFSETTO:+0100
TZNAME:CET
DTSTART:20231029T010000
END:STANDARD
BEGIN:DAYLIGHT
TZOFFSETFROM:+0100
TZOFFSETTO:+0200
TZNAME:CEST
DTSTART:20240331T010000
END:DAYLIGHT
BEGIN:STANDARD
TZOFFSETFROM:+0200
TZOFFSETTO:+0100
TZNAME:CET
DTSTART:20241027T010000
END:STANDARD
BEGIN:DAYLIGHT
TZOFFSETFROM:+0100
TZOFFSETTO:+0200
TZNAME:CEST
DTSTART:20250330T010000
END:DAYLIGHT
BEGIN:STANDARD
TZOFFSETFROM:+0200
TZOFFSETTO:+0100
TZNAME:CET
DTSTART:20251026T010000
END:STANDARD
END:VTIMEZONE
BEGIN:VEVENT
DTSTART;TZID=Europe/Berlin:20240411T180000
DTEND;TZID=Europe/Berlin:20240411T233000
DTSTAMP:20260426T034409
CREATED:20240403T071007Z
LAST-MODIFIED:20240403T071007Z
UID:5604-1712858400-1712878200@kalender.seniorinnen.wien
SUMMARY:Klub 66 – Swing till dawn
DESCRIPTION:Packt die besten Tanzschuhe ein… \nAm Donnerstag\, 11.04.2024 legt DJ Chris Crocodile ab 18:00 Uhr im altehrwürdigen Tanzcafe Jenseits wieder die besten\, tanzbarsten und schwungvollsten Hits der 60er\, 70er und 80er auf. \nDamit legt der KWP mit den Klubmitgliedern eine heiße Sohle aufs Parkett. Gemeinsam mit dem Regenbogentreff hat Chris eine feine Playlist ausgewählt\, deren Lieder gerade auch die queere Community geprägt hat. \nDer Eintritt ist gratis\, inklusive Willkommensgetränk.
URL:https://kalender.seniorinnen.wien/event/klub-66-swing-till-dawn/
LOCATION:Tanzcafe Jenseits\, Nelkengasse 3\, Wien\, 1060
CATEGORIES:Begegnung,Fit und Gesund,Kunst und Kultur,Unterhaltung
END:VEVENT
BEGIN:VEVENT
DTSTART;TZID=Europe/Berlin:20240416T150000
DTEND;TZID=Europe/Berlin:20240416T170000
DTSTAMP:20260426T034409
CREATED:20240322T112901Z
LAST-MODIFIED:20250116T083236Z
UID:5527-1713279600-1713286800@kalender.seniorinnen.wien
SUMMARY:Kontaktbesuchsdienst: Sprechstunde im Pensionist:innenklub Liebknechtgasse
DESCRIPTION:Ein kostenloser Wegweiser durch die Soziallandschaft Wiens.\n\n\nDie Wiener Sozialdienste informieren alle in Wien lebenden Personen ab 60 Jahren über die sozialen Dienstleistungen der Stadt. \nIn Sprechstunden im 16. Bezirk werden Ihnen passende Ansprechpartner:innen\, Telefonnummern und Adressen genannt rund um Themen wie Freizeitaktivitäten\, Unterstützung für pflegende Angehörige\, Wohnen\, Vorsorge und das digitale Angebot der Stadt. \nOder Sie informieren sich telefonisch während der wöchentlichen Telefonsprechstunde. Sie erreichen die Wiener Sozialdienste jeden Donnerstag von 13–15 Uhr unter: +43 (1) 98121 1730 oder 1740.
URL:https://kalender.seniorinnen.wien/event/kontaktbesuchsdienst-sozial-sprechstunde-im-pensionistinnenklub-liebknechtgasse/2024-04-16/
LOCATION:Pensionist:innenklub Liebknechtgasse\, Liebknechtgasse 32\, Wien\, 1160
CATEGORIES:Information
ATTACH;FMTTYPE=image/jpeg:https://kalender.seniorinnen.wien/wp-content/uploads/2024/01/signpost-235079_1920-e1707309248113.jpg
END:VEVENT
BEGIN:VEVENT
DTSTART;TZID=Europe/Berlin:20240418T143000
DTEND;TZID=Europe/Berlin:20240418T163000
DTSTAMP:20260426T034409
CREATED:20240322T113623Z
LAST-MODIFIED:20250116T083208Z
UID:5531-1713450600-1713457800@kalender.seniorinnen.wien
SUMMARY:Kontaktbesuchsdienst: Sprechstunde im Pensionist:innenklub Absberggasse
DESCRIPTION:Ein kostenloser Wegweiser durch die Soziallandschaft Wiens.\n\n\nDie Wiener Sozialdienste informieren alle in Wien lebenden Personen ab 60 Jahren über die sozialen Dienstleistungen der Stadt. \nIn Sprechstunden im 10. Bezirk werden Ihnen passende Ansprechpartner:innen\, Telefonnummern und Adressen genannt rund um Themen wie Freizeitaktivitäten\, Unterstützung für pflegende Angehörige\, Wohnen\, Vorsorge und das digitale Angebot der Stadt. \nOder Sie informieren sich telefonisch während der wöchentlichen Telefonsprechstunde. Sie erreichen die Wiener Sozialdienste jeden Donnerstag von 13–15 Uhr unter: +43 (1) 98121 1730 oder 1740.
URL:https://kalender.seniorinnen.wien/event/kontaktbesuchsdienst-sozial-sprechstunde-im-pensionistinnenklub-absberggasse/2024-04-18/
LOCATION:Pensionist:innenklub Absberggasse 25/7\, Pensionist:innenklub Absberggasse 25/7\, Wien\, 1100
CATEGORIES:Information
ATTACH;FMTTYPE=image/jpeg:https://kalender.seniorinnen.wien/wp-content/uploads/2024/01/signpost-235079_1920-e1707309248113.jpg
END:VEVENT
BEGIN:VEVENT
DTSTART;TZID=Europe/Berlin:20240430T143000
DTEND;TZID=Europe/Berlin:20240430T163000
DTSTAMP:20260426T034409
CREATED:20240322T113623Z
LAST-MODIFIED:20250116T083208Z
UID:5533-1714487400-1714494600@kalender.seniorinnen.wien
SUMMARY:Kontaktbesuchsdienst: Sprechstunde im Pensionist:innenklub Absberggasse
DESCRIPTION:Ein kostenloser Wegweiser durch die Soziallandschaft Wiens.\n\n\nDie Wiener Sozialdienste informieren alle in Wien lebenden Personen ab 60 Jahren über die sozialen Dienstleistungen der Stadt. \nIn Sprechstunden im 10. Bezirk werden Ihnen passende Ansprechpartner:innen\, Telefonnummern und Adressen genannt rund um Themen wie Freizeitaktivitäten\, Unterstützung für pflegende Angehörige\, Wohnen\, Vorsorge und das digitale Angebot der Stadt. \nOder Sie informieren sich telefonisch während der wöchentlichen Telefonsprechstunde. Sie erreichen die Wiener Sozialdienste jeden Donnerstag von 13–15 Uhr unter: +43 (1) 98121 1730 oder 1740.
URL:https://kalender.seniorinnen.wien/event/kontaktbesuchsdienst-sozial-sprechstunde-im-pensionistinnenklub-absberggasse/2024-04-30/
LOCATION:Pensionist:innenklub Absberggasse 25/7\, Pensionist:innenklub Absberggasse 25/7\, Wien\, 1100
CATEGORIES:Information
ATTACH;FMTTYPE=image/jpeg:https://kalender.seniorinnen.wien/wp-content/uploads/2024/01/signpost-235079_1920-e1707309248113.jpg
END:VEVENT
BEGIN:VEVENT
DTSTART;TZID=Europe/Berlin:20240430T150000
DTEND;TZID=Europe/Berlin:20240430T170000
DTSTAMP:20260426T034409
CREATED:20240322T112901Z
LAST-MODIFIED:20250116T083236Z
UID:5535-1714489200-1714496400@kalender.seniorinnen.wien
SUMMARY:Kontaktbesuchsdienst: Sprechstunde im Pensionist:innenklub Liebknechtgasse
DESCRIPTION:Ein kostenloser Wegweiser durch die Soziallandschaft Wiens.\n\n\nDie Wiener Sozialdienste informieren alle in Wien lebenden Personen ab 60 Jahren über die sozialen Dienstleistungen der Stadt. \nIn Sprechstunden im 16. Bezirk werden Ihnen passende Ansprechpartner:innen\, Telefonnummern und Adressen genannt rund um Themen wie Freizeitaktivitäten\, Unterstützung für pflegende Angehörige\, Wohnen\, Vorsorge und das digitale Angebot der Stadt. \nOder Sie informieren sich telefonisch während der wöchentlichen Telefonsprechstunde. Sie erreichen die Wiener Sozialdienste jeden Donnerstag von 13–15 Uhr unter: +43 (1) 98121 1730 oder 1740.
URL:https://kalender.seniorinnen.wien/event/kontaktbesuchsdienst-sozial-sprechstunde-im-pensionistinnenklub-liebknechtgasse/2024-04-30/
LOCATION:Pensionist:innenklub Liebknechtgasse\, Liebknechtgasse 32\, Wien\, 1160
CATEGORIES:Information
ATTACH;FMTTYPE=image/jpeg:https://kalender.seniorinnen.wien/wp-content/uploads/2024/01/signpost-235079_1920-e1707309248113.jpg
END:VEVENT
END:VCALENDAR