BEGIN:VCALENDAR
VERSION:2.0
PRODID:-//Wien für Senior:innen - ECPv6.15.17.1//NONSGML v1.0//EN
CALSCALE:GREGORIAN
METHOD:PUBLISH
X-ORIGINAL-URL:https://kalender.seniorinnen.wien
X-WR-CALDESC:Veranstaltungen für Wien für Senior:innen
REFRESH-INTERVAL;VALUE=DURATION:PT1H
X-Robots-Tag:noindex
X-PUBLISHED-TTL:PT1H
BEGIN:VTIMEZONE
TZID:Europe/Berlin
BEGIN:DAYLIGHT
TZOFFSETFROM:+0100
TZOFFSETTO:+0200
TZNAME:CEST
DTSTART:20250330T010000
END:DAYLIGHT
BEGIN:STANDARD
TZOFFSETFROM:+0200
TZOFFSETTO:+0100
TZNAME:CET
DTSTART:20251026T010000
END:STANDARD
BEGIN:DAYLIGHT
TZOFFSETFROM:+0100
TZOFFSETTO:+0200
TZNAME:CEST
DTSTART:20260329T010000
END:DAYLIGHT
BEGIN:STANDARD
TZOFFSETFROM:+0200
TZOFFSETTO:+0100
TZNAME:CET
DTSTART:20261025T010000
END:STANDARD
BEGIN:DAYLIGHT
TZOFFSETFROM:+0100
TZOFFSETTO:+0200
TZNAME:CEST
DTSTART:20270328T010000
END:DAYLIGHT
BEGIN:STANDARD
TZOFFSETFROM:+0200
TZOFFSETTO:+0100
TZNAME:CET
DTSTART:20271031T010000
END:STANDARD
END:VTIMEZONE
BEGIN:VEVENT
DTSTART;TZID=Europe/Berlin:20260625T090000
DTEND;TZID=Europe/Berlin:20260625T113000
DTSTAMP:20260423T121319
CREATED:20260417T070936Z
LAST-MODIFIED:20260417T071835Z
UID:12637-1782378000-1782387000@kalender.seniorinnen.wien
SUMMARY:Digitale Schulungen für Senior:innen von Schüler:innen des TGM
DESCRIPTION:Klub Schlagergasse 2\nDigitale Unterstützung (Handy\, Tablet\, Laptop) in der Ehrenamtswoche von 24-28 Schüler:innen der Schule TGM für Senior:innen in 4 Klubstandorten. \nDie Besucher:innen bringen ihr eigenes Gerät mit und können Fragen zum Gerät und zur Digitalisierung an die jungen\, wissenden Schüler:innen stellen. \nFoto: Pixabay
URL:https://kalender.seniorinnen.wien/event/digitale-schulungen-fuer-seniorinnen-von-schuelerinnen-des-tgm/
LOCATION:Klub Schlagergasse\, Schlagergasse 2/1\, Wien\, Wien\, 1090\, Austria
CATEGORIES:Digital und Online,Information
ATTACH;FMTTYPE=image/jpeg:https://kalender.seniorinnen.wien/wp-content/uploads/2026/03/stevepb-hands-545394-scaled.jpg
END:VEVENT
BEGIN:VEVENT
DTSTART;TZID=Europe/Berlin:20260625T090000
DTEND;TZID=Europe/Berlin:20260625T113000
DTSTAMP:20260423T121319
CREATED:20260417T071528Z
LAST-MODIFIED:20260417T071639Z
UID:12631-1782378000-1782387000@kalender.seniorinnen.wien
SUMMARY:Digitale Schulungen für Senior:innen von Schüler:innen des TGM
DESCRIPTION:Klub Alser Straße 71\nDigitale Unterstützung (Handy\, Tablet\, Laptop) in der Ehrenamtswoche von 24-28 Schüler:innen der Schule TGM für Senior:innen in 4 Klubstandorten. \nDie Besucher:innen bringen ihr eigenes Gerät mit und können Fragen zum Gerät und zur Digitalisierung an die jungen\, wissenden Schüler:innen stellen. \nFoto: Pixabay
URL:https://kalender.seniorinnen.wien/event/digitale-schulungen-fuer-seniorinnen-von-schuelerinnen-des-tgm-2/
LOCATION:Klub Alser Straße 71\, Alser Straße 71\, Wien\, Wien\, 1080\, Austria
CATEGORIES:Digital und Online,Information
ATTACH;FMTTYPE=image/jpeg:https://kalender.seniorinnen.wien/wp-content/uploads/2026/03/stevepb-hands-545394-scaled.jpg
END:VEVENT
BEGIN:VEVENT
DTSTART;TZID=Europe/Berlin:20260625T090000
DTEND;TZID=Europe/Berlin:20260625T113000
DTSTAMP:20260423T121319
CREATED:20260417T071633Z
LAST-MODIFIED:20260417T071633Z
UID:12642-1782378000-1782387000@kalender.seniorinnen.wien
SUMMARY:Digitale Schulungen für Senior:innen von Schüler:innen des TGM
DESCRIPTION:Klub Greiseneckergasse  5\nDigitale Unterstützung (Handy\, Tablet\, Laptop) in der Ehrenamtswoche von 24-28 Schüler:innen der Schule TGM für Senior:innen in 4 Klubstandorten. \nDie Besucher:innen bringen ihr eigenes Gerät mit und können Fragen zum Gerät und zur Digitalisierung an die jungen\, wissenden Schüler:innen stellen. \nFoto: Pixabay
URL:https://kalender.seniorinnen.wien/event/digitale-schulungen-fuer-seniorinnen-von-schuelerinnen-des-tgm-3/
LOCATION:Klub Greiseneckergasse\, Greiseneckergasse 5\, Wien\, Wien\, 1200\, Austria
CATEGORIES:Digital und Online,Information
ATTACH;FMTTYPE=image/jpeg:https://kalender.seniorinnen.wien/wp-content/uploads/2026/03/stevepb-hands-545394-scaled.jpg
END:VEVENT
BEGIN:VEVENT
DTSTART;TZID=Europe/Berlin:20260625T093000
DTEND;TZID=Europe/Berlin:20260625T163000
DTSTAMP:20260423T121319
CREATED:20260417T063422Z
LAST-MODIFIED:20260417T063721Z
UID:12625-1782379800-1782405000@kalender.seniorinnen.wien
SUMMARY:6. Demenz Meet in Wien: Mut wirkt!
DESCRIPTION:mit Raphael Schönborn und PROMENZ \nDonnerstag\, 25. Juni 2026\, 9:30 bis 16:30 Uhr\nKardinal König Haus\n1130 Wien \nTeilnahmegebühr: € 50\,– (inkl. Mittagessen) \nFür Personen mit Demenz ist die Teilnahme kostenfrei. Bitte wenden Sie sich telefonisch oder per E-Mail an uns. \nKontakt: kontakt@kompetenzdemenz.at\nTelefon: +43 676 792 0903\nWebseite: kompetenzdemenz.at \nhttps://www.caritas-pflege.at/wien/infos-aktuelles/demenzmeet/
URL:https://kalender.seniorinnen.wien/event/6-demenz-meet-in-wien-mut-wirkt/
LOCATION:Kardinal König Haus\, Kardinal König Platz 3\, Wien\, 1130
CATEGORIES:Demenz,Information
ATTACH;FMTTYPE=image/jpeg:https://kalender.seniorinnen.wien/wp-content/uploads/2026/04/Demenz-Meet.jpg
END:VEVENT
BEGIN:VEVENT
DTSTART;TZID=Europe/Berlin:20260625T103000
DTEND;TZID=Europe/Berlin:20260625T113000
DTSTAMP:20260423T121319
CREATED:20260109T075544Z
LAST-MODIFIED:20260109T080544Z
UID:11385-1782383400-1782387000@kalender.seniorinnen.wien
SUMMARY:Schloss Esterházy: Führung im Sitzen
DESCRIPTION:Diese Schlossführung im Sitzen ermöglicht allen Besucher:innen\, die Geschichte des Schlosses Esterházy in ihrer ganzen Tiefe und Vielfalt zu erleben – bequem und ohne Treppensteigen zwischen den Ausstellungsebenen. Sie eignet sich besonders für Menschen mit Bewegungseinschränkungen. \nDauer: ca. 60 Min.\nPreise und Öffnungszeiten: esterhazy.at/sitzen\nAnfragen und Buchung: Schloss Esterházy\, 7000 Eisenstadt\nTelefon: +43 2682 63004-7600\nE-Mail: schloss-esterhazy@esterhazy.at \nFoto: Schloss Esterházy
URL:https://kalender.seniorinnen.wien/event/schloss-esterhazy-fuehrung-im-sitzen/2026-06-25/
LOCATION:Schloss Esterházy\, Schloss Esterházy\, Eisenstadt\, 7000\, Austria
ATTACH;FMTTYPE=image/jpeg:https://kalender.seniorinnen.wien/wp-content/uploads/2026/01/SCHEE_Fuehrung-Sitzen.jpg
ORGANIZER;CN="Schloss Esterh%C3%A1zy":MAILTO:schloss-esterhazy@esterhazy.at
END:VEVENT
BEGIN:VEVENT
DTSTART;TZID=Europe/Berlin:20260625T120000
DTEND;TZID=Europe/Berlin:20260625T160000
DTSTAMP:20260423T121319
CREATED:20250930T100925Z
LAST-MODIFIED:20250930T100925Z
UID:10607-1782388800-1782403200@kalender.seniorinnen.wien
SUMMARY:Feelgood - Open House
DESCRIPTION:Feelgood ist ein  norwegisches Trainingskonzept für das niemand ist zu alt oder zu schwach ist. Zwölf automatisierte Geräte im Zirkel mobilisieren und kräftigen den gesamten Bewegungsapparat – sanft\, sicher und ohne Leistungsdruck. In nur 40 Minuten werden Muskeln gestärkt\, Gelenke bewegt und das Wohlbefinden gefördert. Jeder steuert individuell den eigenen Krafteinsatz. Ideal für alle\, die fit bleiben oder wieder einsteigen möchten – unabhängig von Alter oder Erfahrung. \nDas Konzept wirkt vorbeugend und therapeutisch\, denn Bewegung ist die beste aktive Medizin! \nÖffnungszeiten für Mitglieder von 8:00-20:00h\, jeden Tag – auch Sonn- und Feiertage.\nNach Abschluss einer Mitgliedschaft kann man das Trainingsangebot ohne Termin und sooft man möchte nutzen. \nJeden Donnerstag zwischen 12:00 und 16:00  Open House – so kann jeder ohne Termin einfach vorbei kommen und schnuppern und wenn es gefällt einen Termin für eine kostenloses Probetraining vereinbaren. \nWeitere Informationen: \nTel.: +43 664 212 6352\nEmail: info@feelgoodwien-waehring.at \n 
URL:https://kalender.seniorinnen.wien/event/feelgood-open-house/2026-06-25/
LOCATION:Feelgood Wien Währing\, Klostergasse 19\, Wien\, 1180
CATEGORIES:Fit und Gesund
ATTACH;FMTTYPE=image/jpeg:https://kalender.seniorinnen.wien/wp-content/uploads/2025/09/202503_feelgood_low_srgb_credit02-e1759226572583.jpg
END:VEVENT
BEGIN:VEVENT
DTSTART;TZID=Europe/Berlin:20260625T180000
DTEND;TZID=Europe/Berlin:20260625T180000
DTSTAMP:20260423T121319
CREATED:20251001T111609Z
LAST-MODIFIED:20251001T111609Z
UID:11039-1782410400-1782410400@kalender.seniorinnen.wien
SUMMARY:BLEIBE FIT FÜRS LEBEN
DESCRIPTION:BLEIBE FIT FÜRS LEBEN\nfitfellows: Les Mills THRIVE – Dein sanftes Krafttraining für Seniorinnen und Senioren \nDonnerstags\, 18:00 Uhr (weitere Termine in Planung!)\nPrinz-Eugen-Straße 34\, 1040 Wien (im New Wave Gym) \nFür wen ist dieser Kurs geeignet?\nDieser Kurs richtet sich an alle Senior:innen\, die ihre Mobilität\, Balance und Kraft im Alltag erhalten und verbessern möchten – ideal für Einsteiger:innen\, Wiedereinsteiger:innen und alle\, die ein gelenkschonendes Training mit Spaß und Gemeinschaft suchen. \nWas erwartet dich?\nIn 45 Minuten kombinieren wir gezielte Übungen aus dem Les Mills THRIVE-Programm\, das speziell für Menschen ab 55 Jahren entwickelt wurde. Das Training ist begleitet von motivierender Musik\, die jede Bewegung unterstützt und den Rhythmus vorgibt – so wird dein Krafttraining zu einem lebendigen Erlebnis. Du stärkst deine Bein- und Rumpfmuskulatur\, verbesserst deine Flexibilität und Balance – alles in deinem eigenen Tempo und mit individueller Unterstützung. \nWarum Les Mills THRIVE bei fitfellows?\n• gelenkschonend und sicher – ideal für alle Fitnesslevels\n• mit optionaler Unterstützung durch Sessel\, Matte\, Widerstandsbänder oder leichte Gewichte\n• wissenschaftlich fundiert und von Expert:innen entwickelt\n• mit motivierender Musik\, die jede Übung unterstützt\n• persönliche Betreuung in kleiner Gruppe \nWenn du persönliche Betreuung mit Herz suchst\, bist du bei fitfellows genau richtig! \nkostenloses Schnuppern für Senior:innen\nAnmeldung oder Fragen: michael@fitfellows.at \nWeitere Kurszeiten sind bei entsprechender Nachfrage möglich! \nFoto: Fitfellows
URL:https://kalender.seniorinnen.wien/event/bleibe-fit-fuers-leben/2026-06-25/
LOCATION:New Wave Gym\, Prinz-Eugen-Straße 34\, Wien\, Wien\, 1040
CATEGORIES:Fit und Gesund
ATTACH;FMTTYPE=image/jpeg:https://kalender.seniorinnen.wien/wp-content/uploads/2025/10/fitfellows-e1759316912688.jpg
END:VEVENT
END:VCALENDAR