BEGIN:VCALENDAR
VERSION:2.0
PRODID:-//Wien für Senior:innen - ECPv6.15.17.1//NONSGML v1.0//EN
CALSCALE:GREGORIAN
METHOD:PUBLISH
X-ORIGINAL-URL:https://kalender.seniorinnen.wien
X-WR-CALDESC:Veranstaltungen für Wien für Senior:innen
REFRESH-INTERVAL;VALUE=DURATION:PT1H
X-Robots-Tag:noindex
X-PUBLISHED-TTL:PT1H
BEGIN:VTIMEZONE
TZID:Europe/Berlin
BEGIN:DAYLIGHT
TZOFFSETFROM:+0100
TZOFFSETTO:+0200
TZNAME:CEST
DTSTART:20250330T010000
END:DAYLIGHT
BEGIN:STANDARD
TZOFFSETFROM:+0200
TZOFFSETTO:+0100
TZNAME:CET
DTSTART:20251026T010000
END:STANDARD
BEGIN:DAYLIGHT
TZOFFSETFROM:+0100
TZOFFSETTO:+0200
TZNAME:CEST
DTSTART:20260329T010000
END:DAYLIGHT
BEGIN:STANDARD
TZOFFSETFROM:+0200
TZOFFSETTO:+0100
TZNAME:CET
DTSTART:20261025T010000
END:STANDARD
BEGIN:DAYLIGHT
TZOFFSETFROM:+0100
TZOFFSETTO:+0200
TZNAME:CEST
DTSTART:20270328T010000
END:DAYLIGHT
BEGIN:STANDARD
TZOFFSETFROM:+0200
TZOFFSETTO:+0100
TZNAME:CET
DTSTART:20271031T010000
END:STANDARD
END:VTIMEZONE
BEGIN:VEVENT
DTSTART;TZID=Europe/Berlin:20260613T090000
DTEND;TZID=Europe/Berlin:20260613T210000
DTSTAMP:20260423T121442
CREATED:20260421T112847Z
LAST-MODIFIED:20260421T112847Z
UID:12810-1781341200-1781384400@kalender.seniorinnen.wien
SUMMARY:Tag der ACHTsamkeit 2026
DESCRIPTION:Am Tag der ACHTsamkeit heißt es wieder einen Tag lang „Leben findet Stadt“ in der Josefstadt. Es wird wieder gesungen\, getanzt\, erzählt und zugehört. Auch zwei Bezirksspaziergänge zeigen die Josefstadt von neuen Seiten. \nInstitutionen öffnen ihre Türen\, Plätze und Parks verwandeln sich in lebendige Begegnungsräume\, Josefstädter:innen schauen aufeinander und schmieden gemeinsam Ideen\, damit alle\, die Unterstützung suchen oder anbieten\, zusammenfinden – Nachbar:innen\, Institutionen\, NGOs\, engagierte Unternehmen und Bürger:innen. \nAm Tag der ACHTsamkeit laden rund 20 Orte im Bezirk mit vielfältigen Angeboten dazu ein\, neue Menschen kennenzulernen\, Mitmach- und Unterstützungsmöglichkeiten zu entdecken oder eigene Anliegen und Ideen einzubringen – für eine noch achtsamere Josefstadt. \nDer Tag der ACHTsamkeit ist eine Initiative des ACHTSAMEN 8.\, getragen von zahlreichen Institutionen\, Unternehmen\, Bürger:innen und dem Bezirk. \nVeranstaltungsort: verschiedene Orte in der Josefstadt\, 1080 Wien \n\n\n\nInformationen: www.derachte.at/event/tag-der-achtsamkeit-2026 \nBild: Sarah Bergbauer/BV8; lostinarchitecture
URL:https://kalender.seniorinnen.wien/event/tag-der-achtsamkeit-2026/
LOCATION:Wien
CATEGORIES:Begegnung,Grätzel,Kunst und Kultur
ATTACH;FMTTYPE=image/jpeg:https://kalender.seniorinnen.wien/wp-content/uploads/2026/04/webBilder_02_2024_15-1536x864-1.jpg
END:VEVENT
BEGIN:VEVENT
DTSTART;TZID=Europe/Berlin:20260613T103000
DTEND;TZID=Europe/Berlin:20260613T113000
DTSTAMP:20260423T121442
CREATED:20260109T075544Z
LAST-MODIFIED:20260109T080544Z
UID:11384-1781346600-1781350200@kalender.seniorinnen.wien
SUMMARY:Schloss Esterházy: Führung im Sitzen
DESCRIPTION:Diese Schlossführung im Sitzen ermöglicht allen Besucher:innen\, die Geschichte des Schlosses Esterházy in ihrer ganzen Tiefe und Vielfalt zu erleben – bequem und ohne Treppensteigen zwischen den Ausstellungsebenen. Sie eignet sich besonders für Menschen mit Bewegungseinschränkungen. \nDauer: ca. 60 Min.\nPreise und Öffnungszeiten: esterhazy.at/sitzen\nAnfragen und Buchung: Schloss Esterházy\, 7000 Eisenstadt\nTelefon: +43 2682 63004-7600\nE-Mail: schloss-esterhazy@esterhazy.at \nFoto: Schloss Esterházy
URL:https://kalender.seniorinnen.wien/event/schloss-esterhazy-fuehrung-im-sitzen/2026-06-13/
LOCATION:Schloss Esterházy\, Schloss Esterházy\, Eisenstadt\, 7000\, Austria
ATTACH;FMTTYPE=image/jpeg:https://kalender.seniorinnen.wien/wp-content/uploads/2026/01/SCHEE_Fuehrung-Sitzen.jpg
ORGANIZER;CN="Schloss Esterh%C3%A1zy":MAILTO:schloss-esterhazy@esterhazy.at
END:VEVENT
END:VCALENDAR