BEGIN:VCALENDAR
VERSION:2.0
PRODID:-//Wien für Senior:innen - ECPv6.15.17.1//NONSGML v1.0//EN
CALSCALE:GREGORIAN
METHOD:PUBLISH
X-WR-CALNAME:Wien für Senior:innen
X-ORIGINAL-URL:https://kalender.seniorinnen.wien
X-WR-CALDESC:Veranstaltungen für Wien für Senior:innen
REFRESH-INTERVAL;VALUE=DURATION:PT1H
X-Robots-Tag:noindex
X-PUBLISHED-TTL:PT1H
BEGIN:VTIMEZONE
TZID:Europe/Berlin
BEGIN:DAYLIGHT
TZOFFSETFROM:+0100
TZOFFSETTO:+0200
TZNAME:CEST
DTSTART:20250330T010000
END:DAYLIGHT
BEGIN:STANDARD
TZOFFSETFROM:+0200
TZOFFSETTO:+0100
TZNAME:CET
DTSTART:20251026T010000
END:STANDARD
BEGIN:DAYLIGHT
TZOFFSETFROM:+0100
TZOFFSETTO:+0200
TZNAME:CEST
DTSTART:20260329T010000
END:DAYLIGHT
BEGIN:STANDARD
TZOFFSETFROM:+0200
TZOFFSETTO:+0100
TZNAME:CET
DTSTART:20261025T010000
END:STANDARD
BEGIN:DAYLIGHT
TZOFFSETFROM:+0100
TZOFFSETTO:+0200
TZNAME:CEST
DTSTART:20270328T010000
END:DAYLIGHT
BEGIN:STANDARD
TZOFFSETFROM:+0200
TZOFFSETTO:+0100
TZNAME:CET
DTSTART:20271031T010000
END:STANDARD
END:VTIMEZONE
BEGIN:VEVENT
DTSTART;TZID=Europe/Berlin:20260530T100000
DTEND;TZID=Europe/Berlin:20260530T113000
DTSTAMP:20260423T105504
CREATED:20260416T104647Z
LAST-MODIFIED:20260416T104647Z
UID:12595-1780135200-1780140600@kalender.seniorinnen.wien
SUMMARY:Atemcoaching und Bewegung
DESCRIPTION:Samstags von 10:00 – 11:30 Uhr \nAll Levels (keinerlei Vorkenntnisse notwendig)\, nicht aufbauend\nLehrperson: Bruno Genty \nDem Weg/Rhythmus/Fluss der Atmung folgen; den Einfluss in alle Bewegungen/Körperteile erkennen. Einfache Bewegungsstrukturen geben uns die Möglichkeit diese Natürlichkeit zu beobachten und davon zu lernen. \nDie Gelenke öffnen\, den Kontakt zum Boden vertiefen und ohne Kraft\, dafür mit Fülle\, bewegen. In diesem Kurs geht es um deinen Körper\, es wird kein Tanz unterrichtet. Es sind keine Vorkenntnisse notwendig.\nBruno \nPreis & Anmeldung: www.beat1060.wien\nOrt: Millergasse 42-44\, 1060 Wien \nEinstieg und Schnuppern jederzeit möglich!
URL:https://kalender.seniorinnen.wien/event/atemcoaching-und-bewegung/2026-05-30/
LOCATION:beat1060\, Millergasse 42-44\, Wien\, Wien\, 1060\, Austria
CATEGORIES:Fit und Gesund
ATTACH;FMTTYPE=image/png:https://kalender.seniorinnen.wien/wp-content/uploads/2026/04/ACO-mit-Bruno.png
ORGANIZER;CN="beat1060":MAILTO:office@beat1060.wien
END:VEVENT
BEGIN:VEVENT
DTSTART;TZID=Europe/Berlin:20260530T103000
DTEND;TZID=Europe/Berlin:20260530T114500
DTSTAMP:20260423T105504
CREATED:20260302T104708Z
LAST-MODIFIED:20260302T113838Z
UID:12304-1780137000-1780141500@kalender.seniorinnen.wien
SUMMARY:Demenzsensible Führung: Musik liegt in der Luft
DESCRIPTION:Musik liegt in der Luft\nWir laden Sie ein\, gemeinsam der Musik zu lauschen\, das eine oder andere Liedchen mitanzustimmen oder ein Tänzchen zu wagen. Jahrmarktsorgeln und historische Musikautomaten werden wie von Geisterhand zum Klingen gebracht. Die Musik versetzt nicht nur die Gemäuer des Technischen Museums Wien in Schwingung\, sondern kann auch uns Menschen tief bewegen und Erinnerungen wecken.\nFür Menschen mit Demenz und deren Begleitperson ist die Führung im Technischen Museum Wien inkl. Museumseintritt kostenlos. Die Anmeldung ist ab 2 Monate und bis 5 Tage vor dem Führungstermin möglich. \nAnmeldung und Kontakt:\nTelefon: +43 1 89998 3001\nE-Mail: wissensvermittlung@tmw.at \nInternet: tmw.at/demenzsensibles_programm \nFoto: tmw
URL:https://kalender.seniorinnen.wien/event/demenzsensible-fuehrung-musik-liegt-in-der-luft/
LOCATION:Technisches Museum Wien\, Mariahilfer Straße 212\, Wien\, 1140\, Österreich
CATEGORIES:Begegnung,Demenz
ATTACH;FMTTYPE=image/jpeg:https://kalender.seniorinnen.wien/wp-content/uploads/2026/03/Technisches-Museum-Wien-Musik-liegt-in-der-Luft.jpg
END:VEVENT
END:VCALENDAR