BEGIN:VCALENDAR
VERSION:2.0
PRODID:-//Wien für Senior:innen - ECPv6.15.17.1//NONSGML v1.0//EN
CALSCALE:GREGORIAN
METHOD:PUBLISH
X-ORIGINAL-URL:https://kalender.seniorinnen.wien
X-WR-CALDESC:Veranstaltungen für Wien für Senior:innen
REFRESH-INTERVAL;VALUE=DURATION:PT1H
X-Robots-Tag:noindex
X-PUBLISHED-TTL:PT1H
BEGIN:VTIMEZONE
TZID:Europe/Berlin
BEGIN:DAYLIGHT
TZOFFSETFROM:+0100
TZOFFSETTO:+0200
TZNAME:CEST
DTSTART:20250330T010000
END:DAYLIGHT
BEGIN:STANDARD
TZOFFSETFROM:+0200
TZOFFSETTO:+0100
TZNAME:CET
DTSTART:20251026T010000
END:STANDARD
BEGIN:DAYLIGHT
TZOFFSETFROM:+0100
TZOFFSETTO:+0200
TZNAME:CEST
DTSTART:20260329T010000
END:DAYLIGHT
BEGIN:STANDARD
TZOFFSETFROM:+0200
TZOFFSETTO:+0100
TZNAME:CET
DTSTART:20261025T010000
END:STANDARD
BEGIN:DAYLIGHT
TZOFFSETFROM:+0100
TZOFFSETTO:+0200
TZNAME:CEST
DTSTART:20270328T010000
END:DAYLIGHT
BEGIN:STANDARD
TZOFFSETFROM:+0200
TZOFFSETTO:+0100
TZNAME:CET
DTSTART:20271031T010000
END:STANDARD
END:VTIMEZONE
BEGIN:VEVENT
DTSTART;TZID=Europe/Berlin:20260520T090000
DTEND;TZID=Europe/Berlin:20260520T103000
DTSTAMP:20260423T122106
CREATED:20260309T120408Z
LAST-MODIFIED:20260309T120408Z
UID:12396-1779267600-1779273000@kalender.seniorinnen.wien
SUMMARY:A1 Seniorenakademie
DESCRIPTION:Bezahlen im Internet\, aber sicher!\nViele Menschen sagen beim Bezahlen im Internet spontan: “Na sicher nicht”. Der Reflex ist verständlich\, denn besonders beim Geld geht man ungern ein Risiko ein. Was wir stattdessen riskieren können\, ist ein genauer Blick hinter die Kulissen. Wer darüber Bescheid weiß\, wie digitale Zahlungen geschützt werden\, erkennt schnell\, dass hier weit mehr Sicherheit steckt\, als man vermutet. \n\n\nJetzt verbindlich anmelden unter der Rufnummer: 0800 808 810\nMontag bis Freitag von 9 bis 15 Uhr \n\n\nInternet: https://a1seniorenakademie.at/webinar-sicher-bezahlen-im-internet/ \nFoto: Pixabay
URL:https://kalender.seniorinnen.wien/event/a1-seniorenakademie-2/2026-05-20/
LOCATION:Online
CATEGORIES:Digital und Online
ATTACH;FMTTYPE=image/jpeg:https://kalender.seniorinnen.wien/wp-content/uploads/2026/03/pix1861-smartphone-2471545-scaled.jpg
END:VEVENT
BEGIN:VEVENT
DTSTART;TZID=Europe/Berlin:20260520T093000
DTEND;TZID=Europe/Berlin:20260520T113000
DTSTAMP:20260423T122106
CREATED:20260209T132127Z
LAST-MODIFIED:20260209T132127Z
UID:12127-1779269400-1779276600@kalender.seniorinnen.wien
SUMMARY:Salon Servus - GB*Stadtteilbüro\, 16.\, Haberlgasse 76
DESCRIPTION:Alle 14 Tage in ganz Wien gemeinsam spielen\, basteln\, kochen\, plaudern\nGB*Stadtteilbüro\, Haberlgasse 76\, 1160 Wien\nMittwochs\, 9.30 – 11.30 Uhr\n \nDer Salon Servus ist ein Treffpunkt in Ihrer Nähe. Hier können Sie reden\, frühstücken oder jausnen\, spielen\, basteln und zusammen kochen. Für Menschen ab 60 Jahren\, aber alle sind willkommen. Denn gemeinsam ist es schöner! \nUnsere GB*Stadtteilbüros werden alle 14 Tage zu einem gemütlichen Treffpunkt in Ihrer Nähe! Ob beim Plaudern\, beim Brett- und Kartenspielen\, beim Frühstücken oder gemeinsamen Kochen\, Handwerken oder Basteln –im „Salon Servus“ dreht sich alles um das Miteinander! \nDas Angebot ist kostenlos und unverbindlich – alle Interessierten sind willkommen! \nTermine und Standortadressen unter:\ngbstern.at/salon-servus \nKalender: www.gbstern.at/termine/monat/202602/ \nFoto: Salon Servus\, (c) Daniel Dutkowski
URL:https://kalender.seniorinnen.wien/event/salon-servus-gbstadtteilbuero-16-haberlgasse-76/2026-05-20/
LOCATION:Wien
CATEGORIES:Begegnung,Grätzel,Unterhaltung
ATTACH;FMTTYPE=image/jpeg:https://kalender.seniorinnen.wien/wp-content/uploads/2026/02/csm_2504_Salon_Servus_c_Daniel_Dutkowski_15_73921e458d.jpg
ORGANIZER;CN="Gebietsbetreuung Stadterneuerung":MAILTO:info@gbstern.at
END:VEVENT
BEGIN:VEVENT
DTSTART;TZID=Europe/Berlin:20260520T153000
DTEND;TZID=Europe/Berlin:20260520T153000
DTSTAMP:20260423T122106
CREATED:20260310T100155Z
LAST-MODIFIED:20260310T100155Z
UID:12424-1779291000-1779291000@kalender.seniorinnen.wien
SUMMARY:Stolz\, Leopoldi und Benatzky
DESCRIPTION:Das Vindobona Operetten- & Wienerlied Café mit Ingrid Merschl und Irina Nikolayeva\njeden 3. Mittwoch im Monat um 15:30 Uhr \nStolz\, Leopoldi und Benatzky\nDrei Komponisten die in vielen Bereichen herrliche Melodien zauberten. Wienermusik\, Chansons\, Schlager und Operetten\, wurden zu Ohrwürmern\, und eroberten die Herzen der Menschen im Sturm. Aber es gibt auch viele wunderbare Lieder\, die nicht so bekannt sind\, und ergeben in diesem Programm einen interessanten Mix aus alt bewährt und „jö\, das kenn‘ ich gar nicht“.\nLassen Sie sich überraschen.                                                                                              \nKonzept\, Gesang und Moderation: Ingrid Merschl\nAm Klavier: Irina Nikolayeva \nOrt: Vindobona Lounge\, 1200 Wien\, Wallensteinplatz 6\nMusikschutz inkl. Kaffee und Kuchen € 14\,90 \nReservierung: 0676 534 69 89 (Ingrid Merschl) \nInternet: www.merschl.at\nE-Mail: ingrid@merschl.at \nFoto: www.merschl.at
URL:https://kalender.seniorinnen.wien/event/stolz-leopoldi-und-benatzky-2/2026-05-20/
LOCATION:Das Vindobona\, Wallensteinplatz 6\, Wien\, 1200
CATEGORIES:Kunst und Kultur,Unterhaltung
ATTACH;FMTTYPE=image/jpeg:https://kalender.seniorinnen.wien/wp-content/uploads/2026/02/P1010234aK-e1770215092871.jpg
END:VEVENT
BEGIN:VEVENT
DTSTART;TZID=Europe/Berlin:20260520T160000
DTEND;TZID=Europe/Berlin:20260520T180000
DTSTAMP:20260423T122106
CREATED:20260209T110803Z
LAST-MODIFIED:20260209T113908Z
UID:12000-1779292800-1779300000@kalender.seniorinnen.wien
SUMMARY:Salon Servus - GB*Stadtteilbüro\, 10.\, Quellenstraße 149
DESCRIPTION:Alle 14 Tage in ganz Wien gemeinsam spielen\, basteln\, kochen\, plaudern\nGB*Stadtteilbüro\, Quellenstraße 149\, 1100 Wien\,\nMittwochs\, 16 – 18 Uhr \nDer Salon Servus ist ein Treffpunkt in Ihrer Nähe. Hier können Sie reden\, frühstücken oder jausnen\, spielen\, basteln und zusammen kochen. Für Menschen ab 60 Jahren\, aber alle sind willkommen. Denn gemeinsam ist es schöner! \nUnsere GB*Stadtteilbüros werden alle 14 Tage zu einem gemütlichen Treffpunkt in Ihrer Nähe! Ob beim Plaudern\, beim Brett- und Kartenspielen\, beim Frühstücken oder gemeinsamen Kochen\, Handwerken oder Basteln –im „Salon Servus“ dreht sich alles um das Miteinander! \nDas Angebot ist kostenlos und unverbindlich – alle Interessierten sind willkommen! \nTermine und Standortadressen unter:\ngbstern.at/salon-servus \nKalender: www.gbstern.at/termine/monat/202602/ \nFoto: Salon Servus\, (c) Daniel Dutkowski
URL:https://kalender.seniorinnen.wien/event/salon-servus-alle-14-tage-in-ganz-wien-gemeinsam-spielen-basteln-kochen-plaudern-2/2026-05-20/
LOCATION:Wien
CATEGORIES:Begegnung,Grätzel,Unterhaltung
ATTACH;FMTTYPE=image/jpeg:https://kalender.seniorinnen.wien/wp-content/uploads/2026/02/csm_2504_Salon_Servus_c_Daniel_Dutkowski_15_73921e458d.jpg
ORGANIZER;CN="Gebietsbetreuung Stadterneuerung":MAILTO:info@gbstern.at
END:VEVENT
END:VCALENDAR