BEGIN:VCALENDAR
VERSION:2.0
PRODID:-//Wien für Senior:innen - ECPv6.15.17.1//NONSGML v1.0//EN
CALSCALE:GREGORIAN
METHOD:PUBLISH
X-ORIGINAL-URL:https://kalender.seniorinnen.wien
X-WR-CALDESC:Veranstaltungen für Wien für Senior:innen
REFRESH-INTERVAL;VALUE=DURATION:PT1H
X-Robots-Tag:noindex
X-PUBLISHED-TTL:PT1H
BEGIN:VTIMEZONE
TZID:Europe/Berlin
BEGIN:DAYLIGHT
TZOFFSETFROM:+0100
TZOFFSETTO:+0200
TZNAME:CEST
DTSTART:20250330T010000
END:DAYLIGHT
BEGIN:STANDARD
TZOFFSETFROM:+0200
TZOFFSETTO:+0100
TZNAME:CET
DTSTART:20251026T010000
END:STANDARD
BEGIN:DAYLIGHT
TZOFFSETFROM:+0100
TZOFFSETTO:+0200
TZNAME:CEST
DTSTART:20260329T010000
END:DAYLIGHT
BEGIN:STANDARD
TZOFFSETFROM:+0200
TZOFFSETTO:+0100
TZNAME:CET
DTSTART:20261025T010000
END:STANDARD
BEGIN:DAYLIGHT
TZOFFSETFROM:+0100
TZOFFSETTO:+0200
TZNAME:CEST
DTSTART:20270328T010000
END:DAYLIGHT
BEGIN:STANDARD
TZOFFSETFROM:+0200
TZOFFSETTO:+0100
TZNAME:CET
DTSTART:20271031T010000
END:STANDARD
END:VTIMEZONE
BEGIN:VEVENT
DTSTART;TZID=Europe/Berlin:20260505T100000
DTEND;TZID=Europe/Berlin:20260505T120000
DTSTAMP:20260423T105512
CREATED:20260416T091555Z
LAST-MODIFIED:20260416T092637Z
UID:12548-1777975200-1777982400@kalender.seniorinnen.wien
SUMMARY:Energie-Treffpunkt für alle
DESCRIPTION:Verstehst du deine Strom- oder Heizrechnung nicht? Was bedeuten die Zahlen? Warum ist die Rechnung so hoch? Zahlen\, Begriffe und Zeichen sind oft kompliziert und schwer durchschaubar.\n\n\n\n\n\n\n\n\n\n\n\n\n\n\n\n\n\n\n\n\n\n\n\n\n\nBeim kostenlosen Energie-Treffpunkt schauen wir gemeinsam auf deine Rechnung\, erklären alles verständlich und geben dir hilfreiche Tipps zum Energiesparen und zu Unterstützungsangeboten. \nDienstag\, 5. Mai 2026\, 10 bis 12 Uhr\nNachbarschaftszentrum 6 – Mariahilf\n6.\, Bürgerspitalgasse 4-6\nT: +43 1 512 36 61-3300 \nhttps://www.nachbarschaftszentren.at/projekte/energie-treffpunkt \nFoto: Pixabay
URL:https://kalender.seniorinnen.wien/event/energie-treffpunkt-fuer-alle-2/
LOCATION:Wiener Hilfswerk – Nachbarschaftszentrum 6\, Bürgerspitalgasse 4-6\, Wien\, Wien\, 1060\, Austria
CATEGORIES:Grätzel,Information
ATTACH;FMTTYPE=image/jpeg:https://kalender.seniorinnen.wien/wp-content/uploads/2026/04/pix1861-power-outlet-643721-scaled.jpg
END:VEVENT
BEGIN:VEVENT
DTSTART;TZID=Europe/Berlin:20260505T130000
DTEND;TZID=Europe/Berlin:20260505T170000
DTSTAMP:20260423T105512
CREATED:20260421T113534Z
LAST-MODIFIED:20260421T114355Z
UID:12815-1777986000-1778000400@kalender.seniorinnen.wien
SUMMARY:Frühlingsfest
DESCRIPTION:Ort: Klub Alser Straße 71\nAdresse:  Alser Straße 71\, 1080 Wien\nTel: 01 31399 278131
URL:https://kalender.seniorinnen.wien/event/fruehlingsfest/
LOCATION:Klub Alser Straße 71\, Alser Straße 71\, Wien\, Wien\, 1080\, Austria
CATEGORIES:Begegnung,Unterhaltung
ATTACH;FMTTYPE=image/png:https://kalender.seniorinnen.wien/wp-content/uploads/2026/04/satheeshsankaran-floral-6816295_1920.png
END:VEVENT
BEGIN:VEVENT
DTSTART;TZID=Europe/Berlin:20260505T160000
DTEND;TZID=Europe/Berlin:20260505T173000
DTSTAMP:20260423T105512
CREATED:20260330T133003Z
LAST-MODIFIED:20260330T133003Z
UID:12497-1777996800-1778002200@kalender.seniorinnen.wien
SUMMARY:Vergessen? Demenz? Reden wir darüber!
DESCRIPTION:Informationsmöglichkeit und Austausch zum Thema Vergesslichkeit und Demenz\nNetzwerk demenzfreundlicher 23. Bezirk \nDienstag\, 5. Mai 2026\, 16 bis 17:30 Uhr\nHeuriger EDLMOSER\nMaurer Lange Gasse 123\, 1230 Wien \nErreichbar mit der Autobuslinie 60A \nBitte-wenn möglich-um Anmeldung: petra.hausteiner@cs.at\nEintritt frei \nFoto: Pixabay
URL:https://kalender.seniorinnen.wien/event/vergessen-demenz-reden-wir-darueber-6/
LOCATION:Heuriger Edlmoser\, Maurer Lange Gasse 123\, Wien\, 1230\, Österreich
CATEGORIES:Demenz,Information
ATTACH;FMTTYPE=image/jpeg:https://kalender.seniorinnen.wien/wp-content/uploads/2025/08/Schriftzug-Demenz-©Pixabay-e1754396077386.jpg
END:VEVENT
END:VCALENDAR