BEGIN:VCALENDAR
VERSION:2.0
PRODID:-//Wien für Senior:innen - ECPv6.15.17.1//NONSGML v1.0//EN
CALSCALE:GREGORIAN
METHOD:PUBLISH
X-WR-CALNAME:Wien für Senior:innen
X-ORIGINAL-URL:https://kalender.seniorinnen.wien
X-WR-CALDESC:Veranstaltungen für Wien für Senior:innen
REFRESH-INTERVAL;VALUE=DURATION:PT1H
X-Robots-Tag:noindex
X-PUBLISHED-TTL:PT1H
BEGIN:VTIMEZONE
TZID:Europe/Berlin
BEGIN:DAYLIGHT
TZOFFSETFROM:+0100
TZOFFSETTO:+0200
TZNAME:CEST
DTSTART:20250330T010000
END:DAYLIGHT
BEGIN:STANDARD
TZOFFSETFROM:+0200
TZOFFSETTO:+0100
TZNAME:CET
DTSTART:20251026T010000
END:STANDARD
BEGIN:DAYLIGHT
TZOFFSETFROM:+0100
TZOFFSETTO:+0200
TZNAME:CEST
DTSTART:20260329T010000
END:DAYLIGHT
BEGIN:STANDARD
TZOFFSETFROM:+0200
TZOFFSETTO:+0100
TZNAME:CET
DTSTART:20261025T010000
END:STANDARD
BEGIN:DAYLIGHT
TZOFFSETFROM:+0100
TZOFFSETTO:+0200
TZNAME:CEST
DTSTART:20270328T010000
END:DAYLIGHT
BEGIN:STANDARD
TZOFFSETFROM:+0200
TZOFFSETTO:+0100
TZNAME:CET
DTSTART:20271031T010000
END:STANDARD
END:VTIMEZONE
BEGIN:VEVENT
DTSTART;TZID=Europe/Berlin:20260430T093000
DTEND;TZID=Europe/Berlin:20260430T103000
DTSTAMP:20260421T113257
CREATED:20260417T110254Z
LAST-MODIFIED:20260417T111554Z
UID:12670-1777541400-1777545000@kalender.seniorinnen.wien
SUMMARY:Fit in den Tag
DESCRIPTION:Donnerstags 7 x\, 9.04. bis 28.05.2026\, 9:30 bis 10:30 Uhr \nKursleitung: Henriette Wachtberger \nVHS Leberberg\nRosa Jochmann-Ring 5/2\n1110 Wien \nIn diesem sanften\, schonenden und vitalisierenden Bewegungskurs werden von der Kursleiterin Elemente aus Yoga\, Tanz\,\nStretching\, Gymnastik gezielt eingesetzt und kombiniert.\nDas Angebot richtet sich an alle\, die sich mit EINFACHEN Übungen fit und lebendig für den Tag machen wollen.\nZiel: Mehr Wohlbefinden durch eine verbesserte Beweglichkeit und Körperhaltung.\nBitte bequeme Kleidung und Trinkflasche mitbringen. \nGebühr: 58 € \nFoto/Illustration: Pixabay
URL:https://kalender.seniorinnen.wien/event/fit-in-den-tag-2/2026-04-30/
LOCATION:VHS Leberberg\, Rosa-Jochmann-Ring 5/2\, Wien\, Wien\, 1110\, Austria
CATEGORIES:Fit und Gesund
ATTACH;FMTTYPE=image/jpeg:https://kalender.seniorinnen.wien/wp-content/uploads/2026/04/tungart7-woman-8415734-scaled.jpg
ORGANIZER;CN="VHS Simmering":MAILTO:simmering@vhs.at
END:VEVENT
BEGIN:VEVENT
DTSTART;TZID=Europe/Berlin:20260430T100000
DTEND;TZID=Europe/Berlin:20260430T113000
DTSTAMP:20260421T113257
CREATED:20260417T121236Z
LAST-MODIFIED:20260417T121236Z
UID:12757-1777543200-1777548600@kalender.seniorinnen.wien
SUMMARY:Italienisch A2+ Teil 2
DESCRIPTION:Donnerstags 7 x\, 9.04. bis 28.05.2026\, 10 bis 11:30 Uhr \nKursleitung: Erika Hummer \nVHS Landstraße\nHainburger Straße 29\n1030 Wien \nIn A2-Kursen üben Sie\, sich in Alltagssituationen über persönliche und berufliche Themen zu unterhalten. Die Kursinhalte\nrichten sich auch nach den Bedürfnissen der Teilnehmer*innen.\nTeilnahmevoraussetzung: Sie haben die Lernziele von A1 erreicht und möchten sich nun Sprachkenntnisse auf Niveau A2\naneignen\, wobei Sie schon Teilziele von A2 erreicht haben. Eine Beschreibung aller Lernniveaus finden Sie unter www.vhs.\nat/referenzrahmen. \nGebühr: 99 € \nFoto: Pixabay
URL:https://kalender.seniorinnen.wien/event/italienisch-a2-teil-2/2026-04-30/
LOCATION:VHS Landstraße\, Hainburger Straße 29\, Wien\, 1030
CATEGORIES:Begegnung,Bildung
ATTACH;FMTTYPE=image/jpeg:https://kalender.seniorinnen.wien/wp-content/uploads/2026/04/kriemer-flag-1343566.jpg
ORGANIZER;CN="VHS Landstra%C3%9Fe":MAILTO:landstrasse@vhs.at
END:VEVENT
BEGIN:VEVENT
DTSTART;TZID=Europe/Berlin:20260430T113000
DTEND;TZID=Europe/Berlin:20260430T123000
DTSTAMP:20260421T113257
CREATED:20260417T114450Z
LAST-MODIFIED:20260417T114726Z
UID:12726-1777548600-1777552200@kalender.seniorinnen.wien
SUMMARY:Muskelaufbau für Senior:innen
DESCRIPTION:Donnerstags 7 x\, 16.04. bis 11.06.2026\, 11:30 bis 12:30 Uhr \nKursleitung: Ute Trunk \nVHS Leberberg\,\nRosa Jochmann-Ring 5/2\n1110 Wien \nDamit alltägliche Tätigkeiten weiterhin problemlos ausgeführt werden können\, wird mit zunehmendem Alter die Erhaltung von\nKraft und Ausdauer immer wichtiger. In diesem Kurs stärken wir jene Muskelpartien\, die Sie täglich brauchen. Spezielle\nÜbungen fördern Gleichgewicht\, Reaktion und Koordination und erhalten bzw. verbessern so Ihre Bewegungssicherheit im\nAlltag.\nBitte bequeme Kleidung\, Hallenturnschuhe/Socken (keine Straßenschuhe)\, Handtuch und Trinkflasche mitbringen. \nGebühr: 58 € \nFoto: Pixabay
URL:https://kalender.seniorinnen.wien/event/muskelaufbau-fuer-seniorinnen-7/2026-04-30/
LOCATION:VHS Leberberg\, Rosa-Jochmann-Ring 5/2\, Wien\, Wien\, 1110\, Austria
CATEGORIES:Fit und Gesund
ATTACH;FMTTYPE=image/jpeg:https://kalender.seniorinnen.wien/wp-content/uploads/2026/04/kitzd66-seniors-6986350-scaled.jpg
END:VEVENT
BEGIN:VEVENT
DTSTART;TZID=Europe/Berlin:20260430T120000
DTEND;TZID=Europe/Berlin:20260430T160000
DTSTAMP:20260421T113257
CREATED:20250930T100925Z
LAST-MODIFIED:20250930T100925Z
UID:10599-1777550400-1777564800@kalender.seniorinnen.wien
SUMMARY:Feelgood - Open House
DESCRIPTION:Feelgood ist ein  norwegisches Trainingskonzept für das niemand ist zu alt oder zu schwach ist. Zwölf automatisierte Geräte im Zirkel mobilisieren und kräftigen den gesamten Bewegungsapparat – sanft\, sicher und ohne Leistungsdruck. In nur 40 Minuten werden Muskeln gestärkt\, Gelenke bewegt und das Wohlbefinden gefördert. Jeder steuert individuell den eigenen Krafteinsatz. Ideal für alle\, die fit bleiben oder wieder einsteigen möchten – unabhängig von Alter oder Erfahrung. \nDas Konzept wirkt vorbeugend und therapeutisch\, denn Bewegung ist die beste aktive Medizin! \nÖffnungszeiten für Mitglieder von 8:00-20:00h\, jeden Tag – auch Sonn- und Feiertage.\nNach Abschluss einer Mitgliedschaft kann man das Trainingsangebot ohne Termin und sooft man möchte nutzen. \nJeden Donnerstag zwischen 12:00 und 16:00  Open House – so kann jeder ohne Termin einfach vorbei kommen und schnuppern und wenn es gefällt einen Termin für eine kostenloses Probetraining vereinbaren. \nWeitere Informationen: \nTel.: +43 664 212 6352\nEmail: info@feelgoodwien-waehring.at \n 
URL:https://kalender.seniorinnen.wien/event/feelgood-open-house/2026-04-30/
LOCATION:Feelgood Wien Währing\, Klostergasse 19\, Wien\, 1180
CATEGORIES:Fit und Gesund
ATTACH;FMTTYPE=image/jpeg:https://kalender.seniorinnen.wien/wp-content/uploads/2025/09/202503_feelgood_low_srgb_credit02-e1759226572583.jpg
END:VEVENT
BEGIN:VEVENT
DTSTART;TZID=Europe/Berlin:20260430T140000
DTEND;TZID=Europe/Berlin:20260430T183000
DTSTAMP:20260421T113257
CREATED:20250905T095542Z
LAST-MODIFIED:20250905T095542Z
UID:9917-1777557600-1777573800@kalender.seniorinnen.wien
SUMMARY:Klick & Kreation – deine digitale Medienwerkstatt
DESCRIPTION:Verwandle dein Smartphone in ein kreatives Werkzeug!\nLerne in diesem kostenlosen Workshop\, Smartphone-Fotos zu verbessern und diese am Computer oder am Smartphone zu bearbeiten. Von den Kamera-Funktionen bis zum fertigen Produkt! In nur 4 Wochen (4x ein halber Tag) arbeiten wir mit Präsenz- und Online-Einheiten an deinem individuellen Projekt! \n\n18 Unterrichtseinheiten à 50 Minuten geblockt auf 4 Termine\nBlended Learning: der dritte Termin findet Online statt!\nmaximal 12 Teilnehmer:innen\nIndividuell: Sie arbeiten an Ihrem eigenen Projekt\nBonus: Optional können Sie ein 30- minütiges 1:1 Online Coaching für Ihre individuellen Fragen in Anspruch nehmen!\n\nAnmeldung unter: https://makethedifference.at/digital-workshops/ \nFoto: Make the Difference
URL:https://kalender.seniorinnen.wien/event/klick-kreation-deine-digitale-medienwerkstatt-4/2026-04-30/
LOCATION:Bücherei Hietzing\, Preyergasse 1-7/EG/101\, Wien\, Wien\, 1130\, Austria
CATEGORIES:Digital und Online
ATTACH;FMTTYPE=image/png:https://kalender.seniorinnen.wien/wp-content/uploads/2025/09/Karte_Foto-e1757063689200.png
ORGANIZER;CN="Make the Difference":MAILTO:theres@makethedifference.at
END:VEVENT
BEGIN:VEVENT
DTSTART;TZID=Europe/Berlin:20260430T180000
DTEND;TZID=Europe/Berlin:20260430T180000
DTSTAMP:20260421T113257
CREATED:20251001T111609Z
LAST-MODIFIED:20251001T111609Z
UID:11031-1777572000-1777572000@kalender.seniorinnen.wien
SUMMARY:BLEIBE FIT FÜRS LEBEN
DESCRIPTION:BLEIBE FIT FÜRS LEBEN\nfitfellows: Les Mills THRIVE – Dein sanftes Krafttraining für Seniorinnen und Senioren \nDonnerstags\, 18:00 Uhr (weitere Termine in Planung!)\nPrinz-Eugen-Straße 34\, 1040 Wien (im New Wave Gym) \nFür wen ist dieser Kurs geeignet?\nDieser Kurs richtet sich an alle Senior:innen\, die ihre Mobilität\, Balance und Kraft im Alltag erhalten und verbessern möchten – ideal für Einsteiger:innen\, Wiedereinsteiger:innen und alle\, die ein gelenkschonendes Training mit Spaß und Gemeinschaft suchen. \nWas erwartet dich?\nIn 45 Minuten kombinieren wir gezielte Übungen aus dem Les Mills THRIVE-Programm\, das speziell für Menschen ab 55 Jahren entwickelt wurde. Das Training ist begleitet von motivierender Musik\, die jede Bewegung unterstützt und den Rhythmus vorgibt – so wird dein Krafttraining zu einem lebendigen Erlebnis. Du stärkst deine Bein- und Rumpfmuskulatur\, verbesserst deine Flexibilität und Balance – alles in deinem eigenen Tempo und mit individueller Unterstützung. \nWarum Les Mills THRIVE bei fitfellows?\n• gelenkschonend und sicher – ideal für alle Fitnesslevels\n• mit optionaler Unterstützung durch Sessel\, Matte\, Widerstandsbänder oder leichte Gewichte\n• wissenschaftlich fundiert und von Expert:innen entwickelt\n• mit motivierender Musik\, die jede Übung unterstützt\n• persönliche Betreuung in kleiner Gruppe \nWenn du persönliche Betreuung mit Herz suchst\, bist du bei fitfellows genau richtig! \nkostenloses Schnuppern für Senior:innen\nAnmeldung oder Fragen: michael@fitfellows.at \nWeitere Kurszeiten sind bei entsprechender Nachfrage möglich! \nFoto: Fitfellows
URL:https://kalender.seniorinnen.wien/event/bleibe-fit-fuers-leben/2026-04-30/
LOCATION:New Wave Gym\, Prinz-Eugen-Straße 34\, Wien\, Wien\, 1040
CATEGORIES:Fit und Gesund
ATTACH;FMTTYPE=image/jpeg:https://kalender.seniorinnen.wien/wp-content/uploads/2025/10/fitfellows-e1759316912688.jpg
END:VEVENT
END:VCALENDAR